BEGIN:VCALENDAR
VERSION:2.0
PRODID:-//Saint Francis de Sales Parish - ECPv6.15.20//NONSGML v1.0//EN
CALSCALE:GREGORIAN
METHOD:PUBLISH
X-WR-CALNAME:Saint Francis de Sales Parish
X-ORIGINAL-URL:https://www.sfdsparish.com
X-WR-CALDESC:Events for Saint Francis de Sales Parish
REFRESH-INTERVAL;VALUE=DURATION:PT1H
X-Robots-Tag:noindex
X-PUBLISHED-TTL:PT1H
BEGIN:VTIMEZONE
TZID:America/Los_Angeles
BEGIN:DAYLIGHT
TZOFFSETFROM:-0800
TZOFFSETTO:-0700
TZNAME:PDT
DTSTART:20150308T100000
END:DAYLIGHT
BEGIN:STANDARD
TZOFFSETFROM:-0700
TZOFFSETTO:-0800
TZNAME:PST
DTSTART:20151101T090000
END:STANDARD
BEGIN:DAYLIGHT
TZOFFSETFROM:-0800
TZOFFSETTO:-0700
TZNAME:PDT
DTSTART:20160313T100000
END:DAYLIGHT
BEGIN:STANDARD
TZOFFSETFROM:-0700
TZOFFSETTO:-0800
TZNAME:PST
DTSTART:20161106T090000
END:STANDARD
BEGIN:DAYLIGHT
TZOFFSETFROM:-0800
TZOFFSETTO:-0700
TZNAME:PDT
DTSTART:20170312T100000
END:DAYLIGHT
BEGIN:STANDARD
TZOFFSETFROM:-0700
TZOFFSETTO:-0800
TZNAME:PST
DTSTART:20171105T090000
END:STANDARD
BEGIN:DAYLIGHT
TZOFFSETFROM:-0800
TZOFFSETTO:-0700
TZNAME:PDT
DTSTART:20180311T100000
END:DAYLIGHT
BEGIN:STANDARD
TZOFFSETFROM:-0700
TZOFFSETTO:-0800
TZNAME:PST
DTSTART:20181104T090000
END:STANDARD
END:VTIMEZONE
BEGIN:VEVENT
DTSTART;TZID=America/Los_Angeles:20170423T090000
DTEND;TZID=America/Los_Angeles:20170423T095000
DTSTAMP:20260423T234129
CREATED:20160928T190838Z
LAST-MODIFIED:20160928T190838Z
UID:10001031-1492938000-1492941000@www.sfdsparish.com
SUMMARY:CRE Class
DESCRIPTION:Religious Education Class from 9:00 – 9:50 am
URL:https://www.sfdsparish.com/event/cre-class-4/2017-04-23/
LOCATION:SFDS School\, 13368 Valleyheart Drive\, Sherman Oaks\, CA\, 91423\, United States
CATEGORIES:Ministries
END:VEVENT
BEGIN:VEVENT
DTSTART;TZID=America/Los_Angeles:20170416T090000
DTEND;TZID=America/Los_Angeles:20170416T095000
DTSTAMP:20260423T234129
CREATED:20160928T190838Z
LAST-MODIFIED:20160928T191626Z
UID:10001037-1492333200-1492336200@www.sfdsparish.com
SUMMARY:No CRE Class
DESCRIPTION:No Religious Education Class Happy Easter.
URL:https://www.sfdsparish.com/event/cre-class-4-2017-04-16/
LOCATION:SFDS School\, 13368 Valleyheart Drive\, Sherman Oaks\, CA\, 91423\, United States
CATEGORIES:Ministries
END:VEVENT
BEGIN:VEVENT
DTSTART;TZID=America/Los_Angeles:20170409T090000
DTEND;TZID=America/Los_Angeles:20170409T095000
DTSTAMP:20260423T234129
CREATED:20160928T190838Z
LAST-MODIFIED:20160928T190838Z
UID:10001030-1491728400-1491731400@www.sfdsparish.com
SUMMARY:CRE Class
DESCRIPTION:Religious Education Class from 9:00 – 9:50 am
URL:https://www.sfdsparish.com/event/cre-class-4/2017-04-09/
LOCATION:SFDS School\, 13368 Valleyheart Drive\, Sherman Oaks\, CA\, 91423\, United States
CATEGORIES:Ministries
END:VEVENT
BEGIN:VEVENT
DTSTART;TZID=America/Los_Angeles:20170402T090000
DTEND;TZID=America/Los_Angeles:20170402T095000
DTSTAMP:20260423T234129
CREATED:20160928T190838Z
LAST-MODIFIED:20160928T190838Z
UID:10001029-1491123600-1491126600@www.sfdsparish.com
SUMMARY:CRE Class
DESCRIPTION:Religious Education Class from 9:00 – 9:50 am
URL:https://www.sfdsparish.com/event/cre-class-4/2017-04-02/
LOCATION:SFDS School\, 13368 Valleyheart Drive\, Sherman Oaks\, CA\, 91423\, United States
CATEGORIES:Ministries
END:VEVENT
BEGIN:VEVENT
DTSTART;TZID=America/Los_Angeles:20170326T090000
DTEND;TZID=America/Los_Angeles:20170326T095000
DTSTAMP:20260423T234129
CREATED:20160928T190838Z
LAST-MODIFIED:20160928T190838Z
UID:10001028-1490518800-1490521800@www.sfdsparish.com
SUMMARY:CRE Class
DESCRIPTION:Religious Education Class from 9:00 – 9:50 am
URL:https://www.sfdsparish.com/event/cre-class-4/2017-03-26/
LOCATION:SFDS School\, 13368 Valleyheart Drive\, Sherman Oaks\, CA\, 91423\, United States
CATEGORIES:Ministries
END:VEVENT
BEGIN:VEVENT
DTSTART;TZID=America/Los_Angeles:20170326T084500
DTEND;TZID=America/Los_Angeles:20170326T095000
DTSTAMP:20260423T234129
CREATED:20161005T192023Z
LAST-MODIFIED:20161005T192023Z
UID:10000502-1490517900-1490521800@www.sfdsparish.com
SUMMARY:Teen Confirmation
DESCRIPTION:Teen Confirmation meets in the junior high building from 8:45 – 9:50 am
URL:https://www.sfdsparish.com/event/teen-confirmation/2017-03-26/
LOCATION:SFDS School\, 13368 Valleyheart Drive\, Sherman Oaks\, CA\, 91423\, United States
CATEGORIES:Ministries
END:VEVENT
BEGIN:VEVENT
DTSTART;TZID=America/Los_Angeles:20170319T090000
DTEND;TZID=America/Los_Angeles:20170319T095000
DTSTAMP:20260423T234129
CREATED:20160928T190838Z
LAST-MODIFIED:20160928T190838Z
UID:10001027-1489914000-1489917000@www.sfdsparish.com
SUMMARY:CRE Class
DESCRIPTION:Religious Education Class from 9:00 – 9:50 am
URL:https://www.sfdsparish.com/event/cre-class-4/2017-03-19/
LOCATION:SFDS School\, 13368 Valleyheart Drive\, Sherman Oaks\, CA\, 91423\, United States
CATEGORIES:Ministries
END:VEVENT
BEGIN:VEVENT
DTSTART;TZID=America/Los_Angeles:20170319T084500
DTEND;TZID=America/Los_Angeles:20170319T095000
DTSTAMP:20260423T234129
CREATED:20161005T192023Z
LAST-MODIFIED:20161005T192023Z
UID:10000501-1489913100-1489917000@www.sfdsparish.com
SUMMARY:Teen Confirmation
DESCRIPTION:Teen Confirmation meets in the junior high building from 8:45 – 9:50 am
URL:https://www.sfdsparish.com/event/teen-confirmation/2017-03-19/
LOCATION:SFDS School\, 13368 Valleyheart Drive\, Sherman Oaks\, CA\, 91423\, United States
CATEGORIES:Ministries
END:VEVENT
BEGIN:VEVENT
DTSTART;TZID=America/Los_Angeles:20170312T090000
DTEND;TZID=America/Los_Angeles:20170312T095000
DTSTAMP:20260423T234129
CREATED:20160928T190838Z
LAST-MODIFIED:20160928T190838Z
UID:10001026-1489309200-1489312200@www.sfdsparish.com
SUMMARY:CRE Class
DESCRIPTION:Religious Education Class from 9:00 – 9:50 am
URL:https://www.sfdsparish.com/event/cre-class-4/2017-03-12/
LOCATION:SFDS School\, 13368 Valleyheart Drive\, Sherman Oaks\, CA\, 91423\, United States
CATEGORIES:Ministries
END:VEVENT
BEGIN:VEVENT
DTSTART;TZID=America/Los_Angeles:20170312T084500
DTEND;TZID=America/Los_Angeles:20170312T095000
DTSTAMP:20260423T234129
CREATED:20161005T192023Z
LAST-MODIFIED:20161005T193032Z
UID:10001046-1489308300-1489312200@www.sfdsparish.com
SUMMARY:No Teen Confirmation Class
DESCRIPTION:No Teen Confirmation
URL:https://www.sfdsparish.com/event/teen-confirmation-2017-03-12/
LOCATION:SFDS School\, 13368 Valleyheart Drive\, Sherman Oaks\, CA\, 91423\, United States
CATEGORIES:Ministries
END:VEVENT
BEGIN:VEVENT
DTSTART;TZID=America/Los_Angeles:20170305T090000
DTEND;TZID=America/Los_Angeles:20170305T095000
DTSTAMP:20260423T234129
CREATED:20160928T190838Z
LAST-MODIFIED:20160928T191542Z
UID:10001035-1488704400-1488707400@www.sfdsparish.com
SUMMARY:CRE Class and Mass
DESCRIPTION:Religious Education Class from 9:00 – 9:50 am and then they attend 10 am Mass together.
URL:https://www.sfdsparish.com/event/cre-class-4-2017-03-05/
LOCATION:SFDS School\, 13368 Valleyheart Drive\, Sherman Oaks\, CA\, 91423\, United States
CATEGORIES:Ministries
END:VEVENT
BEGIN:VEVENT
DTSTART;TZID=America/Los_Angeles:20170305T084500
DTEND;TZID=America/Los_Angeles:20170305T095000
DTSTAMP:20260423T234129
CREATED:20161005T192023Z
LAST-MODIFIED:20161005T192925Z
UID:10001045-1488703500-1488707400@www.sfdsparish.com
SUMMARY:Teen Confirmation Class and Mass
DESCRIPTION:Teen Confirmation meets in the junior high building from 8:45 – 9:50 am and after they will attend 10 am Mass all together. Rite of Affirmation for 2nd year students.
URL:https://www.sfdsparish.com/event/teen-confirmation-2017-03-05/
LOCATION:SFDS School\, 13368 Valleyheart Drive\, Sherman Oaks\, CA\, 91423\, United States
CATEGORIES:Ministries
END:VEVENT
BEGIN:VEVENT
DTSTART;TZID=America/Los_Angeles:20170226T090000
DTEND;TZID=America/Los_Angeles:20170226T095000
DTSTAMP:20260423T234129
CREATED:20160928T190838Z
LAST-MODIFIED:20160928T190838Z
UID:10001025-1488099600-1488102600@www.sfdsparish.com
SUMMARY:CRE Class
DESCRIPTION:Religious Education Class from 9:00 – 9:50 am
URL:https://www.sfdsparish.com/event/cre-class-4/2017-02-26/
LOCATION:SFDS School\, 13368 Valleyheart Drive\, Sherman Oaks\, CA\, 91423\, United States
CATEGORIES:Ministries
END:VEVENT
BEGIN:VEVENT
DTSTART;TZID=America/Los_Angeles:20170226T084500
DTEND;TZID=America/Los_Angeles:20170226T095000
DTSTAMP:20260423T234129
CREATED:20161005T192023Z
LAST-MODIFIED:20161005T192023Z
UID:10000500-1488098700-1488102600@www.sfdsparish.com
SUMMARY:Teen Confirmation
DESCRIPTION:Teen Confirmation meets in the junior high building from 8:45 – 9:50 am
URL:https://www.sfdsparish.com/event/teen-confirmation/2017-02-26/
LOCATION:SFDS School\, 13368 Valleyheart Drive\, Sherman Oaks\, CA\, 91423\, United States
CATEGORIES:Ministries
END:VEVENT
BEGIN:VEVENT
DTSTART;TZID=America/Los_Angeles:20170219T090000
DTEND;TZID=America/Los_Angeles:20170219T095000
DTSTAMP:20260423T234129
CREATED:20160928T190838Z
LAST-MODIFIED:20160928T191423Z
UID:10001036-1487494800-1487497800@www.sfdsparish.com
SUMMARY:No CRE Class
DESCRIPTION:No Religious Education Class due to President’s Holiday Weekend.
URL:https://www.sfdsparish.com/event/cre-class-4-2017-02-19/
LOCATION:SFDS School\, 13368 Valleyheart Drive\, Sherman Oaks\, CA\, 91423\, United States
CATEGORIES:Ministries
END:VEVENT
BEGIN:VEVENT
DTSTART;TZID=America/Los_Angeles:20170219T084500
DTEND;TZID=America/Los_Angeles:20170219T095000
DTSTAMP:20260423T234129
CREATED:20161005T192023Z
LAST-MODIFIED:20161005T192540Z
UID:10001044-1487493900-1487497800@www.sfdsparish.com
SUMMARY:No Teen Confirmation Class
DESCRIPTION:No Teen Confirmation due to the Presidents Day Holiday.
URL:https://www.sfdsparish.com/event/teen-confirmation-2017-02-19/
LOCATION:SFDS School\, 13368 Valleyheart Drive\, Sherman Oaks\, CA\, 91423\, United States
CATEGORIES:Ministries
END:VEVENT
BEGIN:VEVENT
DTSTART;TZID=America/Los_Angeles:20170212T090000
DTEND;TZID=America/Los_Angeles:20170212T095000
DTSTAMP:20260423T234129
CREATED:20160928T190838Z
LAST-MODIFIED:20160928T190838Z
UID:10001024-1486890000-1486893000@www.sfdsparish.com
SUMMARY:CRE Class
DESCRIPTION:Religious Education Class from 9:00 – 9:50 am
URL:https://www.sfdsparish.com/event/cre-class-4/2017-02-12/
LOCATION:SFDS School\, 13368 Valleyheart Drive\, Sherman Oaks\, CA\, 91423\, United States
CATEGORIES:Ministries
END:VEVENT
BEGIN:VEVENT
DTSTART;TZID=America/Los_Angeles:20170212T084500
DTEND;TZID=America/Los_Angeles:20170212T095000
DTSTAMP:20260423T234129
CREATED:20161005T192023Z
LAST-MODIFIED:20161005T192023Z
UID:10000499-1486889100-1486893000@www.sfdsparish.com
SUMMARY:Teen Confirmation
DESCRIPTION:Teen Confirmation meets in the junior high building from 8:45 – 9:50 am
URL:https://www.sfdsparish.com/event/teen-confirmation/2017-02-12/
LOCATION:SFDS School\, 13368 Valleyheart Drive\, Sherman Oaks\, CA\, 91423\, United States
CATEGORIES:Ministries
END:VEVENT
BEGIN:VEVENT
DTSTART;TZID=America/Los_Angeles:20170205T090000
DTEND;TZID=America/Los_Angeles:20170205T095000
DTSTAMP:20260423T234129
CREATED:20160928T190838Z
LAST-MODIFIED:20160928T191316Z
UID:10001034-1486285200-1486288200@www.sfdsparish.com
SUMMARY:CRE Class and Mass
DESCRIPTION:Religious Education Class from 9:00 – 9:50 am and then they attend 10 am Mass together.
URL:https://www.sfdsparish.com/event/cre-class-4-2017-02-05/
LOCATION:SFDS School\, 13368 Valleyheart Drive\, Sherman Oaks\, CA\, 91423\, United States
CATEGORIES:Ministries
END:VEVENT
BEGIN:VEVENT
DTSTART;TZID=America/Los_Angeles:20170205T084500
DTEND;TZID=America/Los_Angeles:20170205T095000
DTSTAMP:20260423T234129
CREATED:20161005T192023Z
LAST-MODIFIED:20161005T192432Z
UID:10000509-1486284300-1486288200@www.sfdsparish.com
SUMMARY:Teen Confirmation Class and Mass
DESCRIPTION:Teen Confirmation meets in the junior high building from 8:45 – 9:50 am. the class will attend 10 am Mass all together.
URL:https://www.sfdsparish.com/event/teen-confirmation-2017-02-05/
LOCATION:SFDS School\, 13368 Valleyheart Drive\, Sherman Oaks\, CA\, 91423\, United States
CATEGORIES:Ministries
END:VEVENT
BEGIN:VEVENT
DTSTART;TZID=America/Los_Angeles:20170129T090000
DTEND;TZID=America/Los_Angeles:20170129T095000
DTSTAMP:20260423T234129
CREATED:20160928T190838Z
LAST-MODIFIED:20160928T190838Z
UID:10001023-1485680400-1485683400@www.sfdsparish.com
SUMMARY:CRE Class
DESCRIPTION:Religious Education Class from 9:00 – 9:50 am
URL:https://www.sfdsparish.com/event/cre-class-4/2017-01-29/
LOCATION:SFDS School\, 13368 Valleyheart Drive\, Sherman Oaks\, CA\, 91423\, United States
CATEGORIES:Ministries
END:VEVENT
BEGIN:VEVENT
DTSTART;TZID=America/Los_Angeles:20170129T084500
DTEND;TZID=America/Los_Angeles:20170129T095000
DTSTAMP:20260423T234129
CREATED:20161005T192023Z
LAST-MODIFIED:20161005T192023Z
UID:10000498-1485679500-1485683400@www.sfdsparish.com
SUMMARY:Teen Confirmation
DESCRIPTION:Teen Confirmation meets in the junior high building from 8:45 – 9:50 am
URL:https://www.sfdsparish.com/event/teen-confirmation/2017-01-29/
LOCATION:SFDS School\, 13368 Valleyheart Drive\, Sherman Oaks\, CA\, 91423\, United States
CATEGORIES:Ministries
END:VEVENT
BEGIN:VEVENT
DTSTART;TZID=America/Los_Angeles:20170122T090000
DTEND;TZID=America/Los_Angeles:20170122T095000
DTSTAMP:20260423T234129
CREATED:20160928T190838Z
LAST-MODIFIED:20160928T191200Z
UID:10001033-1485075600-1485078600@www.sfdsparish.com
SUMMARY:CRE Class and Mass
DESCRIPTION:Religious Education Class from 9:00 – 9:50 am and then they attend 10 am Mass all together.
URL:https://www.sfdsparish.com/event/cre-class-4-2017-01-22/
LOCATION:SFDS School\, 13368 Valleyheart Drive\, Sherman Oaks\, CA\, 91423\, United States
CATEGORIES:Ministries
END:VEVENT
BEGIN:VEVENT
DTSTART;TZID=America/Los_Angeles:20170122T084500
DTEND;TZID=America/Los_Angeles:20170122T095000
DTSTAMP:20260423T234129
CREATED:20161005T192023Z
LAST-MODIFIED:20161005T195111Z
UID:10000507-1485074700-1485078600@www.sfdsparish.com
SUMMARY:Teen Confirmation Class and Mass
DESCRIPTION:Teen Confirmation meets in the junior high building from 8:45 – 9:50 am and then 10 am Mass all together.
URL:https://www.sfdsparish.com/event/teen-confirmation-2017-01-22/
LOCATION:SFDS School\, 13368 Valleyheart Drive\, Sherman Oaks\, CA\, 91423\, United States
CATEGORIES:Ministries
END:VEVENT
BEGIN:VEVENT
DTSTART;TZID=America/Los_Angeles:20170115T090000
DTEND;TZID=America/Los_Angeles:20170115T095000
DTSTAMP:20260423T234129
CREATED:20160928T190838Z
LAST-MODIFIED:20160928T191036Z
UID:10001032-1484470800-1484473800@www.sfdsparish.com
SUMMARY:No CRE Class
DESCRIPTION:No Religious Education Class due to Martin Luther King Holiday
URL:https://www.sfdsparish.com/event/cre-class-4-2017-01-15/
LOCATION:SFDS School\, 13368 Valleyheart Drive\, Sherman Oaks\, CA\, 91423\, United States
CATEGORIES:Ministries
END:VEVENT
BEGIN:VEVENT
DTSTART;TZID=America/Los_Angeles:20170115T084500
DTEND;TZID=America/Los_Angeles:20170115T095000
DTSTAMP:20260423T234129
CREATED:20161005T192023Z
LAST-MODIFIED:20161005T192155Z
UID:10000505-1484469900-1484473800@www.sfdsparish.com
SUMMARY:No Teen Confirmation
DESCRIPTION:No Teen Confirmation due to the Martin Luther King Holiday
URL:https://www.sfdsparish.com/event/teen-confirmation-2017-01-15/
LOCATION:SFDS School\, 13368 Valleyheart Drive\, Sherman Oaks\, CA\, 91423\, United States
CATEGORIES:Ministries
END:VEVENT
BEGIN:VEVENT
DTSTART;TZID=America/Los_Angeles:20170108T090000
DTEND;TZID=America/Los_Angeles:20170108T095000
DTSTAMP:20260423T234129
CREATED:20160928T190838Z
LAST-MODIFIED:20160928T190838Z
UID:10001022-1483866000-1483869000@www.sfdsparish.com
SUMMARY:CRE Class
DESCRIPTION:Religious Education Class from 9:00 – 9:50 am
URL:https://www.sfdsparish.com/event/cre-class-4/2017-01-08/
LOCATION:SFDS School\, 13368 Valleyheart Drive\, Sherman Oaks\, CA\, 91423\, United States
CATEGORIES:Ministries
END:VEVENT
BEGIN:VEVENT
DTSTART;TZID=America/Los_Angeles:20170108T084500
DTEND;TZID=America/Los_Angeles:20170108T095000
DTSTAMP:20260423T234129
CREATED:20161005T192023Z
LAST-MODIFIED:20161005T192023Z
UID:10000497-1483865100-1483869000@www.sfdsparish.com
SUMMARY:Teen Confirmation
DESCRIPTION:Teen Confirmation meets in the junior high building from 8:45 – 9:50 am
URL:https://www.sfdsparish.com/event/teen-confirmation/2017-01-08/
LOCATION:SFDS School\, 13368 Valleyheart Drive\, Sherman Oaks\, CA\, 91423\, United States
CATEGORIES:Ministries
END:VEVENT
BEGIN:VEVENT
DTSTART;TZID=America/Los_Angeles:20161211T110000
DTEND;TZID=America/Los_Angeles:20161211T130000
DTSTAMP:20260423T234129
CREATED:20161128T195532Z
LAST-MODIFIED:20161128T195532Z
UID:10001113-1481454000-1481461200@www.sfdsparish.com
SUMMARY:Pancakes with Santa
DESCRIPTION:Sponsored by the SFDS Knights of Columbus immediately following the 10 am Mass in the Parish Auditorium $5 per person or $20 per family.
URL:https://www.sfdsparish.com/event/pancakes-with-santa/
LOCATION:SFDS School\, 13368 Valleyheart Drive\, Sherman Oaks\, CA\, 91423\, United States
CATEGORIES:Organizations
END:VEVENT
BEGIN:VEVENT
DTSTART;TZID=America/Los_Angeles:20161211T090000
DTEND;TZID=America/Los_Angeles:20161211T095000
DTSTAMP:20260423T234129
CREATED:20160928T190108Z
LAST-MODIFIED:20160928T190635Z
UID:10001021-1481446800-1481449800@www.sfdsparish.com
SUMMARY:CRE Class and Mass
DESCRIPTION:Religious Education class from 9:00 -9:50 am and then they will go to 10 am Mass all together.
URL:https://www.sfdsparish.com/event/cre-class-3-2016-12-11/
LOCATION:SFDS School\, 13368 Valleyheart Drive\, Sherman Oaks\, CA\, 91423\, United States
CATEGORIES:Ministries
END:VEVENT
END:VCALENDAR