BEGIN:VCALENDAR
VERSION:2.0
PRODID:-//Saint Francis de Sales Parish - ECPv6.15.20//NONSGML v1.0//EN
CALSCALE:GREGORIAN
METHOD:PUBLISH
X-ORIGINAL-URL:https://www.sfdsparish.com
X-WR-CALDESC:Events for Saint Francis de Sales Parish
REFRESH-INTERVAL;VALUE=DURATION:PT1H
X-Robots-Tag:noindex
X-PUBLISHED-TTL:PT1H
BEGIN:VTIMEZONE
TZID:America/Los_Angeles
BEGIN:DAYLIGHT
TZOFFSETFROM:-0800
TZOFFSETTO:-0700
TZNAME:PDT
DTSTART:20150308T100000
END:DAYLIGHT
BEGIN:STANDARD
TZOFFSETFROM:-0700
TZOFFSETTO:-0800
TZNAME:PST
DTSTART:20151101T090000
END:STANDARD
BEGIN:DAYLIGHT
TZOFFSETFROM:-0800
TZOFFSETTO:-0700
TZNAME:PDT
DTSTART:20160313T100000
END:DAYLIGHT
BEGIN:STANDARD
TZOFFSETFROM:-0700
TZOFFSETTO:-0800
TZNAME:PST
DTSTART:20161106T090000
END:STANDARD
BEGIN:DAYLIGHT
TZOFFSETFROM:-0800
TZOFFSETTO:-0700
TZNAME:PDT
DTSTART:20170312T100000
END:DAYLIGHT
BEGIN:STANDARD
TZOFFSETFROM:-0700
TZOFFSETTO:-0800
TZNAME:PST
DTSTART:20171105T090000
END:STANDARD
BEGIN:DAYLIGHT
TZOFFSETFROM:-0800
TZOFFSETTO:-0700
TZNAME:PDT
DTSTART:20180311T100000
END:DAYLIGHT
BEGIN:STANDARD
TZOFFSETFROM:-0700
TZOFFSETTO:-0800
TZNAME:PST
DTSTART:20181104T090000
END:STANDARD
END:VTIMEZONE
BEGIN:VEVENT
DTSTART;TZID=America/Los_Angeles:20170204T100000
DTEND;TZID=America/Los_Angeles:20170204T113000
DTSTAMP:20260424T025436
CREATED:20160928T192157Z
LAST-MODIFIED:20160928T192157Z
UID:10001040-1486202400-1486207800@www.sfdsparish.com
SUMMARY:First Penance 2nd Grade Only
DESCRIPTION:First Penance for 2nd grade.
URL:https://www.sfdsparish.com/event/first-penance-2nd-grade-only/
LOCATION:SFDS Church\, 13360 Valleyheart Drive\, Sherman Oaks\, CA\, 91423\, United States
CATEGORIES:Ministries
END:VEVENT
BEGIN:VEVENT
DTSTART;TZID=America/Los_Angeles:20170203T081500
DTEND;TZID=America/Los_Angeles:20170203T100000
DTSTAMP:20260424T025436
CREATED:20161114T215019Z
LAST-MODIFIED:20170314T202111Z
UID:10001057-1486109700-1486116000@www.sfdsparish.com
SUMMARY:First Friday Adoration
DESCRIPTION:FIRST FRIDAY ADORATION Exposition of the Most Blessed Sacrament will take place following the 8:15 a.m. Mass on the first Friday of each month\, in the Children’s Chapel. Benediction and reposition will take place right after mass
URL:https://www.sfdsparish.com/event/first-friday-adoration-2/2017-02-03/
LOCATION:SFDS Church\, 13360 Valleyheart Drive\, Sherman Oaks\, CA\, 91423\, United States
CATEGORIES:Ministries
END:VEVENT
BEGIN:VEVENT
DTSTART;TZID=America/Los_Angeles:20170129T093000
DTEND;TZID=America/Los_Angeles:20170129T100000
DTSTAMP:20260424T025436
CREATED:20160527T185034Z
LAST-MODIFIED:20160817T195728Z
UID:10000459-1485682200-1485684000@www.sfdsparish.com
SUMMARY:Knights of Columbus Rosary
DESCRIPTION:  \nThe Knights of Columbus will recite the rosary in the main church at 9:30 am every 5th Sunday.
URL:https://www.sfdsparish.com/event/knights-of-columbus-rosary-3/
LOCATION:SFDS Church\, 13360 Valleyheart Drive\, Sherman Oaks\, CA\, 91423\, United States
CATEGORIES:Ministries
END:VEVENT
BEGIN:VEVENT
DTSTART;TZID=America/Los_Angeles:20170122T090000
DTEND;TZID=America/Los_Angeles:20170122T095000
DTSTAMP:20260424T025436
CREATED:20160928T191914Z
LAST-MODIFIED:20160928T191914Z
UID:10001039-1485075600-1485078600@www.sfdsparish.com
SUMMARY:2nd Grade Parent Penance Meeting
DESCRIPTION:2nd grade parents only Penance meeting at 9 am in the cry chapel.
URL:https://www.sfdsparish.com/event/2nd-grade-parent-penance-meeting/
LOCATION:SFDS Church\, 13360 Valleyheart Drive\, Sherman Oaks\, CA\, 91423\, United States
CATEGORIES:Ministries
END:VEVENT
BEGIN:VEVENT
DTSTART;TZID=America/Los_Angeles:20170106T081500
DTEND;TZID=America/Los_Angeles:20170106T100000
DTSTAMP:20260424T025436
CREATED:20161114T215019Z
LAST-MODIFIED:20170314T202111Z
UID:10001056-1483690500-1483696800@www.sfdsparish.com
SUMMARY:First Friday Adoration
DESCRIPTION:FIRST FRIDAY ADORATION Exposition of the Most Blessed Sacrament will take place following the 8:15 a.m. Mass on the first Friday of each month\, in the Children’s Chapel. Benediction and reposition will take place right after mass
URL:https://www.sfdsparish.com/event/first-friday-adoration-2/2017-01-06/
LOCATION:SFDS Church\, 13360 Valleyheart Drive\, Sherman Oaks\, CA\, 91423\, United States
CATEGORIES:Ministries
END:VEVENT
BEGIN:VEVENT
DTSTART;TZID=America/Los_Angeles:20161225T080000
DTEND;TZID=America/Los_Angeles:20161225T170000
DTSTAMP:20260424T025436
CREATED:20161213T210553Z
LAST-MODIFIED:20161213T210553Z
UID:10001117-1482652800-1482685200@www.sfdsparish.com
SUMMARY:Christmas Day
DESCRIPTION:Christmas Day\, Sunday\, December 25th – Masses at 8:00 am\, 10:00 am\, 12 noon and 5:00 pm
URL:https://www.sfdsparish.com/event/christmas-day-3/
LOCATION:SFDS Church\, 13360 Valleyheart Drive\, Sherman Oaks\, CA\, 91423\, United States
END:VEVENT
BEGIN:VEVENT
DTSTART;TZID=America/Los_Angeles:20161224T040000
DTEND;TZID=America/Los_Angeles:20161224T040000
DTSTAMP:20260424T025436
CREATED:20161213T210415Z
LAST-MODIFIED:20161213T210415Z
UID:10001116-1482552000-1482552000@www.sfdsparish.com
SUMMARY:Christmas Eve
DESCRIPTION:Christmas Eve\, Saturday\, December 24th – Masses at 4:00 pm – 6:00 pm and Midnight
URL:https://www.sfdsparish.com/event/christmas-eve-4/
LOCATION:SFDS Church\, 13360 Valleyheart Drive\, Sherman Oaks\, CA\, 91423\, United States
END:VEVENT
BEGIN:VEVENT
DTSTART;TZID=America/Los_Angeles:20161220T070000
DTEND;TZID=America/Los_Angeles:20161220T200000
DTSTAMP:20260424T025436
CREATED:20161213T210234Z
LAST-MODIFIED:20161213T210234Z
UID:10001115-1482217200-1482264000@www.sfdsparish.com
SUMMARY:Simbang Gabi
DESCRIPTION:Filipino Tradition of Novena Masses. Mass at 7:00 pm in the main church followed by dinner in the parish auditorium.
URL:https://www.sfdsparish.com/event/simbang-gabi-4/
LOCATION:SFDS Church\, 13360 Valleyheart Drive\, Sherman Oaks\, CA\, 91423\, United States
END:VEVENT
BEGIN:VEVENT
DTSTART;TZID=America/Los_Angeles:20161208T081500
DTEND;TZID=America/Los_Angeles:20161208T190000
DTSTAMP:20260424T025436
CREATED:20161114T215326Z
LAST-MODIFIED:20161114T215326Z
UID:10001062-1481184900-1481223600@www.sfdsparish.com
SUMMARY:Immaculate Conception
DESCRIPTION:Holy Day of Obligation Masses at 8:15 am – 12:05 noon and 7:00 pm.
URL:https://www.sfdsparish.com/event/immaculate-conception-2/
LOCATION:SFDS Church\, 13360 Valleyheart Drive\, Sherman Oaks\, CA\, 91423\, United States
CATEGORIES:Ministries
END:VEVENT
BEGIN:VEVENT
DTSTART;TZID=America/Los_Angeles:20161202T081500
DTEND;TZID=America/Los_Angeles:20161202T100000
DTSTAMP:20260424T025436
CREATED:20161114T215019Z
LAST-MODIFIED:20170314T202111Z
UID:10001055-1480666500-1480672800@www.sfdsparish.com
SUMMARY:First Friday Adoration
DESCRIPTION:FIRST FRIDAY ADORATION Exposition of the Most Blessed Sacrament will take place following the 8:15 a.m. Mass on the first Friday of each month\, in the Children’s Chapel. Benediction and reposition will take place right after mass
URL:https://www.sfdsparish.com/event/first-friday-adoration-2/2016-12-02/
LOCATION:SFDS Church\, 13360 Valleyheart Drive\, Sherman Oaks\, CA\, 91423\, United States
CATEGORIES:Ministries
END:VEVENT
BEGIN:VEVENT
DTSTART;TZID=America/Los_Angeles:20161101T080000
DTEND;TZID=America/Los_Angeles:20161101T190000
DTSTAMP:20260424T025436
CREATED:20161031T210506Z
LAST-MODIFIED:20161031T210506Z
UID:10001054-1477987200-1478026800@www.sfdsparish.com
SUMMARY:All Saints' Day
DESCRIPTION:Holy Day of Obligation Masses at 8:15 am – 12:05 noon and 7:00 pm.
URL:https://www.sfdsparish.com/event/all-saints-day-2/
LOCATION:SFDS Church\, 13360 Valleyheart Drive\, Sherman Oaks\, CA\, 91423\, United States
CATEGORIES:Ministries
END:VEVENT
BEGIN:VEVENT
DTSTART;TZID=America/Los_Angeles:20161030T113000
DTEND;TZID=America/Los_Angeles:20161030T120000
DTSTAMP:20260424T025436
CREATED:20160527T184922Z
LAST-MODIFIED:20160527T184922Z
UID:10000360-1477827000-1477828800@www.sfdsparish.com
SUMMARY:Knights of Columbus Rosary
DESCRIPTION:The Knights of Columbus will recite the rosary in the main church at 11:30 am every 5th Sunday.
URL:https://www.sfdsparish.com/event/knights-of-columbus-rosary-2/
LOCATION:SFDS Church\, 13360 Valleyheart Drive\, Sherman Oaks\, CA\, 91423\, United States
CATEGORIES:Ministries
END:VEVENT
BEGIN:VEVENT
DTSTART;TZID=America/Los_Angeles:20160925T080000
DTEND;TZID=America/Los_Angeles:20160925T170000
DTSTAMP:20260424T025436
CREATED:20160829T183129Z
LAST-MODIFIED:20160829T183129Z
UID:10000959-1474790400-1474822800@www.sfdsparish.com
SUMMARY:Baby Bottle Collection
DESCRIPTION:Baby Bottles will be collected after all Masses to assist the Pregnancy Counseling Center in Mission Hills.
URL:https://www.sfdsparish.com/event/baby-bottle-collection-2/
LOCATION:SFDS Church\, 13360 Valleyheart Drive\, Sherman Oaks\, CA\, 91423\, United States
CATEGORIES:Ministries
END:VEVENT
BEGIN:VEVENT
DTSTART;TZID=America/Los_Angeles:20160924T170000
DTEND;TZID=America/Los_Angeles:20160924T170000
DTSTAMP:20260424T025436
CREATED:20160829T183015Z
LAST-MODIFIED:20160829T183015Z
UID:10000957-1474736400-1474736400@www.sfdsparish.com
SUMMARY:Baby Bottle Collection
DESCRIPTION:Baby Bottles will be collected after all Masses to assist the Pregnancy Counseling Center in Mission Hills.
URL:https://www.sfdsparish.com/event/baby-bottle-collection/
LOCATION:SFDS Church\, 13360 Valleyheart Drive\, Sherman Oaks\, CA\, 91423\, United States
CATEGORIES:Ministries
END:VEVENT
BEGIN:VEVENT
DTSTART;TZID=America/Los_Angeles:20160918T080000
DTEND;TZID=America/Los_Angeles:20160918T170000
DTSTAMP:20260424T025436
CREATED:20160829T182412Z
LAST-MODIFIED:20160829T182412Z
UID:10000956-1474185600-1474218000@www.sfdsparish.com
SUMMARY:Baby Bottle Distribution
DESCRIPTION:Bottles will be distributed after all Masses to assist the Pregnancy Counseling Center in Mission Hills.
URL:https://www.sfdsparish.com/event/baby-bottle-distribution-3/
LOCATION:SFDS Church\, 13360 Valleyheart Drive\, Sherman Oaks\, CA\, 91423\, United States
CATEGORIES:Ministries
END:VEVENT
BEGIN:VEVENT
DTSTART;TZID=America/Los_Angeles:20160917T170000
DTEND;TZID=America/Los_Angeles:20160917T170000
DTSTAMP:20260424T025436
CREATED:20160829T182252Z
LAST-MODIFIED:20160829T182252Z
UID:10000955-1474131600-1474131600@www.sfdsparish.com
SUMMARY:Baby Bottle Distribution
DESCRIPTION:Bottles will be distributed after all Masses to assist the Pregnancy Counseling Center in Mission Hills.
URL:https://www.sfdsparish.com/event/baby-bottle-distribution-2/
LOCATION:SFDS Church\, 13360 Valleyheart Drive\, Sherman Oaks\, CA\, 91423\, United States
CATEGORIES:Ministries
END:VEVENT
BEGIN:VEVENT
DTSTART;TZID=America/Los_Angeles:20160731T113000
DTEND;TZID=America/Los_Angeles:20160731T120000
DTSTAMP:20260424T025436
CREATED:20160527T184807Z
LAST-MODIFIED:20160527T184807Z
UID:10000951-1469964600-1469966400@www.sfdsparish.com
SUMMARY:Knights of Columbus Rosary
DESCRIPTION:The Knights of Columbus will recite the rosary in the main church at 11:30 am every 5th Sunday.
URL:https://www.sfdsparish.com/event/knights-of-columbus-rosary/
LOCATION:SFDS Church\, 13360 Valleyheart Drive\, Sherman Oaks\, CA\, 91423\, United States
CATEGORIES:Ministries
END:VEVENT
BEGIN:VEVENT
DTSTART;TZID=America/Los_Angeles:20160507T103000
DTEND;TZID=America/Los_Angeles:20160507T120000
DTSTAMP:20260424T025436
CREATED:20151001T203848Z
LAST-MODIFIED:20151001T203848Z
UID:10000292-1462617000-1462622400@www.sfdsparish.com
SUMMARY:First Communion
DESCRIPTION:First Communion Ceremony for children in 2nd year ceremony at 10:30 am
URL:https://www.sfdsparish.com/event/first-communion-2/
LOCATION:SFDS Church\, 13360 Valleyheart Drive\, Sherman Oaks\, CA\, 91423\, United States
CATEGORIES:Ministries
END:VEVENT
BEGIN:VEVENT
DTSTART;TZID=America/Los_Angeles:20160430T160000
DTEND;TZID=America/Los_Angeles:20160430T170000
DTSTAMP:20260424T025436
CREATED:20141203T174538Z
LAST-MODIFIED:20151221T204325Z
UID:10000651-1462032000-1462035600@www.sfdsparish.com
SUMMARY:Confessions
DESCRIPTION:Confessions in the main church every Saturday from 4:00 – 5:00 pm
URL:https://www.sfdsparish.com/event/confessions/2016-04-30/
LOCATION:SFDS Church\, 13360 Valleyheart Drive\, Sherman Oaks\, CA\, 91423\, United States
CATEGORIES:Ministries
END:VEVENT
BEGIN:VEVENT
DTSTART;TZID=America/Los_Angeles:20160423T160000
DTEND;TZID=America/Los_Angeles:20160423T170000
DTSTAMP:20260424T025436
CREATED:20141203T174538Z
LAST-MODIFIED:20151221T204325Z
UID:10000650-1461427200-1461430800@www.sfdsparish.com
SUMMARY:Confessions
DESCRIPTION:Confessions in the main church every Saturday from 4:00 – 5:00 pm
URL:https://www.sfdsparish.com/event/confessions/2016-04-23/
LOCATION:SFDS Church\, 13360 Valleyheart Drive\, Sherman Oaks\, CA\, 91423\, United States
CATEGORIES:Ministries
END:VEVENT
BEGIN:VEVENT
DTSTART;TZID=America/Los_Angeles:20160416T160000
DTEND;TZID=America/Los_Angeles:20160416T170000
DTSTAMP:20260424T025436
CREATED:20141203T174538Z
LAST-MODIFIED:20151221T204325Z
UID:10000649-1460822400-1460826000@www.sfdsparish.com
SUMMARY:Confessions
DESCRIPTION:Confessions in the main church every Saturday from 4:00 – 5:00 pm
URL:https://www.sfdsparish.com/event/confessions/2016-04-16/
LOCATION:SFDS Church\, 13360 Valleyheart Drive\, Sherman Oaks\, CA\, 91423\, United States
CATEGORIES:Ministries
END:VEVENT
BEGIN:VEVENT
DTSTART;TZID=America/Los_Angeles:20160410T120000
DTEND;TZID=America/Los_Angeles:20160410T133000
DTSTAMP:20260424T025436
CREATED:20151001T174847Z
LAST-MODIFIED:20151001T180058Z
UID:10000754-1460289600-1460295000@www.sfdsparish.com
SUMMARY:Teen Confirmation for 2nd Year Students
DESCRIPTION:Teen Confirmation Ceremony.
URL:https://www.sfdsparish.com/event/teen-confirmation-class-5-2016-04-10/
LOCATION:SFDS Church\, 13360 Valleyheart Drive\, Sherman Oaks\, CA\, 91423\, United States
CATEGORIES:Ministries
END:VEVENT
BEGIN:VEVENT
DTSTART;TZID=America/Los_Angeles:20160409T160000
DTEND;TZID=America/Los_Angeles:20160409T170000
DTSTAMP:20260424T025436
CREATED:20141203T174538Z
LAST-MODIFIED:20151221T204325Z
UID:10000648-1460217600-1460221200@www.sfdsparish.com
SUMMARY:Confessions
DESCRIPTION:Confessions in the main church every Saturday from 4:00 – 5:00 pm
URL:https://www.sfdsparish.com/event/confessions/2016-04-09/
LOCATION:SFDS Church\, 13360 Valleyheart Drive\, Sherman Oaks\, CA\, 91423\, United States
CATEGORIES:Ministries
END:VEVENT
BEGIN:VEVENT
DTSTART;TZID=America/Los_Angeles:20160403T142500
DTEND;TZID=America/Los_Angeles:20160403T153000
DTSTAMP:20260424T025436
CREATED:20160321T210337Z
LAST-MODIFIED:20160321T210337Z
UID:10000932-1459693500-1459697400@www.sfdsparish.com
SUMMARY:Divine Mercy Sunday
DESCRIPTION:Recitation of the Holy Rosary\, Divine Mercy Chaplet\, Prayer for Divine Mercy for the World and Thanksgiving Prayer\, Veneration of First Class Relic of St. Pope John Paul II
URL:https://www.sfdsparish.com/event/divine-mercy-sunday-2/
LOCATION:SFDS Church\, 13360 Valleyheart Drive\, Sherman Oaks\, CA\, 91423\, United States
CATEGORIES:Ministries
END:VEVENT
BEGIN:VEVENT
DTSTART;TZID=America/Los_Angeles:20160402T160000
DTEND;TZID=America/Los_Angeles:20160402T170000
DTSTAMP:20260424T025436
CREATED:20141203T174538Z
LAST-MODIFIED:20151221T204325Z
UID:10000647-1459612800-1459616400@www.sfdsparish.com
SUMMARY:Confessions
DESCRIPTION:Confessions in the main church every Saturday from 4:00 – 5:00 pm
URL:https://www.sfdsparish.com/event/confessions/2016-04-02/
LOCATION:SFDS Church\, 13360 Valleyheart Drive\, Sherman Oaks\, CA\, 91423\, United States
CATEGORIES:Ministries
END:VEVENT
BEGIN:VEVENT
DTSTART;TZID=America/Los_Angeles:20160402T100000
DTEND;TZID=America/Los_Angeles:20160402T103000
DTSTAMP:20260424T025436
CREATED:20151001T180517Z
LAST-MODIFIED:20151001T180517Z
UID:10000778-1459591200-1459593000@www.sfdsparish.com
SUMMARY:Confirmation Rehearsal 2nd Year
DESCRIPTION:Confirmation rehearsal for 2nd year students 10:00 am – 11:30 am.
URL:https://www.sfdsparish.com/event/confirmation-rehearsal-2nd-year/
LOCATION:SFDS Church\, 13360 Valleyheart Drive\, Sherman Oaks\, CA\, 91423\, United States
CATEGORIES:Ministries
END:VEVENT
BEGIN:VEVENT
DTSTART;TZID=America/Los_Angeles:20160326T200000
DTEND;TZID=America/Los_Angeles:20160326T213000
DTSTAMP:20260424T025436
CREATED:20160229T173910Z
LAST-MODIFIED:20160229T173910Z
UID:10000910-1459022400-1459027800@www.sfdsparish.com
SUMMARY:Easter Vigil
DESCRIPTION:One Mass at 8:00 PM
URL:https://www.sfdsparish.com/event/easter-vigil/
LOCATION:SFDS Church\, 13360 Valleyheart Drive\, Sherman Oaks\, CA\, 91423\, United States
CATEGORIES:Ministries
END:VEVENT
BEGIN:VEVENT
DTSTART;TZID=America/Los_Angeles:20160326T160000
DTEND;TZID=America/Los_Angeles:20160326T170000
DTSTAMP:20260424T025436
CREATED:20141203T174538Z
LAST-MODIFIED:20151221T204325Z
UID:10000646-1459008000-1459011600@www.sfdsparish.com
SUMMARY:Confessions
DESCRIPTION:Confessions in the main church every Saturday from 4:00 – 5:00 pm
URL:https://www.sfdsparish.com/event/confessions/2016-03-26/
LOCATION:SFDS Church\, 13360 Valleyheart Drive\, Sherman Oaks\, CA\, 91423\, United States
CATEGORIES:Ministries
END:VEVENT
BEGIN:VEVENT
DTSTART;TZID=America/Los_Angeles:20160325T150000
DTEND;TZID=America/Los_Angeles:20160325T190000
DTSTAMP:20260424T025436
CREATED:20160229T173604Z
LAST-MODIFIED:20160302T203343Z
UID:10000909-1458918000-1458932400@www.sfdsparish.com
SUMMARY:Good Friday
DESCRIPTION:Stations of the Cross at 12:30 pm \nGood Friday services at 3:00 and 7:00 PM.
URL:https://www.sfdsparish.com/event/good-friday-3/
LOCATION:SFDS Church\, 13360 Valleyheart Drive\, Sherman Oaks\, CA\, 91423\, United States
CATEGORIES:Ministries
END:VEVENT
BEGIN:VEVENT
DTSTART;TZID=America/Los_Angeles:20160324T081500
DTEND;TZID=America/Los_Angeles:20160324T190000
DTSTAMP:20260424T025436
CREATED:20160229T173450Z
LAST-MODIFIED:20160229T173450Z
UID:10000908-1458807300-1458846000@www.sfdsparish.com
SUMMARY:Holy Thursday
DESCRIPTION:8:15  AM Morning Mass \n7:00 PM Mass of the Lord’s Supper
URL:https://www.sfdsparish.com/event/holy-thursday-3/
LOCATION:SFDS Church\, 13360 Valleyheart Drive\, Sherman Oaks\, CA\, 91423\, United States
CATEGORIES:Ministries
END:VEVENT
END:VCALENDAR