BEGIN:VCALENDAR
VERSION:2.0
PRODID:-//Saint Francis de Sales Parish - ECPv6.15.20//NONSGML v1.0//EN
CALSCALE:GREGORIAN
METHOD:PUBLISH
X-WR-CALNAME:Saint Francis de Sales Parish
X-ORIGINAL-URL:https://www.sfdsparish.com
X-WR-CALDESC:Events for Saint Francis de Sales Parish
REFRESH-INTERVAL;VALUE=DURATION:PT1H
X-Robots-Tag:noindex
X-PUBLISHED-TTL:PT1H
BEGIN:VTIMEZONE
TZID:America/Los_Angeles
BEGIN:DAYLIGHT
TZOFFSETFROM:-0800
TZOFFSETTO:-0700
TZNAME:PDT
DTSTART:20220313T100000
END:DAYLIGHT
BEGIN:STANDARD
TZOFFSETFROM:-0700
TZOFFSETTO:-0800
TZNAME:PST
DTSTART:20221106T090000
END:STANDARD
BEGIN:DAYLIGHT
TZOFFSETFROM:-0800
TZOFFSETTO:-0700
TZNAME:PDT
DTSTART:20230312T100000
END:DAYLIGHT
BEGIN:STANDARD
TZOFFSETFROM:-0700
TZOFFSETTO:-0800
TZNAME:PST
DTSTART:20231105T090000
END:STANDARD
BEGIN:DAYLIGHT
TZOFFSETFROM:-0800
TZOFFSETTO:-0700
TZNAME:PDT
DTSTART:20240310T100000
END:DAYLIGHT
BEGIN:STANDARD
TZOFFSETFROM:-0700
TZOFFSETTO:-0800
TZNAME:PST
DTSTART:20241103T090000
END:STANDARD
BEGIN:DAYLIGHT
TZOFFSETFROM:-0800
TZOFFSETTO:-0700
TZNAME:PDT
DTSTART:20250309T100000
END:DAYLIGHT
BEGIN:STANDARD
TZOFFSETFROM:-0700
TZOFFSETTO:-0800
TZNAME:PST
DTSTART:20251102T090000
END:STANDARD
END:VTIMEZONE
BEGIN:VEVENT
DTSTART;TZID=America/Los_Angeles:20240303T090000
DTEND;TZID=America/Los_Angeles:20240303T095000
DTSTAMP:20260424T000637
CREATED:20230918T211932Z
LAST-MODIFIED:20230918T214222Z
UID:10002513-1709456400-1709459400@www.sfdsparish.com
SUMMARY:CRE Class
DESCRIPTION:CRE Class 9am sharp.
URL:https://www.sfdsparish.com/event/cre-class-11/2024-03-03/
LOCATION:School\, United States
CATEGORIES:Ministries
GEO:37.09024;-95.712891
END:VEVENT
BEGIN:VEVENT
DTSTART;TZID=America/Los_Angeles:20240303T084500
DTEND;TZID=America/Los_Angeles:20240303T094500
DTSTAMP:20260424T000637
CREATED:20230919T183411Z
LAST-MODIFIED:20230919T183411Z
UID:10002588-1709455500-1709459100@www.sfdsparish.com
SUMMARY:Teen Confirmation Class
DESCRIPTION:Teen Confirmation Class 8:45 am
URL:https://www.sfdsparish.com/event/teen-confirmation-class-15/2024-03-03/
LOCATION:School\, United States
CATEGORIES:Ministries
GEO:37.09024;-95.712891
END:VEVENT
BEGIN:VEVENT
DTSTART;TZID=America/Los_Angeles:20240225T090000
DTEND;TZID=America/Los_Angeles:20240225T095000
DTSTAMP:20260424T000637
CREATED:20230918T211932Z
LAST-MODIFIED:20230918T214222Z
UID:10002512-1708851600-1708854600@www.sfdsparish.com
SUMMARY:CRE Class
DESCRIPTION:CRE Class 9am sharp.
URL:https://www.sfdsparish.com/event/cre-class-11/2024-02-25/
LOCATION:School\, United States
CATEGORIES:Ministries
GEO:37.09024;-95.712891
END:VEVENT
BEGIN:VEVENT
DTSTART;TZID=America/Los_Angeles:20240225T084500
DTEND;TZID=America/Los_Angeles:20240225T094500
DTSTAMP:20260424T000637
CREATED:20230919T183411Z
LAST-MODIFIED:20230919T183411Z
UID:10002587-1708850700-1708854300@www.sfdsparish.com
SUMMARY:Teen Confirmation Class
DESCRIPTION:Teen Confirmation Class 8:45 am
URL:https://www.sfdsparish.com/event/teen-confirmation-class-15/2024-02-25/
LOCATION:School\, United States
CATEGORIES:Ministries
GEO:37.09024;-95.712891
END:VEVENT
BEGIN:VEVENT
DTSTART;TZID=America/Los_Angeles:20240218T090000
DTEND;TZID=America/Los_Angeles:20240218T095000
DTSTAMP:20260424T000637
CREATED:20230918T212105Z
LAST-MODIFIED:20230918T212106Z
UID:10002511-1708246800-1708249800@www.sfdsparish.com
SUMMARY:NO CRE Class
DESCRIPTION:No CRE class President’s Weekend
URL:https://www.sfdsparish.com/event/cre-class-11-3/
LOCATION:School\, United States
CATEGORIES:Ministries
GEO:37.09024;-95.712891
END:VEVENT
BEGIN:VEVENT
DTSTART;TZID=America/Los_Angeles:20240218T084500
DTEND;TZID=America/Los_Angeles:20240218T094500
DTSTAMP:20260424T000637
CREATED:20230919T183512Z
LAST-MODIFIED:20230919T183512Z
UID:10002586-1708245900-1708249500@www.sfdsparish.com
SUMMARY:No Teen Confirmation Class
DESCRIPTION:No Teen Confirmation Presidents Weekend
URL:https://www.sfdsparish.com/event/teen-confirmation-class-15-2/
LOCATION:School\, United States
CATEGORIES:Ministries
GEO:37.09024;-95.712891
END:VEVENT
BEGIN:VEVENT
DTSTART;TZID=America/Los_Angeles:20240211T090000
DTEND;TZID=America/Los_Angeles:20240211T095000
DTSTAMP:20260424T000637
CREATED:20230918T212011Z
LAST-MODIFIED:20230918T212013Z
UID:10002510-1707642000-1707645000@www.sfdsparish.com
SUMMARY:CRE Class
DESCRIPTION:CRE Class 9am sharp. Class Mass
URL:https://www.sfdsparish.com/event/cre-class-11-2/
LOCATION:School\, United States
CATEGORIES:Ministries
GEO:37.09024;-95.712891
END:VEVENT
BEGIN:VEVENT
DTSTART;TZID=America/Los_Angeles:20240211T084500
DTEND;TZID=America/Los_Angeles:20240211T094500
DTSTAMP:20260424T000637
CREATED:20230919T183542Z
LAST-MODIFIED:20230919T183542Z
UID:10002585-1707641100-1707644700@www.sfdsparish.com
SUMMARY:Teen Confirmation Class
DESCRIPTION:Teen Confirmation Class 8:45 am. Class Mass Safety Class
URL:https://www.sfdsparish.com/event/teen-confirmation-class-15-3/
LOCATION:School\, United States
CATEGORIES:Ministries
GEO:37.09024;-95.712891
END:VEVENT
BEGIN:VEVENT
DTSTART;TZID=America/Los_Angeles:20240204T090000
DTEND;TZID=America/Los_Angeles:20240204T095000
DTSTAMP:20260424T000637
CREATED:20230918T211932Z
LAST-MODIFIED:20230918T214222Z
UID:10002509-1707037200-1707040200@www.sfdsparish.com
SUMMARY:CRE Class
DESCRIPTION:CRE Class 9am sharp.
URL:https://www.sfdsparish.com/event/cre-class-11/2024-02-04/
LOCATION:School\, United States
CATEGORIES:Ministries
GEO:37.09024;-95.712891
END:VEVENT
BEGIN:VEVENT
DTSTART;TZID=America/Los_Angeles:20240204T084500
DTEND;TZID=America/Los_Angeles:20240204T094500
DTSTAMP:20260424T000637
CREATED:20230919T183411Z
LAST-MODIFIED:20230919T183411Z
UID:10002584-1707036300-1707039900@www.sfdsparish.com
SUMMARY:Teen Confirmation Class
DESCRIPTION:Teen Confirmation Class 8:45 am
URL:https://www.sfdsparish.com/event/teen-confirmation-class-15/2024-02-04/
LOCATION:School\, United States
CATEGORIES:Ministries
GEO:37.09024;-95.712891
END:VEVENT
BEGIN:VEVENT
DTSTART;TZID=America/Los_Angeles:20240121T090000
DTEND;TZID=America/Los_Angeles:20240121T110000
DTSTAMP:20260424T000637
CREATED:20230918T211627Z
LAST-MODIFIED:20230918T211627Z
UID:10002507-1705827600-1705834800@www.sfdsparish.com
SUMMARY:CRE Class
DESCRIPTION:CRE Class at 9 am and Class Mass
URL:https://www.sfdsparish.com/event/cre-class-10/
LOCATION:School\, United States
CATEGORIES:Ministries
GEO:37.09024;-95.712891
END:VEVENT
BEGIN:VEVENT
DTSTART;TZID=America/Los_Angeles:20240107T090000
DTEND;TZID=America/Los_Angeles:20240107T095000
DTSTAMP:20260424T000637
CREATED:20230918T211402Z
LAST-MODIFIED:20230918T211402Z
UID:10002505-1704618000-1704621000@www.sfdsparish.com
SUMMARY:CRE Class
DESCRIPTION:CRE Class at 9am.
URL:https://www.sfdsparish.com/event/cre-class-9/
LOCATION:School\, United States
CATEGORIES:Ministries
GEO:37.09024;-95.712891
END:VEVENT
BEGIN:VEVENT
DTSTART;TZID=America/Los_Angeles:20231210T090000
DTEND;TZID=America/Los_Angeles:20231210T095000
DTSTAMP:20260424T000637
CREATED:20230919T181224Z
LAST-MODIFIED:20230919T181226Z
UID:10002501-1702198800-1702201800@www.sfdsparish.com
SUMMARY:CRE Class
DESCRIPTION:CRE class meets at 9 am sharp. class Mass
URL:https://www.sfdsparish.com/event/cre-class-8-5/
LOCATION:School\, United States
CATEGORIES:Ministries
GEO:37.09024;-95.712891
END:VEVENT
BEGIN:VEVENT
DTSTART;TZID=America/Los_Angeles:20231203T090000
DTEND;TZID=America/Los_Angeles:20231203T095000
DTSTAMP:20260424T000637
CREATED:20230918T210402Z
LAST-MODIFIED:20230918T210402Z
UID:10002500-1701594000-1701597000@www.sfdsparish.com
SUMMARY:CRE Class
DESCRIPTION:CRE class meets at 9 am sharp.
URL:https://www.sfdsparish.com/event/cre-class-8/2023-12-03/
LOCATION:School\, United States
CATEGORIES:Ministries
GEO:37.09024;-95.712891
END:VEVENT
BEGIN:VEVENT
DTSTART;TZID=America/Los_Angeles:20231203T084500
DTEND;TZID=America/Los_Angeles:20231203T094500
DTSTAMP:20260424T000637
CREATED:20230919T182756Z
LAST-MODIFIED:20230919T182912Z
UID:10002583-1701593100-1701596700@www.sfdsparish.com
SUMMARY:Teen Confirmation
DESCRIPTION:Teen Confirmation at 8:45 am.
URL:https://www.sfdsparish.com/event/teen-confirmation-3/2023-12-03/
LOCATION:School\, United States
CATEGORIES:Ministries
GEO:37.09024;-95.712891
END:VEVENT
BEGIN:VEVENT
DTSTART;TZID=America/Los_Angeles:20231126T090000
DTEND;TZID=America/Los_Angeles:20231126T095000
DTSTAMP:20260424T000637
CREATED:20230918T210910Z
LAST-MODIFIED:20230918T210910Z
UID:10002499-1700989200-1700992200@www.sfdsparish.com
SUMMARY:NO CRE Class
DESCRIPTION:NO CRE Class Thanksgiving.
URL:https://www.sfdsparish.com/event/cre-class-8-4/
LOCATION:School\, United States
CATEGORIES:Ministries
GEO:37.09024;-95.712891
END:VEVENT
BEGIN:VEVENT
DTSTART;TZID=America/Los_Angeles:20231126T084500
DTEND;TZID=America/Los_Angeles:20231126T094500
DTSTAMP:20260424T000637
CREATED:20230919T183146Z
LAST-MODIFIED:20230919T183146Z
UID:10002582-1700988300-1700991900@www.sfdsparish.com
SUMMARY:NO Teen Confirmation
DESCRIPTION:No Teen Confirmation Thanksgiving
URL:https://www.sfdsparish.com/event/teen-confirmation-3-4/
LOCATION:School\, United States
CATEGORIES:Ministries
GEO:37.09024;-95.712891
END:VEVENT
BEGIN:VEVENT
DTSTART;TZID=America/Los_Angeles:20231119T090000
DTEND;TZID=America/Los_Angeles:20231119T095000
DTSTAMP:20260424T000637
CREATED:20230918T210813Z
LAST-MODIFIED:20230918T210813Z
UID:10002498-1700384400-1700387400@www.sfdsparish.com
SUMMARY:CRE Class
DESCRIPTION:CRE class meets at 9 am sharp. Class Mass
URL:https://www.sfdsparish.com/event/cre-class-8-3/
LOCATION:School\, United States
CATEGORIES:Ministries
GEO:37.09024;-95.712891
END:VEVENT
BEGIN:VEVENT
DTSTART;TZID=America/Los_Angeles:20231119T084500
DTEND;TZID=America/Los_Angeles:20231119T094500
DTSTAMP:20260424T000637
CREATED:20230919T183045Z
LAST-MODIFIED:20230919T183045Z
UID:10002581-1700383500-1700387100@www.sfdsparish.com
SUMMARY:Teen Confirmation
DESCRIPTION:Teen Confirmation at 8:45 am. Class Mass
URL:https://www.sfdsparish.com/event/teen-confirmation-3-3/
LOCATION:School\, United States
CATEGORIES:Ministries
GEO:37.09024;-95.712891
END:VEVENT
BEGIN:VEVENT
DTSTART;TZID=America/Los_Angeles:20231112T090000
DTEND;TZID=America/Los_Angeles:20231112T095000
DTSTAMP:20260424T000637
CREATED:20230918T210402Z
LAST-MODIFIED:20230918T210402Z
UID:10002497-1699779600-1699782600@www.sfdsparish.com
SUMMARY:CRE Class
DESCRIPTION:CRE class meets at 9 am sharp.
URL:https://www.sfdsparish.com/event/cre-class-8/2023-11-12/
LOCATION:School\, United States
CATEGORIES:Ministries
GEO:37.09024;-95.712891
END:VEVENT
BEGIN:VEVENT
DTSTART;TZID=America/Los_Angeles:20231112T084500
DTEND;TZID=America/Los_Angeles:20231112T094500
DTSTAMP:20260424T000637
CREATED:20230919T183018Z
LAST-MODIFIED:20230919T183018Z
UID:10002580-1699778700-1699782300@www.sfdsparish.com
SUMMARY:Teen Confirmation
DESCRIPTION:Teen Confirmation at 8:45 am. Class Mass and Retreat
URL:https://www.sfdsparish.com/event/teen-confirmation-3-2/
LOCATION:School\, United States
CATEGORIES:Ministries
GEO:37.09024;-95.712891
END:VEVENT
BEGIN:VEVENT
DTSTART;TZID=America/Los_Angeles:20231105T090000
DTEND;TZID=America/Los_Angeles:20231105T095000
DTSTAMP:20260424T000637
CREATED:20230918T210402Z
LAST-MODIFIED:20230918T210402Z
UID:10002496-1699174800-1699177800@www.sfdsparish.com
SUMMARY:CRE Class
DESCRIPTION:CRE class meets at 9 am sharp.
URL:https://www.sfdsparish.com/event/cre-class-8/2023-11-05/
LOCATION:School\, United States
CATEGORIES:Ministries
GEO:37.09024;-95.712891
END:VEVENT
BEGIN:VEVENT
DTSTART;TZID=America/Los_Angeles:20231105T084500
DTEND;TZID=America/Los_Angeles:20231105T094500
DTSTAMP:20260424T000637
CREATED:20230919T182756Z
LAST-MODIFIED:20230919T182912Z
UID:10002579-1699173900-1699177500@www.sfdsparish.com
SUMMARY:Teen Confirmation
DESCRIPTION:Teen Confirmation at 8:45 am.
URL:https://www.sfdsparish.com/event/teen-confirmation-3/2023-11-05/
LOCATION:School\, United States
CATEGORIES:Ministries
GEO:37.09024;-95.712891
END:VEVENT
BEGIN:VEVENT
DTSTART;TZID=America/Los_Angeles:20231029T090000
DTEND;TZID=America/Los_Angeles:20231029T095000
DTSTAMP:20260424T000637
CREATED:20230918T210402Z
LAST-MODIFIED:20230918T210402Z
UID:10002495-1698570000-1698573000@www.sfdsparish.com
SUMMARY:CRE Class
DESCRIPTION:CRE class meets at 9 am sharp.
URL:https://www.sfdsparish.com/event/cre-class-8/2023-10-29/
LOCATION:School\, United States
CATEGORIES:Ministries
GEO:37.09024;-95.712891
END:VEVENT
BEGIN:VEVENT
DTSTART;TZID=America/Los_Angeles:20231029T084500
DTEND;TZID=America/Los_Angeles:20231029T094500
DTSTAMP:20260424T000637
CREATED:20230919T182756Z
LAST-MODIFIED:20230919T182912Z
UID:10002578-1698569100-1698572700@www.sfdsparish.com
SUMMARY:Teen Confirmation
DESCRIPTION:Teen Confirmation at 8:45 am.
URL:https://www.sfdsparish.com/event/teen-confirmation-3/2023-10-29/
LOCATION:School\, United States
CATEGORIES:Ministries
GEO:37.09024;-95.712891
END:VEVENT
BEGIN:VEVENT
DTSTART;TZID=America/Los_Angeles:20231022T090000
DTEND;TZID=America/Los_Angeles:20231022T095000
DTSTAMP:20260424T000637
CREATED:20230918T210716Z
LAST-MODIFIED:20230918T210717Z
UID:10002494-1697965200-1697968200@www.sfdsparish.com
SUMMARY:CRE Class
DESCRIPTION:CRE class meets at 9 am sharp and class Mass.
URL:https://www.sfdsparish.com/event/cre-class-8-2/
LOCATION:School\, United States
CATEGORIES:Ministries
GEO:37.09024;-95.712891
END:VEVENT
BEGIN:VEVENT
DTSTART;TZID=America/Los_Angeles:20231022T084500
DTEND;TZID=America/Los_Angeles:20231022T094500
DTSTAMP:20260424T000637
CREATED:20230914T203724Z
LAST-MODIFIED:20230914T203724Z
UID:10002489-1697964300-1697967900@www.sfdsparish.com
SUMMARY:Teen Confirmation Begins
DESCRIPTION:Classes Begin for Teen Confirmation at 8:45 am.
URL:https://www.sfdsparish.com/event/teen-confirmation-begins/
LOCATION:School\, United States
CATEGORIES:Ministries
GEO:37.09024;-95.712891
END:VEVENT
BEGIN:VEVENT
DTSTART;TZID=America/Los_Angeles:20231015T090000
DTEND;TZID=America/Los_Angeles:20231015T100000
DTSTAMP:20260424T000637
CREATED:20230919T181956Z
LAST-MODIFIED:20230919T181956Z
UID:10002577-1697360400-1697364000@www.sfdsparish.com
SUMMARY:Little Church
DESCRIPTION:Little Church Begins at 9 am
URL:https://www.sfdsparish.com/event/little-church/
LOCATION:School\, United States
CATEGORIES:Ministries
GEO:37.09024;-95.712891
END:VEVENT
BEGIN:VEVENT
DTSTART;TZID=America/Los_Angeles:20231015T090000
DTEND;TZID=America/Los_Angeles:20231015T095000
DTSTAMP:20260424T000637
CREATED:20230918T210402Z
LAST-MODIFIED:20230918T210402Z
UID:10002493-1697360400-1697363400@www.sfdsparish.com
SUMMARY:CRE Class
DESCRIPTION:CRE class meets at 9 am sharp.
URL:https://www.sfdsparish.com/event/cre-class-8/2023-10-15/
LOCATION:School\, United States
CATEGORIES:Ministries
GEO:37.09024;-95.712891
END:VEVENT
BEGIN:VEVENT
DTSTART;TZID=America/Los_Angeles:20231014T180000
DTEND;TZID=America/Los_Angeles:20231014T200000
DTSTAMP:20260424T000637
CREATED:20231010T173021Z
LAST-MODIFIED:20231010T173021Z
UID:10002592-1697306400-1697313600@www.sfdsparish.com
SUMMARY:School Harvest Festival
DESCRIPTION:School Harvest Festival on the field\, games\, food\, raffles\, silent auction and more 6:00 pm to 8:00 pm.
URL:https://www.sfdsparish.com/event/school-harvest-festival/
LOCATION:School\, United States
CATEGORIES:SFDS School
GEO:37.09024;-95.712891
END:VEVENT
END:VCALENDAR