BEGIN:VCALENDAR
VERSION:2.0
PRODID:-//Saint Francis de Sales Parish - ECPv6.15.20//NONSGML v1.0//EN
CALSCALE:GREGORIAN
METHOD:PUBLISH
X-WR-CALNAME:Saint Francis de Sales Parish
X-ORIGINAL-URL:https://www.sfdsparish.com
X-WR-CALDESC:Events for Saint Francis de Sales Parish
REFRESH-INTERVAL;VALUE=DURATION:PT1H
X-Robots-Tag:noindex
X-PUBLISHED-TTL:PT1H
BEGIN:VTIMEZONE
TZID:America/Los_Angeles
BEGIN:DAYLIGHT
TZOFFSETFROM:-0800
TZOFFSETTO:-0700
TZNAME:PDT
DTSTART:20170312T100000
END:DAYLIGHT
BEGIN:STANDARD
TZOFFSETFROM:-0700
TZOFFSETTO:-0800
TZNAME:PST
DTSTART:20171105T090000
END:STANDARD
BEGIN:DAYLIGHT
TZOFFSETFROM:-0800
TZOFFSETTO:-0700
TZNAME:PDT
DTSTART:20180311T100000
END:DAYLIGHT
BEGIN:STANDARD
TZOFFSETFROM:-0700
TZOFFSETTO:-0800
TZNAME:PST
DTSTART:20181104T090000
END:STANDARD
BEGIN:DAYLIGHT
TZOFFSETFROM:-0800
TZOFFSETTO:-0700
TZNAME:PDT
DTSTART:20190310T100000
END:DAYLIGHT
BEGIN:STANDARD
TZOFFSETFROM:-0700
TZOFFSETTO:-0800
TZNAME:PST
DTSTART:20191103T090000
END:STANDARD
BEGIN:DAYLIGHT
TZOFFSETFROM:-0800
TZOFFSETTO:-0700
TZNAME:PDT
DTSTART:20200308T100000
END:DAYLIGHT
BEGIN:STANDARD
TZOFFSETFROM:-0700
TZOFFSETTO:-0800
TZNAME:PST
DTSTART:20201101T090000
END:STANDARD
BEGIN:DAYLIGHT
TZOFFSETFROM:-0800
TZOFFSETTO:-0700
TZNAME:PDT
DTSTART:20210314T100000
END:DAYLIGHT
BEGIN:STANDARD
TZOFFSETFROM:-0700
TZOFFSETTO:-0800
TZNAME:PST
DTSTART:20211107T090000
END:STANDARD
BEGIN:DAYLIGHT
TZOFFSETFROM:-0800
TZOFFSETTO:-0700
TZNAME:PDT
DTSTART:20220313T100000
END:DAYLIGHT
BEGIN:STANDARD
TZOFFSETFROM:-0700
TZOFFSETTO:-0800
TZNAME:PST
DTSTART:20221106T090000
END:STANDARD
BEGIN:DAYLIGHT
TZOFFSETFROM:-0800
TZOFFSETTO:-0700
TZNAME:PDT
DTSTART:20230312T100000
END:DAYLIGHT
BEGIN:STANDARD
TZOFFSETFROM:-0700
TZOFFSETTO:-0800
TZNAME:PST
DTSTART:20231105T090000
END:STANDARD
BEGIN:DAYLIGHT
TZOFFSETFROM:-0800
TZOFFSETTO:-0700
TZNAME:PDT
DTSTART:20240310T100000
END:DAYLIGHT
BEGIN:STANDARD
TZOFFSETFROM:-0700
TZOFFSETTO:-0800
TZNAME:PST
DTSTART:20241103T090000
END:STANDARD
BEGIN:DAYLIGHT
TZOFFSETFROM:-0800
TZOFFSETTO:-0700
TZNAME:PDT
DTSTART:20250309T100000
END:DAYLIGHT
BEGIN:STANDARD
TZOFFSETFROM:-0700
TZOFFSETTO:-0800
TZNAME:PST
DTSTART:20251102T090000
END:STANDARD
BEGIN:DAYLIGHT
TZOFFSETFROM:-0800
TZOFFSETTO:-0700
TZNAME:PDT
DTSTART:20260308T100000
END:DAYLIGHT
BEGIN:STANDARD
TZOFFSETFROM:-0700
TZOFFSETTO:-0800
TZNAME:PST
DTSTART:20261101T090000
END:STANDARD
BEGIN:DAYLIGHT
TZOFFSETFROM:-0800
TZOFFSETTO:-0700
TZNAME:PDT
DTSTART:20270314T100000
END:DAYLIGHT
BEGIN:STANDARD
TZOFFSETFROM:-0700
TZOFFSETTO:-0800
TZNAME:PST
DTSTART:20271107T090000
END:STANDARD
END:VTIMEZONE
BEGIN:VEVENT
DTSTART;TZID=America/Los_Angeles:20260308T080000
DTEND;TZID=America/Los_Angeles:20260308T140000
DTSTAMP:20260423T163843
CREATED:20260211T180904Z
LAST-MODIFIED:20260211T180910Z
UID:10002913-1772956800-1772978400@www.sfdsparish.com
SUMMARY:Blood Drive
DESCRIPTION:Red Cross Blood Drive 8am – 2:00 pm go to http://www.redcrossblood.org
URL:https://www.sfdsparish.com/event/blood-drive-10/
LOCATION:School Auditorium\, United States
CATEGORIES:Ministries
GEO:37.09024;-95.712891
END:VEVENT
BEGIN:VEVENT
DTSTART;TZID=America/Los_Angeles:20251123T080000
DTEND;TZID=America/Los_Angeles:20251123T140000
DTSTAMP:20260423T163843
CREATED:20251117T220007Z
LAST-MODIFIED:20251117T220007Z
UID:10002901-1763884800-1763906400@www.sfdsparish.com
SUMMARY:Blood Drive
DESCRIPTION:Blood Drive in the school auditorium from 8 am to 2 pm. Register on our website homepage.
URL:https://www.sfdsparish.com/event/blood-drive-9/
LOCATION:School Auditorium\, United States
CATEGORIES:Ministries
GEO:37.09024;-95.712891
END:VEVENT
BEGIN:VEVENT
DTSTART;TZID=America/Los_Angeles:20250907T090000
DTEND;TZID=America/Los_Angeles:20250907T120000
DTSTAMP:20260423T163843
CREATED:20250701T164347Z
LAST-MODIFIED:20250701T164347Z
UID:10002824-1757235600-1757246400@www.sfdsparish.com
SUMMARY:Religious Education Registration
DESCRIPTION:In person registration for religious education grades 1 – 8 and Teen Confirmation will be in the school auditorium from 9 am to 12 noon.
URL:https://www.sfdsparish.com/event/religious-education-registration-5/
LOCATION:School Auditorium\, United States
CATEGORIES:Ministries
GEO:37.09024;-95.712891
END:VEVENT
BEGIN:VEVENT
DTSTART;TZID=America/Los_Angeles:20250622T080000
DTEND;TZID=America/Los_Angeles:20250622T140000
DTSTAMP:20260423T163843
CREATED:20250604T185858Z
LAST-MODIFIED:20250604T185858Z
UID:10002820-1750579200-1750600800@www.sfdsparish.com
SUMMARY:Red Cross Blood Drive
DESCRIPTION:Blood Drive 8:00 am to 2:00 pm in the school auditorium sign up information on website home page
URL:https://www.sfdsparish.com/event/red-cross-blood-drive-6/
LOCATION:School Auditorium\, United States
CATEGORIES:Ministries
GEO:37.09024;-95.712891
END:VEVENT
BEGIN:VEVENT
DTSTART;VALUE=DATE:20250622
DTEND;VALUE=DATE:20250623
DTSTAMP:20260423T163843
CREATED:20250602T193007Z
LAST-MODIFIED:20250602T193007Z
UID:10002819-1750550400-1750636799@www.sfdsparish.com
SUMMARY:Red Cross Blood Drive
DESCRIPTION:Blood Drive in the school auditorium from 8 am to 2 pm.
URL:https://www.sfdsparish.com/event/red-cross-blood-drive-5/
LOCATION:School Auditorium\, United States
CATEGORIES:Ministries
GEO:37.09024;-95.712891
END:VEVENT
BEGIN:VEVENT
DTSTART;TZID=America/Los_Angeles:20240908T090000
DTEND;TZID=America/Los_Angeles:20240908T120000
DTSTAMP:20260423T163843
CREATED:20240606T173712Z
LAST-MODIFIED:20240606T173712Z
UID:10002694-1725786000-1725796800@www.sfdsparish.com
SUMMARY:Religious Education 1- 8 & Teen Confirmation
DESCRIPTION:Registration for Religious Education\, Teen Confirmation & Little Church will be Sunday September 8\, 2024 from 9 am to 12 noon in the school auditorium. Registration forms will be under religious education on our website.
URL:https://www.sfdsparish.com/event/religious-education-1-8-teen-confirmation/
LOCATION:School Auditorium\, United States
CATEGORIES:Ministries
GEO:37.09024;-95.712891
END:VEVENT
BEGIN:VEVENT
DTSTART;TZID=America/Los_Angeles:20230910T090000
DTEND;TZID=America/Los_Angeles:20230910T120000
DTSTAMP:20260423T163843
CREATED:20230712T171546Z
LAST-MODIFIED:20230822T165655Z
UID:10001894-1694336400-1694347200@www.sfdsparish.com
SUMMARY:Religious Education/Teen Confirmation Registration
DESCRIPTION:Religious Education grades 1-8\, Teen Confirmation High School Students and Little Church have registration for the fall in the school auditorium from 9:00 am to 12 Noon. Registration forms on our website.
URL:https://www.sfdsparish.com/event/religious-education-teen-confirmation-registration-2/
LOCATION:School Auditorium\, United States
CATEGORIES:Ministries
GEO:37.09024;-95.712891
END:VEVENT
BEGIN:VEVENT
DTSTART;TZID=America/Los_Angeles:20230312T080000
DTEND;TZID=America/Los_Angeles:20230312T140000
DTSTAMP:20260423T163843
CREATED:20230227T204951Z
LAST-MODIFIED:20230227T204951Z
UID:10001886-1678608000-1678629600@www.sfdsparish.com
SUMMARY:Blood Drive
DESCRIPTION:Blood Drive Sunday March 12\, 2023 from 8 am to 2 pm information on our website.
URL:https://www.sfdsparish.com/event/blood-drive-7/
LOCATION:School Auditorium\, United States
CATEGORIES:Ministries
GEO:37.09024;-95.712891
END:VEVENT
BEGIN:VEVENT
DTSTART;TZID=America/Los_Angeles:20220918T080000
DTEND;TZID=America/Los_Angeles:20220918T140000
DTSTAMP:20260423T163843
CREATED:20220908T151919Z
LAST-MODIFIED:20220908T151919Z
UID:10001835-1663488000-1663509600@www.sfdsparish.com
SUMMARY:Red Cross Blood Drive
DESCRIPTION:Blood Drive in the Auditorium 8:00 am – 2:00 pm
URL:https://www.sfdsparish.com/event/red-cross-blood-drive-2/
LOCATION:School Auditorium\, United States
CATEGORIES:Ministries
GEO:37.09024;-95.712891
END:VEVENT
BEGIN:VEVENT
DTSTART;TZID=America/Los_Angeles:20220911T090000
DTEND;TZID=America/Los_Angeles:20220911T120000
DTSTAMP:20260423T163843
CREATED:20220803T162757Z
LAST-MODIFIED:20220803T162757Z
UID:10001831-1662886800-1662897600@www.sfdsparish.com
SUMMARY:Religious Education Registration
DESCRIPTION:Religious Education Registration is Sunday September 11\, 2022 in the school auditorium from \n9 am to 12 noon.
URL:https://www.sfdsparish.com/event/religious-education-registration-4/
LOCATION:School Auditorium\, United States
CATEGORIES:Ministries
GEO:37.09024;-95.712891
END:VEVENT
BEGIN:VEVENT
DTSTART;TZID=America/Los_Angeles:20220313T080000
DTEND;TZID=America/Los_Angeles:20220313T140000
DTSTAMP:20260423T163843
CREATED:20220223T171646Z
LAST-MODIFIED:20220223T171646Z
UID:10001826-1647158400-1647180000@www.sfdsparish.com
SUMMARY:Blood Drive
DESCRIPTION:Red Cross Blood Drive in the school auditorium 8 am to 2:00 pm. There is a sign up link on our home page.
URL:https://www.sfdsparish.com/event/blood-drive-6/
LOCATION:School Auditorium\, United States
CATEGORIES:Ministries
GEO:37.09024;-95.712891
END:VEVENT
BEGIN:VEVENT
DTSTART;TZID=America/Los_Angeles:20210912T090000
DTEND;TZID=America/Los_Angeles:20210912T120000
DTSTAMP:20260423T163843
CREATED:20210721T165401Z
LAST-MODIFIED:20210721T165401Z
UID:10001811-1631437200-1631448000@www.sfdsparish.com
SUMMARY:Religious Education & Teen Confirmation Registration
DESCRIPTION:Religious Education Grades 1-8 and Teen Confirmation Registration will be in the school auditorium from 9:00 am to 12:00 noon.
URL:https://www.sfdsparish.com/event/religious-education-teen-confirmation-registration/
LOCATION:School Auditorium\, United States
CATEGORIES:Ministries
GEO:37.09024;-95.712891
END:VEVENT
BEGIN:VEVENT
DTSTART;TZID=America/Los_Angeles:20191208T080000
DTEND;TZID=America/Los_Angeles:20191208T120000
DTSTAMP:20260423T163843
CREATED:20191204T192337Z
LAST-MODIFIED:20191204T192428Z
UID:10000806-1575792000-1575806400@www.sfdsparish.com
SUMMARY:Pancakes with Santa
DESCRIPTION:Immediately following the 8 am Mass\, Doors open 9 am – 12 noon – $5
URL:https://www.sfdsparish.com/event/pancakes-with-santa-2/
LOCATION:School Auditorium\, United States
CATEGORIES:Organizations
GEO:37.09024;-95.712891
END:VEVENT
BEGIN:VEVENT
DTSTART;TZID=America/Los_Angeles:20190922T090000
DTEND;TZID=America/Los_Angeles:20190922T100000
DTSTAMP:20260423T163843
CREATED:20190827T164316Z
LAST-MODIFIED:20190827T164316Z
UID:10001736-1569142800-1569146400@www.sfdsparish.com
SUMMARY:Teen Confirmation Meeting
DESCRIPTION:There is a mandatory meeting for ALL Teen Confirmation parents and students in the auditorium at 9:15 am sharp.
URL:https://www.sfdsparish.com/event/teen-confirmation-meeting/
LOCATION:School Auditorium\, United States
CATEGORIES:Ministries
GEO:37.09024;-95.712891
END:VEVENT
BEGIN:VEVENT
DTSTART;TZID=America/Los_Angeles:20190908T090000
DTEND;TZID=America/Los_Angeles:20190908T120000
DTSTAMP:20260423T163843
CREATED:20190730T153020Z
LAST-MODIFIED:20190730T153020Z
UID:10000727-1567933200-1567944000@www.sfdsparish.com
SUMMARY:Registration for Religious Education\, Teen Confirmation and Little Church
DESCRIPTION:Registration for Religious Education Grades 1-8\, Teen Confirmation Grades 9-10 and Little Church are in the school auditorium from 9 am to noon. Please bring proof of sacraments were applicable.
URL:https://www.sfdsparish.com/event/registration-for-religious-education-teen-confirmation-and-little-church/
LOCATION:School Auditorium\, United States
CATEGORIES:Ministries
GEO:37.09024;-95.712891
END:VEVENT
BEGIN:VEVENT
DTSTART;TZID=America/Los_Angeles:20180909T090000
DTEND;TZID=America/Los_Angeles:20180909T120000
DTSTAMP:20260423T163843
CREATED:20180719T185857Z
LAST-MODIFIED:20180719T185857Z
UID:10000690-1536483600-1536494400@www.sfdsparish.com
SUMMARY:Religious Education Registration
DESCRIPTION:Religious Education Registration is from 9:00 am – 12:00 pm in the school  auditorium for Little Church\, Grades 3-8 and Teen Confirmation. Please Bring a Baptismal certificate and a First Communion certificate if you are registering for Teen Confirmation
URL:https://www.sfdsparish.com/event/religious-education-registration-3/
LOCATION:School Auditorium\, United States
CATEGORIES:Ministries
GEO:37.09024;-95.712891
END:VEVENT
BEGIN:VEVENT
DTSTART;TZID=America/Los_Angeles:20180511T080000
DTEND;TZID=America/Los_Angeles:20180511T130000
DTSTAMP:20260423T163843
CREATED:20170912T164549Z
LAST-MODIFIED:20170912T164549Z
UID:10001277-1526025600-1526043600@www.sfdsparish.com
SUMMARY:First Communion Day of Prayer
DESCRIPTION:The First Communion Class will have a day of prayer and a luncheon.
URL:https://www.sfdsparish.com/event/first-communion-day-of-prayer-2/
LOCATION:School Auditorium\, United States
CATEGORIES:Ministries
GEO:37.09024;-95.712891
END:VEVENT
BEGIN:VEVENT
DTSTART;TZID=America/Los_Angeles:20180506T090000
DTEND;TZID=America/Los_Angeles:20180506T100000
DTSTAMP:20260423T163843
CREATED:20170912T163606Z
LAST-MODIFIED:20170912T163606Z
UID:10000579-1525597200-1525600800@www.sfdsparish.com
SUMMARY:First Communion Practice
DESCRIPTION:Class will meet for the First Communion Class only to practice.
URL:https://www.sfdsparish.com/event/first-communion-practice-5/
LOCATION:School Auditorium\, United States
CATEGORIES:Ministries
GEO:37.09024;-95.712891
END:VEVENT
BEGIN:VEVENT
DTSTART;TZID=America/Los_Angeles:20180429T090000
DTEND;TZID=America/Los_Angeles:20180429T100000
DTSTAMP:20260423T163843
CREATED:20170912T161911Z
LAST-MODIFIED:20170912T162649Z
UID:10000569-1524992400-1524996000@www.sfdsparish.com
SUMMARY:Religious Education Class and Mass
DESCRIPTION:Classes meet Sunday mornings from 9-9:50 am in the school buildings.The children will attend 10 am Mass with their class after their regular religious education.
URL:https://www.sfdsparish.com/event/religious-education-class-3-2018-04-29/
LOCATION:School Auditorium\, United States
CATEGORIES:Ministries
GEO:37.09024;-95.712891
END:VEVENT
BEGIN:VEVENT
DTSTART;TZID=America/Los_Angeles:20180422T090000
DTEND;TZID=America/Los_Angeles:20180422T100000
DTSTAMP:20260423T163843
CREATED:20170912T161911Z
LAST-MODIFIED:20170912T161911Z
UID:10001275-1524387600-1524391200@www.sfdsparish.com
SUMMARY:Religious Education Class
DESCRIPTION:Classes meet Sunday mornings from 9-9:50 am in the school buildings.
URL:https://www.sfdsparish.com/event/religious-education-class-3/2018-04-22/
LOCATION:School Auditorium\, United States
CATEGORIES:Ministries
GEO:37.09024;-95.712891
END:VEVENT
BEGIN:VEVENT
DTSTART;TZID=America/Los_Angeles:20180415T090000
DTEND;TZID=America/Los_Angeles:20180415T100000
DTSTAMP:20260423T163843
CREATED:20170912T161911Z
LAST-MODIFIED:20170912T161911Z
UID:10001274-1523782800-1523786400@www.sfdsparish.com
SUMMARY:Religious Education Class
DESCRIPTION:Classes meet Sunday mornings from 9-9:50 am in the school buildings.
URL:https://www.sfdsparish.com/event/religious-education-class-3/2018-04-15/
LOCATION:School Auditorium\, United States
CATEGORIES:Ministries
GEO:37.09024;-95.712891
END:VEVENT
BEGIN:VEVENT
DTSTART;TZID=America/Los_Angeles:20180408T090000
DTEND;TZID=America/Los_Angeles:20180408T100000
DTSTAMP:20260423T163843
CREATED:20170912T161911Z
LAST-MODIFIED:20170912T161911Z
UID:10001273-1523178000-1523181600@www.sfdsparish.com
SUMMARY:Religious Education Class
DESCRIPTION:Classes meet Sunday mornings from 9-9:50 am in the school buildings.
URL:https://www.sfdsparish.com/event/religious-education-class-3/2018-04-08/
LOCATION:School Auditorium\, United States
CATEGORIES:Ministries
GEO:37.09024;-95.712891
END:VEVENT
BEGIN:VEVENT
DTSTART;TZID=America/Los_Angeles:20180408T083000
DTEND;TZID=America/Los_Angeles:20180408T100000
DTSTAMP:20260423T163843
CREATED:20170912T171414Z
LAST-MODIFIED:20170912T171414Z
UID:10001297-1523176200-1523181600@www.sfdsparish.com
SUMMARY:Teen Confirmation Class
DESCRIPTION:Teen Confirmation meets Sunday mornings from 8:45 – 9:50 am in the school buildings.
URL:https://www.sfdsparish.com/event/teen-confirmation-class-8/2018-04-08/
LOCATION:School Auditorium\, United States
CATEGORIES:Ministries
GEO:37.09024;-95.712891
END:VEVENT
BEGIN:VEVENT
DTSTART;TZID=America/Los_Angeles:20180401T090000
DTEND;TZID=America/Los_Angeles:20180401T100000
DTSTAMP:20260423T163843
CREATED:20170912T161911Z
LAST-MODIFIED:20170912T162601Z
UID:10000567-1522573200-1522576800@www.sfdsparish.com
SUMMARY:NO Religious Education Class
DESCRIPTION:Easter Sunday
URL:https://www.sfdsparish.com/event/religious-education-class-3-2018-04-01/
LOCATION:School Auditorium\, United States
CATEGORIES:Ministries
GEO:37.09024;-95.712891
END:VEVENT
BEGIN:VEVENT
DTSTART;TZID=America/Los_Angeles:20180401T083000
DTEND;TZID=America/Los_Angeles:20180401T100000
DTSTAMP:20260423T163843
CREATED:20170912T171414Z
LAST-MODIFIED:20170912T172106Z
UID:10001303-1522571400-1522576800@www.sfdsparish.com
SUMMARY:NO Teen Confirmation Class
DESCRIPTION:Easter Sunday
URL:https://www.sfdsparish.com/event/teen-confirmation-class-8-2018-04-01/
LOCATION:School Auditorium\, United States
CATEGORIES:Ministries
GEO:37.09024;-95.712891
END:VEVENT
BEGIN:VEVENT
DTSTART;TZID=America/Los_Angeles:20180325T090000
DTEND;TZID=America/Los_Angeles:20180325T100000
DTSTAMP:20260423T163843
CREATED:20170912T161911Z
LAST-MODIFIED:20170912T161911Z
UID:10001272-1521968400-1521972000@www.sfdsparish.com
SUMMARY:Religious Education Class
DESCRIPTION:Classes meet Sunday mornings from 9-9:50 am in the school buildings.
URL:https://www.sfdsparish.com/event/religious-education-class-3/2018-03-25/
LOCATION:School Auditorium\, United States
CATEGORIES:Ministries
GEO:37.09024;-95.712891
END:VEVENT
BEGIN:VEVENT
DTSTART;TZID=America/Los_Angeles:20180325T083000
DTEND;TZID=America/Los_Angeles:20180325T100000
DTSTAMP:20260423T163843
CREATED:20170912T171414Z
LAST-MODIFIED:20170912T171414Z
UID:10001296-1521966600-1521972000@www.sfdsparish.com
SUMMARY:Teen Confirmation Class
DESCRIPTION:Teen Confirmation meets Sunday mornings from 8:45 – 9:50 am in the school buildings.
URL:https://www.sfdsparish.com/event/teen-confirmation-class-8/2018-03-25/
LOCATION:School Auditorium\, United States
CATEGORIES:Ministries
GEO:37.09024;-95.712891
END:VEVENT
BEGIN:VEVENT
DTSTART;TZID=America/Los_Angeles:20180318T090000
DTEND;TZID=America/Los_Angeles:20180318T100000
DTSTAMP:20260423T163843
CREATED:20170912T161911Z
LAST-MODIFIED:20170912T161911Z
UID:10001271-1521363600-1521367200@www.sfdsparish.com
SUMMARY:Religious Education Class
DESCRIPTION:Classes meet Sunday mornings from 9-9:50 am in the school buildings.
URL:https://www.sfdsparish.com/event/religious-education-class-3/2018-03-18/
LOCATION:School Auditorium\, United States
CATEGORIES:Ministries
GEO:37.09024;-95.712891
END:VEVENT
BEGIN:VEVENT
DTSTART;TZID=America/Los_Angeles:20180318T083000
DTEND;TZID=America/Los_Angeles:20180318T100000
DTSTAMP:20260423T163843
CREATED:20170912T171414Z
LAST-MODIFIED:20170912T171414Z
UID:10001295-1521361800-1521367200@www.sfdsparish.com
SUMMARY:Teen Confirmation Class
DESCRIPTION:Teen Confirmation meets Sunday mornings from 8:45 – 9:50 am in the school buildings.
URL:https://www.sfdsparish.com/event/teen-confirmation-class-8/2018-03-18/
LOCATION:School Auditorium\, United States
CATEGORIES:Ministries
GEO:37.09024;-95.712891
END:VEVENT
BEGIN:VEVENT
DTSTART;TZID=America/Los_Angeles:20180311T090000
DTEND;TZID=America/Los_Angeles:20180311T100000
DTSTAMP:20260423T163843
CREATED:20170912T161911Z
LAST-MODIFIED:20170912T162507Z
UID:10000565-1520758800-1520762400@www.sfdsparish.com
SUMMARY:Religious Education Class and Mass
DESCRIPTION:Classes meet Sunday mornings from 9-9:50 am in the school buildings.The children will attend 10 am Mass with their class after their regular religious education.
URL:https://www.sfdsparish.com/event/religious-education-class-3-2018-03-11/
LOCATION:School Auditorium\, United States
CATEGORIES:Ministries
GEO:37.09024;-95.712891
END:VEVENT
END:VCALENDAR