BEGIN:VCALENDAR
VERSION:2.0
PRODID:-//Saint Francis de Sales Parish - ECPv6.15.20//NONSGML v1.0//EN
CALSCALE:GREGORIAN
METHOD:PUBLISH
X-WR-CALNAME:Saint Francis de Sales Parish
X-ORIGINAL-URL:https://www.sfdsparish.com
X-WR-CALDESC:Events for Saint Francis de Sales Parish
REFRESH-INTERVAL;VALUE=DURATION:PT1H
X-Robots-Tag:noindex
X-PUBLISHED-TTL:PT1H
BEGIN:VTIMEZONE
TZID:America/Los_Angeles
BEGIN:DAYLIGHT
TZOFFSETFROM:-0800
TZOFFSETTO:-0700
TZNAME:PDT
DTSTART:20170312T100000
END:DAYLIGHT
BEGIN:STANDARD
TZOFFSETFROM:-0700
TZOFFSETTO:-0800
TZNAME:PST
DTSTART:20171105T090000
END:STANDARD
BEGIN:DAYLIGHT
TZOFFSETFROM:-0800
TZOFFSETTO:-0700
TZNAME:PDT
DTSTART:20180311T100000
END:DAYLIGHT
BEGIN:STANDARD
TZOFFSETFROM:-0700
TZOFFSETTO:-0800
TZNAME:PST
DTSTART:20181104T090000
END:STANDARD
BEGIN:DAYLIGHT
TZOFFSETFROM:-0800
TZOFFSETTO:-0700
TZNAME:PDT
DTSTART:20190310T100000
END:DAYLIGHT
BEGIN:STANDARD
TZOFFSETFROM:-0700
TZOFFSETTO:-0800
TZNAME:PST
DTSTART:20191103T090000
END:STANDARD
BEGIN:DAYLIGHT
TZOFFSETFROM:-0800
TZOFFSETTO:-0700
TZNAME:PDT
DTSTART:20200308T100000
END:DAYLIGHT
BEGIN:STANDARD
TZOFFSETFROM:-0700
TZOFFSETTO:-0800
TZNAME:PST
DTSTART:20201101T090000
END:STANDARD
BEGIN:DAYLIGHT
TZOFFSETFROM:-0800
TZOFFSETTO:-0700
TZNAME:PDT
DTSTART:20210314T100000
END:DAYLIGHT
BEGIN:STANDARD
TZOFFSETFROM:-0700
TZOFFSETTO:-0800
TZNAME:PST
DTSTART:20211107T090000
END:STANDARD
BEGIN:DAYLIGHT
TZOFFSETFROM:-0800
TZOFFSETTO:-0700
TZNAME:PDT
DTSTART:20220313T100000
END:DAYLIGHT
BEGIN:STANDARD
TZOFFSETFROM:-0700
TZOFFSETTO:-0800
TZNAME:PST
DTSTART:20221106T090000
END:STANDARD
BEGIN:DAYLIGHT
TZOFFSETFROM:-0800
TZOFFSETTO:-0700
TZNAME:PDT
DTSTART:20230312T100000
END:DAYLIGHT
BEGIN:STANDARD
TZOFFSETFROM:-0700
TZOFFSETTO:-0800
TZNAME:PST
DTSTART:20231105T090000
END:STANDARD
BEGIN:DAYLIGHT
TZOFFSETFROM:-0800
TZOFFSETTO:-0700
TZNAME:PDT
DTSTART:20240310T100000
END:DAYLIGHT
BEGIN:STANDARD
TZOFFSETFROM:-0700
TZOFFSETTO:-0800
TZNAME:PST
DTSTART:20241103T090000
END:STANDARD
BEGIN:DAYLIGHT
TZOFFSETFROM:-0800
TZOFFSETTO:-0700
TZNAME:PDT
DTSTART:20250309T100000
END:DAYLIGHT
BEGIN:STANDARD
TZOFFSETFROM:-0700
TZOFFSETTO:-0800
TZNAME:PST
DTSTART:20251102T090000
END:STANDARD
END:VTIMEZONE
BEGIN:VEVENT
DTSTART;TZID=America/Los_Angeles:20241208T080000
DTEND;TZID=America/Los_Angeles:20241208T140000
DTSTAMP:20260423T211606
CREATED:20241119T173824Z
LAST-MODIFIED:20241119T173824Z
UID:10002777-1733644800-1733666400@www.sfdsparish.com
SUMMARY:Red Cross Blood Drive
DESCRIPTION:December 8 from 8 am to 2 pm click here for more information https://www.sfdsparish.com/wp-admin/post.php?post=18085&action=edit \n 
URL:https://www.sfdsparish.com/event/red-cross-blood-drive-4/
LOCATION:Parking Lot
CATEGORIES:Ministries
END:VEVENT
BEGIN:VEVENT
DTSTART;TZID=America/Los_Angeles:20240721T080000
DTEND;TZID=America/Los_Angeles:20240721T140000
DTSTAMP:20260423T211606
CREATED:20240703T172844Z
LAST-MODIFIED:20240703T172844Z
UID:10002698-1721548800-1721570400@www.sfdsparish.com
SUMMARY:Blood Drive
DESCRIPTION:St. Francis de Sales Blood Drive – Bloodmobile in the parking lot 8 am to 2 pm. More information on this website.
URL:https://www.sfdsparish.com/event/blood-drive-8/
LOCATION:Parking Lot
CATEGORIES:Ministries
END:VEVENT
BEGIN:VEVENT
DTSTART;TZID=America/Los_Angeles:20240505T120000
DTEND;TZID=America/Los_Angeles:20240505T190000
DTSTAMP:20260423T211606
CREATED:20240416T161458Z
LAST-MODIFIED:20240416T161458Z
UID:10002692-1714910400-1714935600@www.sfdsparish.com
SUMMARY:School Festival
DESCRIPTION:Sunday Noon to 7pm – Free Admission and parking\, Rides\, Food\, Silent & Live Auction\, Fireworks & Live Entertianment.
URL:https://www.sfdsparish.com/event/school-festival-3/
LOCATION:Parking Lot
CATEGORIES:SFDS School
END:VEVENT
BEGIN:VEVENT
DTSTART;TZID=America/Los_Angeles:20240504T120000
DTEND;TZID=America/Los_Angeles:20240504T220000
DTSTAMP:20260423T211606
CREATED:20240416T161346Z
LAST-MODIFIED:20240416T161346Z
UID:10002691-1714824000-1714860000@www.sfdsparish.com
SUMMARY:School Festival
DESCRIPTION:Saturday Noon to 10 pm – Free Admission and parking\, Rides\, Food\, Silent & Live Auction\, Fireworks & Live Entertianment.
URL:https://www.sfdsparish.com/event/school-festival-2/
LOCATION:Parking Lot
CATEGORIES:SFDS School
END:VEVENT
BEGIN:VEVENT
DTSTART;TZID=America/Los_Angeles:20240503T180000
DTEND;TZID=America/Los_Angeles:20240503T220000
DTSTAMP:20260423T211606
CREATED:20240416T161123Z
LAST-MODIFIED:20240416T161123Z
UID:10002690-1714759200-1714773600@www.sfdsparish.com
SUMMARY:School Festival
DESCRIPTION:School Festival from 6pm to 10 pm – Free Admission and parking\, Rides\, Food\, Silent & Live Auction\, Fireworks & Live Entertianment.
URL:https://www.sfdsparish.com/event/school-festival/
LOCATION:Parking Lot
CATEGORIES:SFDS School
END:VEVENT
BEGIN:VEVENT
DTSTART;VALUE=DATE:20240330
DTEND;VALUE=DATE:20240331
DTSTAMP:20260423T211606
CREATED:20240312T170803Z
LAST-MODIFIED:20240328T171940Z
UID:10002687-1711756800-1711843199@www.sfdsparish.com
SUMMARY:CANCELLED Egg Hunt
DESCRIPTION:Easter Egg Hunt HAS BEEN CANCELLED DUE TO RAIN.
URL:https://www.sfdsparish.com/event/easter-egg-hunt-6/
LOCATION:Parking Lot
CATEGORIES:Ministries
END:VEVENT
BEGIN:VEVENT
DTSTART;TZID=America/Los_Angeles:20231209T090000
DTEND;TZID=America/Los_Angeles:20231209T170000
DTSTAMP:20260423T211606
CREATED:20231107T173826Z
LAST-MODIFIED:20231128T220008Z
UID:10002600-1702112400-1702141200@www.sfdsparish.com
SUMMARY:Catholic Maker Advent Market
DESCRIPTION:Venders\, music and food from 9:00 am to 5:00 pm on the school grounds. \nhttp://www.catholicmaker.com/
URL:https://www.sfdsparish.com/event/catholic-maker-advent-market/
LOCATION:Parking Lot
CATEGORIES:Organizations
END:VEVENT
BEGIN:VEVENT
DTSTART;TZID=America/Los_Angeles:20231027T170000
DTEND;TZID=America/Los_Angeles:20231027T210000
DTSTAMP:20260423T211606
CREATED:20231019T153213Z
LAST-MODIFIED:20231019T153213Z
UID:10002594-1698426000-1698440400@www.sfdsparish.com
SUMMARY:Trunk or Treat
DESCRIPTION:Knights of Columbus sponsored Trunk or treat from 5:00 pm – 9:00 pm school yard.
URL:https://www.sfdsparish.com/event/trunk-or-treat/
LOCATION:Parking Lot
CATEGORIES:Organizations
END:VEVENT
BEGIN:VEVENT
DTSTART;TZID=America/Los_Angeles:20231008T080000
DTEND;TZID=America/Los_Angeles:20231008T140000
DTSTAMP:20260423T211606
CREATED:20231003T173511Z
LAST-MODIFIED:20231003T173511Z
UID:10002591-1696752000-1696773600@www.sfdsparish.com
SUMMARY:Red Cross Blood Drive
DESCRIPTION:St. Francis Blood Drive from 8 am to 2 pm blood mobile in the parking lot. To make an appointment see home page.
URL:https://www.sfdsparish.com/event/red-cross-blood-drive-3/
LOCATION:Parking Lot
CATEGORIES:Ministries
END:VEVENT
BEGIN:VEVENT
DTSTART;TZID=America/Los_Angeles:20220416T093000
DTEND;TZID=America/Los_Angeles:20220416T120000
DTSTAMP:20260423T211606
CREATED:20220412T154734Z
LAST-MODIFIED:20220412T154734Z
UID:10001828-1650101400-1650110400@www.sfdsparish.com
SUMMARY:Easter Egg Hunt
DESCRIPTION:Egg Hunt on the SFDS grass field. All children welcome $2 per child- registration 9:30 am at auditorium.
URL:https://www.sfdsparish.com/event/easter-egg-hunt-4/
LOCATION:Parking Lot
CATEGORIES:Ministries
END:VEVENT
BEGIN:VEVENT
DTSTART;TZID=America/Los_Angeles:20211106T180000
DTEND;TZID=America/Los_Angeles:20211106T210000
DTSTAMP:20260423T211606
CREATED:20211104T184601Z
LAST-MODIFIED:20211104T184601Z
UID:10001819-1636221600-1636232400@www.sfdsparish.com
SUMMARY:Harvest Festival
DESCRIPTION:School Harvest Festival Scholarship Fundraiser. 6 PM outside on the field
URL:https://www.sfdsparish.com/event/harvest-festival/
LOCATION:Parking Lot
CATEGORIES:Ministries
END:VEVENT
BEGIN:VEVENT
DTSTART;TZID=America/Los_Angeles:20210520T103000
DTEND;TZID=America/Los_Angeles:20210520T130000
DTSTAMP:20260423T211606
CREATED:20210512T165823Z
LAST-MODIFIED:20210512T170132Z
UID:10000861-1621506600-1621515600@www.sfdsparish.com
SUMMARY:COVID-19 Vaccination Site
DESCRIPTION:10:30 am – 1:00 pm outdoor on the Dixie Cyn. side\, no appointment necessary\, J&J or Moderna
URL:https://www.sfdsparish.com/event/covid-19-vaccination-site/
LOCATION:Parking Lot
CATEGORIES:Ministries
END:VEVENT
BEGIN:VEVENT
DTSTART;TZID=America/Los_Angeles:20210314T080000
DTEND;TZID=America/Los_Angeles:20210314T140000
DTSTAMP:20260423T211606
CREATED:20210204T225140Z
LAST-MODIFIED:20210204T225140Z
UID:10001802-1615708800-1615730400@www.sfdsparish.com
SUMMARY:Blood Drive
DESCRIPTION:Community Blood drive – Bloodmobile in the parking lot 8:00 am – 2:00 pm go to redcrossblood.org and enter sponsor code StFrancisDS to schedule an appointment.
URL:https://www.sfdsparish.com/event/blood-drive-5/
LOCATION:Parking Lot
CATEGORIES:Ministries
END:VEVENT
BEGIN:VEVENT
DTSTART;TZID=America/Los_Angeles:20180325T080000
DTEND;TZID=America/Los_Angeles:20180325T140000
DTSTAMP:20260423T211606
CREATED:20180305T191618Z
LAST-MODIFIED:20180305T191618Z
UID:10001586-1521964800-1521986400@www.sfdsparish.com
SUMMARY:American Red Cross
DESCRIPTION:Blood Mobile in the parking lot 8:00 am t0 2:00 pm.
URL:https://www.sfdsparish.com/event/american-red-cross/
LOCATION:Parking Lot
CATEGORIES:Ministries
END:VEVENT
END:VCALENDAR