BEGIN:VCALENDAR
VERSION:2.0
PRODID:-//Saint Francis de Sales Parish - ECPv6.15.20//NONSGML v1.0//EN
CALSCALE:GREGORIAN
METHOD:PUBLISH
X-ORIGINAL-URL:https://www.sfdsparish.com
X-WR-CALDESC:Events for Saint Francis de Sales Parish
REFRESH-INTERVAL;VALUE=DURATION:PT1H
X-Robots-Tag:noindex
X-PUBLISHED-TTL:PT1H
BEGIN:VTIMEZONE
TZID:America/Los_Angeles
BEGIN:DAYLIGHT
TZOFFSETFROM:-0800
TZOFFSETTO:-0700
TZNAME:PDT
DTSTART:20220313T100000
END:DAYLIGHT
BEGIN:STANDARD
TZOFFSETFROM:-0700
TZOFFSETTO:-0800
TZNAME:PST
DTSTART:20221106T090000
END:STANDARD
BEGIN:DAYLIGHT
TZOFFSETFROM:-0800
TZOFFSETTO:-0700
TZNAME:PDT
DTSTART:20230312T100000
END:DAYLIGHT
BEGIN:STANDARD
TZOFFSETFROM:-0700
TZOFFSETTO:-0800
TZNAME:PST
DTSTART:20231105T090000
END:STANDARD
BEGIN:DAYLIGHT
TZOFFSETFROM:-0800
TZOFFSETTO:-0700
TZNAME:PDT
DTSTART:20240310T100000
END:DAYLIGHT
BEGIN:STANDARD
TZOFFSETFROM:-0700
TZOFFSETTO:-0800
TZNAME:PST
DTSTART:20241103T090000
END:STANDARD
BEGIN:DAYLIGHT
TZOFFSETFROM:-0800
TZOFFSETTO:-0700
TZNAME:PDT
DTSTART:20250309T100000
END:DAYLIGHT
BEGIN:STANDARD
TZOFFSETFROM:-0700
TZOFFSETTO:-0800
TZNAME:PST
DTSTART:20251102T090000
END:STANDARD
BEGIN:DAYLIGHT
TZOFFSETFROM:-0800
TZOFFSETTO:-0700
TZNAME:PDT
DTSTART:20260308T100000
END:DAYLIGHT
BEGIN:STANDARD
TZOFFSETFROM:-0700
TZOFFSETTO:-0800
TZNAME:PST
DTSTART:20261101T090000
END:STANDARD
END:VTIMEZONE
BEGIN:VEVENT
DTSTART;VALUE=DATE:20251111
DTEND;VALUE=DATE:20251112
DTSTAMP:20260423T184741
CREATED:20251103T224156Z
LAST-MODIFIED:20251103T224156Z
UID:10002896-1762819200-1762905599@www.sfdsparish.com
SUMMARY:Veteran's Day
DESCRIPTION:Parish Office closed for the holiday.
URL:https://www.sfdsparish.com/event/veterans-day-3/
LOCATION:Parish Center\, 13360 Valleyheart Drive\, Sherman Oaks\, CA\, 91423\, United States
CATEGORIES:Ministries
END:VEVENT
BEGIN:VEVENT
DTSTART;VALUE=DATE:20250901
DTEND;VALUE=DATE:20250902
DTSTAMP:20260423T184741
CREATED:20250825T225805Z
LAST-MODIFIED:20250825T225805Z
UID:10002894-1756684800-1756771199@www.sfdsparish.com
SUMMARY:Parish Office Closed
DESCRIPTION:The parish office is closed for the Labor Day holiday. The office will reopen on Tuesday.
URL:https://www.sfdsparish.com/event/parish-office-closed-19/
LOCATION:Parish Center\, 13360 Valleyheart Drive\, Sherman Oaks\, CA\, 91423\, United States
CATEGORIES:Ministries
END:VEVENT
BEGIN:VEVENT
DTSTART;VALUE=DATE:20250901
DTEND;VALUE=DATE:20250902
DTSTAMP:20260423T184741
CREATED:20250731T164232Z
LAST-MODIFIED:20250731T164232Z
UID:10002892-1756684800-1756771199@www.sfdsparish.com
SUMMARY:Labor Day
DESCRIPTION:Parish Office closed for the Labor Day Holiday.
URL:https://www.sfdsparish.com/event/labor-day-2/
LOCATION:Parish Center\, 13360 Valleyheart Drive\, Sherman Oaks\, CA\, 91423\, United States
CATEGORIES:Ministries
END:VEVENT
BEGIN:VEVENT
DTSTART;VALUE=DATE:20250725
DTEND;VALUE=DATE:20250726
DTSTAMP:20260423T184741
CREATED:20250722T193142Z
LAST-MODIFIED:20250722T193142Z
UID:10002827-1753401600-1753487999@www.sfdsparish.com
SUMMARY:Parish Office Closed
DESCRIPTION:The parish office is closed just for this Friday. We will open again on Monday July 28th.
URL:https://www.sfdsparish.com/event/parish-office-closed-17/
LOCATION:Parish Center\, 13360 Valleyheart Drive\, Sherman Oaks\, CA\, 91423\, United States
CATEGORIES:Ministries
END:VEVENT
BEGIN:VEVENT
DTSTART;VALUE=DATE:20250704
DTEND;VALUE=DATE:20250705
DTSTAMP:20260423T184741
CREATED:20250630T183300Z
LAST-MODIFIED:20250630T183300Z
UID:10002823-1751587200-1751673599@www.sfdsparish.com
SUMMARY:Parish Office Closed
DESCRIPTION:The parish office is closed for the 4th of July holiday.
URL:https://www.sfdsparish.com/event/parish-office-closed-16/
LOCATION:Parish Center\, 13360 Valleyheart Drive\, Sherman Oaks\, CA\, 91423\, United States
CATEGORIES:Ministries
END:VEVENT
BEGIN:VEVENT
DTSTART;VALUE=DATE:20250620
DTEND;VALUE=DATE:20250621
DTSTAMP:20260423T184741
CREATED:20250618T214529Z
LAST-MODIFIED:20250618T214529Z
UID:10002821-1750377600-1750463999@www.sfdsparish.com
SUMMARY:Office Closed
DESCRIPTION:The parish office is closed Friday June 20th. We will reopen on Monday June 23rd.
URL:https://www.sfdsparish.com/event/office-closed-5/
LOCATION:Parish Center\, 13360 Valleyheart Drive\, Sherman Oaks\, CA\, 91423\, United States
END:VEVENT
BEGIN:VEVENT
DTSTART;VALUE=DATE:20250120
DTEND;VALUE=DATE:20250121
DTSTAMP:20260423T184741
CREATED:20250113T200150Z
LAST-MODIFIED:20250113T200150Z
UID:10002791-1737331200-1737417599@www.sfdsparish.com
SUMMARY:Parish Office Closed
DESCRIPTION:The Parish office is closed Monday January 20th for the Martin Luther King Holiday.
URL:https://www.sfdsparish.com/event/parish-office-closed-14/
LOCATION:Parish Center\, 13360 Valleyheart Drive\, Sherman Oaks\, CA\, 91423\, United States
CATEGORIES:Holidays
END:VEVENT
BEGIN:VEVENT
DTSTART;VALUE=DATE:20250103
DTEND;VALUE=DATE:20250104
DTSTAMP:20260423T184741
CREATED:20241218T192115Z
LAST-MODIFIED:20241218T192914Z
UID:10002788-1735862400-1735948799@www.sfdsparish.com
SUMMARY:Parish Office Closed
DESCRIPTION:Parish Office closed for the Christmas Holiday
URL:https://www.sfdsparish.com/event/parish-office-closed-12/
LOCATION:Parish Center\, 13360 Valleyheart Drive\, Sherman Oaks\, CA\, 91423\, United States
CATEGORIES:Holidays
END:VEVENT
BEGIN:VEVENT
DTSTART;VALUE=DATE:20241227
DTEND;VALUE=DATE:20241228
DTSTAMP:20260423T184741
CREATED:20241218T192040Z
LAST-MODIFIED:20241218T192955Z
UID:10002787-1735257600-1735343999@www.sfdsparish.com
SUMMARY:Parish Office Closed
DESCRIPTION:Parish Office closed for the Christmas Holiday
URL:https://www.sfdsparish.com/event/parish-office-closed-11/
LOCATION:Parish Center\, 13360 Valleyheart Drive\, Sherman Oaks\, CA\, 91423\, United States
CATEGORIES:Holidays
END:VEVENT
BEGIN:VEVENT
DTSTART;VALUE=DATE:20241225
DTEND;VALUE=DATE:20241226
DTSTAMP:20260423T184741
CREATED:20241218T191956Z
LAST-MODIFIED:20241218T193010Z
UID:10002786-1735084800-1735171199@www.sfdsparish.com
SUMMARY:Parish Office Closed
DESCRIPTION:Parish Office closed for the Christmas Holiday
URL:https://www.sfdsparish.com/event/parish-office-closed-10/
LOCATION:Parish Center\, 13360 Valleyheart Drive\, Sherman Oaks\, CA\, 91423\, United States
CATEGORIES:Holidays
END:VEVENT
BEGIN:VEVENT
DTSTART;VALUE=DATE:20241224
DTEND;VALUE=DATE:20241225
DTSTAMP:20260423T184741
CREATED:20241218T192851Z
LAST-MODIFIED:20241218T193024Z
UID:10002790-1734998400-1735084799@www.sfdsparish.com
SUMMARY:Parish Office Closed
DESCRIPTION:Parish Office closed for the Christmas Holiday
URL:https://www.sfdsparish.com/event/parish-office-closed-9/
LOCATION:Parish Center\, 13360 Valleyheart Drive\, Sherman Oaks\, CA\, 91423\, United States
CATEGORIES:Holidays
END:VEVENT
BEGIN:VEVENT
DTSTART;VALUE=DATE:20241129
DTEND;VALUE=DATE:20241130
DTSTAMP:20260423T184741
CREATED:20241121T172257Z
LAST-MODIFIED:20241121T172257Z
UID:10002780-1732838400-1732924799@www.sfdsparish.com
SUMMARY:Parish Office Closed
DESCRIPTION:The parish office is closed for Thanksgiving November 28 and 29th.
URL:https://www.sfdsparish.com/event/parish-office-closed-8/
LOCATION:Parish Center\, 13360 Valleyheart Drive\, Sherman Oaks\, CA\, 91423\, United States
CATEGORIES:Organizations
END:VEVENT
BEGIN:VEVENT
DTSTART;VALUE=DATE:20241128
DTEND;VALUE=DATE:20241129
DTSTAMP:20260423T184741
CREATED:20241121T173203Z
LAST-MODIFIED:20241121T173203Z
UID:10002781-1732752000-1732838399@www.sfdsparish.com
SUMMARY:Parish Office Closed
DESCRIPTION:The Parish Office is closed for the Thanksgiving Holiday November 28th and 29th
URL:https://www.sfdsparish.com/event/parish-office-closed-7/
LOCATION:Parish Center\, 13360 Valleyheart Drive\, Sherman Oaks\, CA\, 91423\, United States
CATEGORIES:Ministries
END:VEVENT
BEGIN:VEVENT
DTSTART;VALUE=DATE:20241111
DTEND;VALUE=DATE:20241112
DTSTAMP:20260423T184741
CREATED:20241107T181020Z
LAST-MODIFIED:20241107T181020Z
UID:10002774-1731283200-1731369599@www.sfdsparish.com
SUMMARY:Parish Office Closed
DESCRIPTION:The parish office is closed for the Veteran’s Day Holiday it will reopen on Tuesday November 12th.
URL:https://www.sfdsparish.com/event/parish-office-closed-6/
LOCATION:Parish Center\, 13360 Valleyheart Drive\, Sherman Oaks\, CA\, 91423\, United States
CATEGORIES:Ministries
END:VEVENT
BEGIN:VEVENT
DTSTART;VALUE=DATE:20240712
DTEND;VALUE=DATE:20240713
DTSTAMP:20260423T184741
CREATED:20240708T214356Z
LAST-MODIFIED:20240708T214356Z
UID:10002700-1720742400-1720828799@www.sfdsparish.com
SUMMARY:Parish Office Closed
DESCRIPTION:The parish office will be closed just this Friday July 12th.
URL:https://www.sfdsparish.com/event/parish-office-closed-5/
LOCATION:Parish Center\, 13360 Valleyheart Drive\, Sherman Oaks\, CA\, 91423\, United States
CATEGORIES:Ministries
END:VEVENT
BEGIN:VEVENT
DTSTART;VALUE=DATE:20240705
DTEND;VALUE=DATE:20240706
DTSTAMP:20260423T184741
CREATED:20240701T201226Z
LAST-MODIFIED:20240701T201226Z
UID:10002697-1720137600-1720223999@www.sfdsparish.com
SUMMARY:July 5th
DESCRIPTION:The parish office will close at noon for the July 4th holiday.
URL:https://www.sfdsparish.com/event/july-5th/
LOCATION:Parish Center\, 13360 Valleyheart Drive\, Sherman Oaks\, CA\, 91423\, United States
CATEGORIES:Holidays
END:VEVENT
BEGIN:VEVENT
DTSTART;VALUE=DATE:20240704
DTEND;VALUE=DATE:20240705
DTSTAMP:20260423T184741
CREATED:20240606T214355Z
LAST-MODIFIED:20240606T214355Z
UID:10002695-1720051200-1720137599@www.sfdsparish.com
SUMMARY:July 4th Holiday
DESCRIPTION:The parish office will be closed Thursday July 4th for the holiday.
URL:https://www.sfdsparish.com/event/july-4th-holiday/
LOCATION:Parish Center\, 13360 Valleyheart Drive\, Sherman Oaks\, CA\, 91423\, United States
CATEGORIES:Ministries
END:VEVENT
BEGIN:VEVENT
DTSTART;VALUE=DATE:20240527
DTEND;VALUE=DATE:20240528
DTSTAMP:20260423T184741
CREATED:20240523T165646Z
LAST-MODIFIED:20240523T165646Z
UID:10002693-1716768000-1716854399@www.sfdsparish.com
SUMMARY:Memorial Day
DESCRIPTION:The parish office will be closed for the Memorial Day holiday.
URL:https://www.sfdsparish.com/event/memorial-day-2/
LOCATION:Parish Center\, 13360 Valleyheart Drive\, Sherman Oaks\, CA\, 91423\, United States
CATEGORIES:Holidays
END:VEVENT
BEGIN:VEVENT
DTSTART;VALUE=DATE:20240322
DTEND;VALUE=DATE:20240323
DTSTAMP:20260423T184741
CREATED:20240319T152403Z
LAST-MODIFIED:20240319T152403Z
UID:10002688-1711065600-1711151999@www.sfdsparish.com
SUMMARY:Office Closed
DESCRIPTION:The parish office will be closed just Friday March 22nd.
URL:https://www.sfdsparish.com/event/office-closed-3/
LOCATION:Parish Center\, 13360 Valleyheart Drive\, Sherman Oaks\, CA\, 91423\, United States
CATEGORIES:Organizations
END:VEVENT
BEGIN:VEVENT
DTSTART;VALUE=DATE:20240219
DTEND;VALUE=DATE:20240220
DTSTAMP:20260423T184741
CREATED:20240216T182702Z
LAST-MODIFIED:20240216T182702Z
UID:10002622-1708300800-1708387199@www.sfdsparish.com
SUMMARY:Office Closed
DESCRIPTION:The parish office will be closed for the President’s Day Holiday Monday February 19 and reopen Tuesday.
URL:https://www.sfdsparish.com/event/office-closed-2/
LOCATION:Parish Center\, 13360 Valleyheart Drive\, Sherman Oaks\, CA\, 91423\, United States
CATEGORIES:Ministries
END:VEVENT
BEGIN:VEVENT
DTSTART;TZID=America/Los_Angeles:20240207T190000
DTEND;TZID=America/Los_Angeles:20240207T194000
DTSTAMP:20260423T184741
CREATED:20240109T190446Z
LAST-MODIFIED:20240109T190446Z
UID:10002611-1707332400-1707334800@www.sfdsparish.com
SUMMARY:Baptismal Class
DESCRIPTION:Our monthly Baptismal class is moved to February 7th due to Ash Wednesday on February 14th.
URL:https://www.sfdsparish.com/event/baptismal-class/
LOCATION:Parish Center\, 13360 Valleyheart Drive\, Sherman Oaks\, CA\, 91423\, United States
CATEGORIES:Ministries
END:VEVENT
BEGIN:VEVENT
DTSTART;VALUE=DATE:20240115
DTEND;VALUE=DATE:20240116
DTSTAMP:20260423T184741
CREATED:20240110T224119Z
LAST-MODIFIED:20240110T224211Z
UID:10002614-1705276800-1705363199@www.sfdsparish.com
SUMMARY:Parish Office Closed
DESCRIPTION:The parish office will be closed for the Martin Luther King Holiday on Friday January 12th to Monday the 15th.
URL:https://www.sfdsparish.com/event/parish-office-closed-4/
LOCATION:Parish Center\, 13360 Valleyheart Drive\, Sherman Oaks\, CA\, 91423\, United States
CATEGORIES:Ministries
END:VEVENT
BEGIN:VEVENT
DTSTART;VALUE=DATE:20240112
DTEND;VALUE=DATE:20240113
DTSTAMP:20260423T184741
CREATED:20240110T224046Z
LAST-MODIFIED:20240110T224443Z
UID:10002613-1705017600-1705103999@www.sfdsparish.com
SUMMARY:Parish Office Closed
DESCRIPTION:The parish office will be closed for the Martin Luther King Holiday on Friday January 12th to Monday the 15th.
URL:https://www.sfdsparish.com/event/parish-office-closed-3/
LOCATION:Parish Center\, 13360 Valleyheart Drive\, Sherman Oaks\, CA\, 91423\, United States
CATEGORIES:Ministries
END:VEVENT
BEGIN:VEVENT
DTSTART;VALUE=DATE:20231226
DTEND;VALUE=DATE:20231227
DTSTAMP:20260423T184741
CREATED:20231221T163804Z
LAST-MODIFIED:20231221T163804Z
UID:10002610-1703548800-1703635199@www.sfdsparish.com
SUMMARY:Office Closed
DESCRIPTION:The parish office is closed for Christmas until Wednesday\, December 27th.
URL:https://www.sfdsparish.com/event/office-closed/2023-12-26/
LOCATION:Parish Center\, 13360 Valleyheart Drive\, Sherman Oaks\, CA\, 91423\, United States
CATEGORIES:Organizations
END:VEVENT
BEGIN:VEVENT
DTSTART;VALUE=DATE:20231225
DTEND;VALUE=DATE:20231226
DTSTAMP:20260423T184741
CREATED:20231221T163804Z
LAST-MODIFIED:20231221T163804Z
UID:10002609-1703462400-1703548799@www.sfdsparish.com
SUMMARY:Office Closed
DESCRIPTION:The parish office is closed for Christmas until Wednesday\, December 27th.
URL:https://www.sfdsparish.com/event/office-closed/2023-12-25/
LOCATION:Parish Center\, 13360 Valleyheart Drive\, Sherman Oaks\, CA\, 91423\, United States
CATEGORIES:Organizations
END:VEVENT
BEGIN:VEVENT
DTSTART;VALUE=DATE:20231224
DTEND;VALUE=DATE:20231225
DTSTAMP:20260423T184741
CREATED:20231221T163804Z
LAST-MODIFIED:20231221T163804Z
UID:10002608-1703376000-1703462399@www.sfdsparish.com
SUMMARY:Office Closed
DESCRIPTION:The parish office is closed for Christmas until Wednesday\, December 27th.
URL:https://www.sfdsparish.com/event/office-closed/2023-12-24/
LOCATION:Parish Center\, 13360 Valleyheart Drive\, Sherman Oaks\, CA\, 91423\, United States
CATEGORIES:Organizations
END:VEVENT
BEGIN:VEVENT
DTSTART;VALUE=DATE:20231223
DTEND;VALUE=DATE:20231224
DTSTAMP:20260423T184741
CREATED:20231221T163804Z
LAST-MODIFIED:20231221T163804Z
UID:10002607-1703289600-1703375999@www.sfdsparish.com
SUMMARY:Office Closed
DESCRIPTION:The parish office is closed for Christmas until Wednesday\, December 27th.
URL:https://www.sfdsparish.com/event/office-closed/2023-12-23/
LOCATION:Parish Center\, 13360 Valleyheart Drive\, Sherman Oaks\, CA\, 91423\, United States
CATEGORIES:Organizations
END:VEVENT
BEGIN:VEVENT
DTSTART;VALUE=DATE:20231110
DTEND;VALUE=DATE:20231111
DTSTAMP:20260423T184741
CREATED:20231107T164451Z
LAST-MODIFIED:20231107T164451Z
UID:10002596-1699574400-1699660799@www.sfdsparish.com
SUMMARY:Veteran's Day
DESCRIPTION:The parish office is closed for the Veteran’s Day Holiday.
URL:https://www.sfdsparish.com/event/veterans-day-2/
LOCATION:Parish Center\, 13360 Valleyheart Drive\, Sherman Oaks\, CA\, 91423\, United States
CATEGORIES:Ministries
END:VEVENT
BEGIN:VEVENT
DTSTART;VALUE=DATE:20230904
DTEND;VALUE=DATE:20230905
DTSTAMP:20260423T184741
CREATED:20230726T171138Z
LAST-MODIFIED:20230726T171138Z
UID:10001895-1693785600-1693871999@www.sfdsparish.com
SUMMARY:Parish Office Closed
DESCRIPTION:The parish office is closed for the Labor Day Holiday.
URL:https://www.sfdsparish.com/event/parish-office-closed-2/
LOCATION:Parish Center\, 13360 Valleyheart Drive\, Sherman Oaks\, CA\, 91423\, United States
CATEGORIES:Ministries
END:VEVENT
BEGIN:VEVENT
DTSTART;VALUE=DATE:20230704
DTEND;VALUE=DATE:20230705
DTSTAMP:20260423T184741
CREATED:20230628T162117Z
LAST-MODIFIED:20230628T162156Z
UID:10001891-1688428800-1688515199@www.sfdsparish.com
SUMMARY:Parish Office Hours
DESCRIPTION:The parish office will be closed for the July 4th holiday.
URL:https://www.sfdsparish.com/event/parish-office-hours/
LOCATION:Parish Center\, 13360 Valleyheart Drive\, Sherman Oaks\, CA\, 91423\, United States
CATEGORIES:Ministries
END:VEVENT
END:VCALENDAR