BEGIN:VCALENDAR
VERSION:2.0
PRODID:-//Saint Francis de Sales Parish - ECPv6.15.20//NONSGML v1.0//EN
CALSCALE:GREGORIAN
METHOD:PUBLISH
X-WR-CALNAME:Saint Francis de Sales Parish
X-ORIGINAL-URL:https://www.sfdsparish.com
X-WR-CALDESC:Events for Saint Francis de Sales Parish
REFRESH-INTERVAL;VALUE=DURATION:PT1H
X-Robots-Tag:noindex
X-PUBLISHED-TTL:PT1H
BEGIN:VTIMEZONE
TZID:America/Los_Angeles
BEGIN:DAYLIGHT
TZOFFSETFROM:-0800
TZOFFSETTO:-0700
TZNAME:PDT
DTSTART:20190310T100000
END:DAYLIGHT
BEGIN:STANDARD
TZOFFSETFROM:-0700
TZOFFSETTO:-0800
TZNAME:PST
DTSTART:20191103T090000
END:STANDARD
BEGIN:DAYLIGHT
TZOFFSETFROM:-0800
TZOFFSETTO:-0700
TZNAME:PDT
DTSTART:20200308T100000
END:DAYLIGHT
BEGIN:STANDARD
TZOFFSETFROM:-0700
TZOFFSETTO:-0800
TZNAME:PST
DTSTART:20201101T090000
END:STANDARD
BEGIN:DAYLIGHT
TZOFFSETFROM:-0800
TZOFFSETTO:-0700
TZNAME:PDT
DTSTART:20210314T100000
END:DAYLIGHT
BEGIN:STANDARD
TZOFFSETFROM:-0700
TZOFFSETTO:-0800
TZNAME:PST
DTSTART:20211107T090000
END:STANDARD
BEGIN:DAYLIGHT
TZOFFSETFROM:-0800
TZOFFSETTO:-0700
TZNAME:PDT
DTSTART:20220313T100000
END:DAYLIGHT
BEGIN:STANDARD
TZOFFSETFROM:-0700
TZOFFSETTO:-0800
TZNAME:PST
DTSTART:20221106T090000
END:STANDARD
BEGIN:DAYLIGHT
TZOFFSETFROM:-0800
TZOFFSETTO:-0700
TZNAME:PDT
DTSTART:20230312T100000
END:DAYLIGHT
BEGIN:STANDARD
TZOFFSETFROM:-0700
TZOFFSETTO:-0800
TZNAME:PST
DTSTART:20231105T090000
END:STANDARD
BEGIN:DAYLIGHT
TZOFFSETFROM:-0800
TZOFFSETTO:-0700
TZNAME:PDT
DTSTART:20240310T100000
END:DAYLIGHT
BEGIN:STANDARD
TZOFFSETFROM:-0700
TZOFFSETTO:-0800
TZNAME:PST
DTSTART:20241103T090000
END:STANDARD
BEGIN:DAYLIGHT
TZOFFSETFROM:-0800
TZOFFSETTO:-0700
TZNAME:PDT
DTSTART:20250309T100000
END:DAYLIGHT
BEGIN:STANDARD
TZOFFSETFROM:-0700
TZOFFSETTO:-0800
TZNAME:PST
DTSTART:20251102T090000
END:STANDARD
BEGIN:DAYLIGHT
TZOFFSETFROM:-0800
TZOFFSETTO:-0700
TZNAME:PDT
DTSTART:20260308T100000
END:DAYLIGHT
BEGIN:STANDARD
TZOFFSETFROM:-0700
TZOFFSETTO:-0800
TZNAME:PST
DTSTART:20261101T090000
END:STANDARD
BEGIN:DAYLIGHT
TZOFFSETFROM:-0800
TZOFFSETTO:-0700
TZNAME:PDT
DTSTART:20270314T100000
END:DAYLIGHT
BEGIN:STANDARD
TZOFFSETFROM:-0700
TZOFFSETTO:-0800
TZNAME:PST
DTSTART:20271107T090000
END:STANDARD
END:VTIMEZONE
BEGIN:VEVENT
DTSTART;VALUE=DATE:20260109
DTEND;VALUE=DATE:20260110
DTSTAMP:20260423T200755
CREATED:20260108T175309Z
LAST-MODIFIED:20260108T175309Z
UID:10002909-1767916800-1768003199@www.sfdsparish.com
SUMMARY:Parish Office Closed
DESCRIPTION:The parish office will be closed
URL:https://www.sfdsparish.com/event/parish-office-closed-22/
LOCATION:Parish Center\, CA
CATEGORIES:Ministries
GEO:36.778261;-119.4179324
END:VEVENT
BEGIN:VEVENT
DTSTART;VALUE=DATE:20250822
DTEND;VALUE=DATE:20250823
DTSTAMP:20260423T200755
CREATED:20250819T175534Z
LAST-MODIFIED:20250819T175534Z
UID:10002893-1755820800-1755907199@www.sfdsparish.com
SUMMARY:Parish Office Closed
DESCRIPTION:The parish office is closed just this Friday August 22nd.
URL:https://www.sfdsparish.com/event/parish-office-closed-18/
LOCATION:Parish Center\, CA
CATEGORIES:Ministries
GEO:36.778261;-119.4179324
END:VEVENT
BEGIN:VEVENT
DTSTART;VALUE=DATE:20250526
DTEND;VALUE=DATE:20250527
DTSTAMP:20260423T200755
CREATED:20250514T173549Z
LAST-MODIFIED:20250514T173549Z
UID:10002818-1748217600-1748303999@www.sfdsparish.com
SUMMARY:Memorial Day
DESCRIPTION:Parish office closed for the holiday.
URL:https://www.sfdsparish.com/event/memorial-day-3/
LOCATION:Parish Center\, CA
CATEGORIES:Organizations
GEO:36.778261;-119.4179324
END:VEVENT
BEGIN:VEVENT
DTSTART;VALUE=DATE:20250217
DTEND;VALUE=DATE:20250218
DTSTAMP:20260423T200755
CREATED:20250213T165256Z
LAST-MODIFIED:20250213T165256Z
UID:10002793-1739750400-1739836799@www.sfdsparish.com
SUMMARY:Parish Office Closed
DESCRIPTION:The parish office is closed for the President’s Day Holiday.
URL:https://www.sfdsparish.com/event/parish-office-closed-15/
LOCATION:Parish Center\, CA
CATEGORIES:Ministries
GEO:36.778261;-119.4179324
END:VEVENT
BEGIN:VEVENT
DTSTART;VALUE=DATE:20250101
DTEND;VALUE=DATE:20250102
DTSTAMP:20260423T200755
CREATED:20241218T192153Z
LAST-MODIFIED:20241218T192930Z
UID:10002789-1735689600-1735775999@www.sfdsparish.com
SUMMARY:Parish Office Closed
DESCRIPTION:Parish Office closed for the Christmas Holiday
URL:https://www.sfdsparish.com/event/parish-office-closed-13/
LOCATION:Parish Center\, CA
CATEGORIES:Holidays
GEO:36.778261;-119.4179324
END:VEVENT
BEGIN:VEVENT
DTSTART;TZID=America/Los_Angeles:20220831T190000
DTEND;TZID=America/Los_Angeles:20220831T210000
DTSTAMP:20260423T200755
CREATED:20220804T183228Z
LAST-MODIFIED:20220804T183228Z
UID:10001834-1661972400-1661979600@www.sfdsparish.com
SUMMARY:Christian Initiation of Adults
DESCRIPTION:Classes begin on 8-31 from 7 – 9 pm in the parish center.
URL:https://www.sfdsparish.com/event/christian-initiation-of-adults-3/
LOCATION:Parish Center\, CA
CATEGORIES:Ministries
GEO:36.778261;-119.4179324
END:VEVENT
BEGIN:VEVENT
DTSTART;TZID=America/Los_Angeles:20200627T090000
DTEND;TZID=America/Los_Angeles:20200627T103000
DTSTAMP:20260423T200755
CREATED:20200116T180025Z
LAST-MODIFIED:20200116T180025Z
UID:10001777-1593248400-1593253800@www.sfdsparish.com
SUMMARY:Legion of Mary
DESCRIPTION:The Legion of Mary meets in the parish center from 9 – 10:30 am
URL:https://www.sfdsparish.com/event/legion-of-mary-5/2020-06-27/
LOCATION:Parish Center\, CA
CATEGORIES:Ministries
GEO:36.778261;-119.4179324
END:VEVENT
BEGIN:VEVENT
DTSTART;TZID=America/Los_Angeles:20200620T090000
DTEND;TZID=America/Los_Angeles:20200620T103000
DTSTAMP:20260423T200755
CREATED:20200116T180025Z
LAST-MODIFIED:20200116T180025Z
UID:10001776-1592643600-1592649000@www.sfdsparish.com
SUMMARY:Legion of Mary
DESCRIPTION:The Legion of Mary meets in the parish center from 9 – 10:30 am
URL:https://www.sfdsparish.com/event/legion-of-mary-5/2020-06-20/
LOCATION:Parish Center\, CA
CATEGORIES:Ministries
GEO:36.778261;-119.4179324
END:VEVENT
BEGIN:VEVENT
DTSTART;TZID=America/Los_Angeles:20200613T090000
DTEND;TZID=America/Los_Angeles:20200613T103000
DTSTAMP:20260423T200755
CREATED:20200116T180025Z
LAST-MODIFIED:20200116T180025Z
UID:10001775-1592038800-1592044200@www.sfdsparish.com
SUMMARY:Legion of Mary
DESCRIPTION:The Legion of Mary meets in the parish center from 9 – 10:30 am
URL:https://www.sfdsparish.com/event/legion-of-mary-5/2020-06-13/
LOCATION:Parish Center\, CA
CATEGORIES:Ministries
GEO:36.778261;-119.4179324
END:VEVENT
BEGIN:VEVENT
DTSTART;TZID=America/Los_Angeles:20200606T090000
DTEND;TZID=America/Los_Angeles:20200606T103000
DTSTAMP:20260423T200755
CREATED:20200116T180025Z
LAST-MODIFIED:20200116T180025Z
UID:10001774-1591434000-1591439400@www.sfdsparish.com
SUMMARY:Legion of Mary
DESCRIPTION:The Legion of Mary meets in the parish center from 9 – 10:30 am
URL:https://www.sfdsparish.com/event/legion-of-mary-5/2020-06-06/
LOCATION:Parish Center\, CA
CATEGORIES:Ministries
GEO:36.778261;-119.4179324
END:VEVENT
BEGIN:VEVENT
DTSTART;TZID=America/Los_Angeles:20200530T090000
DTEND;TZID=America/Los_Angeles:20200530T103000
DTSTAMP:20260423T200755
CREATED:20200116T180025Z
LAST-MODIFIED:20200116T180025Z
UID:10001773-1590829200-1590834600@www.sfdsparish.com
SUMMARY:Legion of Mary
DESCRIPTION:The Legion of Mary meets in the parish center from 9 – 10:30 am
URL:https://www.sfdsparish.com/event/legion-of-mary-5/2020-05-30/
LOCATION:Parish Center\, CA
CATEGORIES:Ministries
GEO:36.778261;-119.4179324
END:VEVENT
BEGIN:VEVENT
DTSTART;TZID=America/Los_Angeles:20200523T090000
DTEND;TZID=America/Los_Angeles:20200523T103000
DTSTAMP:20260423T200755
CREATED:20200116T180025Z
LAST-MODIFIED:20200116T180025Z
UID:10001772-1590224400-1590229800@www.sfdsparish.com
SUMMARY:Legion of Mary
DESCRIPTION:The Legion of Mary meets in the parish center from 9 – 10:30 am
URL:https://www.sfdsparish.com/event/legion-of-mary-5/2020-05-23/
LOCATION:Parish Center\, CA
CATEGORIES:Ministries
GEO:36.778261;-119.4179324
END:VEVENT
BEGIN:VEVENT
DTSTART;TZID=America/Los_Angeles:20200314T090000
DTEND;TZID=America/Los_Angeles:20200314T103000
DTSTAMP:20260423T200755
CREATED:20200116T180025Z
LAST-MODIFIED:20200116T180025Z
UID:10001771-1584176400-1584181800@www.sfdsparish.com
SUMMARY:Legion of Mary
DESCRIPTION:The Legion of Mary meets in the parish center from 9 – 10:30 am
URL:https://www.sfdsparish.com/event/legion-of-mary-5/2020-03-14/
LOCATION:Parish Center\, CA
CATEGORIES:Ministries
GEO:36.778261;-119.4179324
END:VEVENT
BEGIN:VEVENT
DTSTART;TZID=America/Los_Angeles:20200311T190000
DTEND;TZID=America/Los_Angeles:20200311T200000
DTSTAMP:20260423T200755
CREATED:20191211T215813Z
LAST-MODIFIED:20191211T215813Z
UID:10000816-1583953200-1583956800@www.sfdsparish.com
SUMMARY:Meditation Prayer Group
DESCRIPTION:Be Still and Know That I Am God\nAll are welcome to join the SFDS Meditation Prayer Group. We meet every Wednesday at 7:00 p.m. for one hour in the parish center chapel. The group follows the teachings of Fr. John Main\, a Benedictine Monk\, who uses a combination of silence\, stillness and prayer. Those who are drawn to silent meditation as a way of experiencing the divine presence in their lives are encouraged to attend.\n“God is not only out there but also within.”\n\nTo learn more about the group’s practice\, go online to The World Community of Christian Meditation at www.wccm.com.
URL:https://www.sfdsparish.com/event/meditation-prayer-group/2020-03-11/
LOCATION:Parish Center\, CA
CATEGORIES:Ministries
GEO:36.778261;-119.4179324
END:VEVENT
BEGIN:VEVENT
DTSTART;TZID=America/Los_Angeles:20200307T090000
DTEND;TZID=America/Los_Angeles:20200307T103000
DTSTAMP:20260423T200755
CREATED:20200116T180025Z
LAST-MODIFIED:20200116T180025Z
UID:10001770-1583571600-1583577000@www.sfdsparish.com
SUMMARY:Legion of Mary
DESCRIPTION:The Legion of Mary meets in the parish center from 9 – 10:30 am
URL:https://www.sfdsparish.com/event/legion-of-mary-5/2020-03-07/
LOCATION:Parish Center\, CA
CATEGORIES:Ministries
GEO:36.778261;-119.4179324
END:VEVENT
BEGIN:VEVENT
DTSTART;TZID=America/Los_Angeles:20200304T190000
DTEND;TZID=America/Los_Angeles:20200304T200000
DTSTAMP:20260423T200755
CREATED:20191211T215813Z
LAST-MODIFIED:20191211T215813Z
UID:10000815-1583348400-1583352000@www.sfdsparish.com
SUMMARY:Meditation Prayer Group
DESCRIPTION:Be Still and Know That I Am God\nAll are welcome to join the SFDS Meditation Prayer Group. We meet every Wednesday at 7:00 p.m. for one hour in the parish center chapel. The group follows the teachings of Fr. John Main\, a Benedictine Monk\, who uses a combination of silence\, stillness and prayer. Those who are drawn to silent meditation as a way of experiencing the divine presence in their lives are encouraged to attend.\n“God is not only out there but also within.”\n\nTo learn more about the group’s practice\, go online to The World Community of Christian Meditation at www.wccm.com.
URL:https://www.sfdsparish.com/event/meditation-prayer-group/2020-03-04/
LOCATION:Parish Center\, CA
CATEGORIES:Ministries
GEO:36.778261;-119.4179324
END:VEVENT
BEGIN:VEVENT
DTSTART;TZID=America/Los_Angeles:20200229T090000
DTEND;TZID=America/Los_Angeles:20200229T103000
DTSTAMP:20260423T200755
CREATED:20200116T180025Z
LAST-MODIFIED:20200116T180025Z
UID:10001769-1582966800-1582972200@www.sfdsparish.com
SUMMARY:Legion of Mary
DESCRIPTION:The Legion of Mary meets in the parish center from 9 – 10:30 am
URL:https://www.sfdsparish.com/event/legion-of-mary-5/2020-02-29/
LOCATION:Parish Center\, CA
CATEGORIES:Ministries
GEO:36.778261;-119.4179324
END:VEVENT
BEGIN:VEVENT
DTSTART;TZID=America/Los_Angeles:20200226T190000
DTEND;TZID=America/Los_Angeles:20200226T200000
DTSTAMP:20260423T200755
CREATED:20191211T215813Z
LAST-MODIFIED:20191211T215813Z
UID:10000814-1582743600-1582747200@www.sfdsparish.com
SUMMARY:Meditation Prayer Group
DESCRIPTION:Be Still and Know That I Am God\nAll are welcome to join the SFDS Meditation Prayer Group. We meet every Wednesday at 7:00 p.m. for one hour in the parish center chapel. The group follows the teachings of Fr. John Main\, a Benedictine Monk\, who uses a combination of silence\, stillness and prayer. Those who are drawn to silent meditation as a way of experiencing the divine presence in their lives are encouraged to attend.\n“God is not only out there but also within.”\n\nTo learn more about the group’s practice\, go online to The World Community of Christian Meditation at www.wccm.com.
URL:https://www.sfdsparish.com/event/meditation-prayer-group/2020-02-26/
LOCATION:Parish Center\, CA
CATEGORIES:Ministries
GEO:36.778261;-119.4179324
END:VEVENT
BEGIN:VEVENT
DTSTART;TZID=America/Los_Angeles:20200222T090000
DTEND;TZID=America/Los_Angeles:20200222T103000
DTSTAMP:20260423T200755
CREATED:20200116T180025Z
LAST-MODIFIED:20200116T180025Z
UID:10001768-1582362000-1582367400@www.sfdsparish.com
SUMMARY:Legion of Mary
DESCRIPTION:The Legion of Mary meets in the parish center from 9 – 10:30 am
URL:https://www.sfdsparish.com/event/legion-of-mary-5/2020-02-22/
LOCATION:Parish Center\, CA
CATEGORIES:Ministries
GEO:36.778261;-119.4179324
END:VEVENT
BEGIN:VEVENT
DTSTART;TZID=America/Los_Angeles:20200219T190000
DTEND;TZID=America/Los_Angeles:20200219T200000
DTSTAMP:20260423T200755
CREATED:20191211T215813Z
LAST-MODIFIED:20191211T215813Z
UID:10000813-1582138800-1582142400@www.sfdsparish.com
SUMMARY:Meditation Prayer Group
DESCRIPTION:Be Still and Know That I Am God\nAll are welcome to join the SFDS Meditation Prayer Group. We meet every Wednesday at 7:00 p.m. for one hour in the parish center chapel. The group follows the teachings of Fr. John Main\, a Benedictine Monk\, who uses a combination of silence\, stillness and prayer. Those who are drawn to silent meditation as a way of experiencing the divine presence in their lives are encouraged to attend.\n“God is not only out there but also within.”\n\nTo learn more about the group’s practice\, go online to The World Community of Christian Meditation at www.wccm.com.
URL:https://www.sfdsparish.com/event/meditation-prayer-group/2020-02-19/
LOCATION:Parish Center\, CA
CATEGORIES:Ministries
GEO:36.778261;-119.4179324
END:VEVENT
BEGIN:VEVENT
DTSTART;TZID=America/Los_Angeles:20200215T090000
DTEND;TZID=America/Los_Angeles:20200215T103000
DTSTAMP:20260423T200755
CREATED:20200116T180025Z
LAST-MODIFIED:20200116T180025Z
UID:10001767-1581757200-1581762600@www.sfdsparish.com
SUMMARY:Legion of Mary
DESCRIPTION:The Legion of Mary meets in the parish center from 9 – 10:30 am
URL:https://www.sfdsparish.com/event/legion-of-mary-5/2020-02-15/
LOCATION:Parish Center\, CA
CATEGORIES:Ministries
GEO:36.778261;-119.4179324
END:VEVENT
BEGIN:VEVENT
DTSTART;TZID=America/Los_Angeles:20200212T190000
DTEND;TZID=America/Los_Angeles:20200212T200000
DTSTAMP:20260423T200755
CREATED:20191211T215813Z
LAST-MODIFIED:20191211T215813Z
UID:10000812-1581534000-1581537600@www.sfdsparish.com
SUMMARY:Meditation Prayer Group
DESCRIPTION:Be Still and Know That I Am God\nAll are welcome to join the SFDS Meditation Prayer Group. We meet every Wednesday at 7:00 p.m. for one hour in the parish center chapel. The group follows the teachings of Fr. John Main\, a Benedictine Monk\, who uses a combination of silence\, stillness and prayer. Those who are drawn to silent meditation as a way of experiencing the divine presence in their lives are encouraged to attend.\n“God is not only out there but also within.”\n\nTo learn more about the group’s practice\, go online to The World Community of Christian Meditation at www.wccm.com.
URL:https://www.sfdsparish.com/event/meditation-prayer-group/2020-02-12/
LOCATION:Parish Center\, CA
CATEGORIES:Ministries
GEO:36.778261;-119.4179324
END:VEVENT
BEGIN:VEVENT
DTSTART;TZID=America/Los_Angeles:20200208T090000
DTEND;TZID=America/Los_Angeles:20200208T103000
DTSTAMP:20260423T200755
CREATED:20200116T180025Z
LAST-MODIFIED:20200116T180025Z
UID:10001766-1581152400-1581157800@www.sfdsparish.com
SUMMARY:Legion of Mary
DESCRIPTION:The Legion of Mary meets in the parish center from 9 – 10:30 am
URL:https://www.sfdsparish.com/event/legion-of-mary-5/2020-02-08/
LOCATION:Parish Center\, CA
CATEGORIES:Ministries
GEO:36.778261;-119.4179324
END:VEVENT
BEGIN:VEVENT
DTSTART;TZID=America/Los_Angeles:20200205T190000
DTEND;TZID=America/Los_Angeles:20200205T200000
DTSTAMP:20260423T200755
CREATED:20191211T215813Z
LAST-MODIFIED:20191211T215813Z
UID:10000811-1580929200-1580932800@www.sfdsparish.com
SUMMARY:Meditation Prayer Group
DESCRIPTION:Be Still and Know That I Am God\nAll are welcome to join the SFDS Meditation Prayer Group. We meet every Wednesday at 7:00 p.m. for one hour in the parish center chapel. The group follows the teachings of Fr. John Main\, a Benedictine Monk\, who uses a combination of silence\, stillness and prayer. Those who are drawn to silent meditation as a way of experiencing the divine presence in their lives are encouraged to attend.\n“God is not only out there but also within.”\n\nTo learn more about the group’s practice\, go online to The World Community of Christian Meditation at www.wccm.com.
URL:https://www.sfdsparish.com/event/meditation-prayer-group/2020-02-05/
LOCATION:Parish Center\, CA
CATEGORIES:Ministries
GEO:36.778261;-119.4179324
END:VEVENT
BEGIN:VEVENT
DTSTART;TZID=America/Los_Angeles:20200201T090000
DTEND;TZID=America/Los_Angeles:20200201T103000
DTSTAMP:20260423T200755
CREATED:20200116T180025Z
LAST-MODIFIED:20200116T180025Z
UID:10001765-1580547600-1580553000@www.sfdsparish.com
SUMMARY:Legion of Mary
DESCRIPTION:The Legion of Mary meets in the parish center from 9 – 10:30 am
URL:https://www.sfdsparish.com/event/legion-of-mary-5/2020-02-01/
LOCATION:Parish Center\, CA
CATEGORIES:Ministries
GEO:36.778261;-119.4179324
END:VEVENT
BEGIN:VEVENT
DTSTART;TZID=America/Los_Angeles:20200129T190000
DTEND;TZID=America/Los_Angeles:20200129T200000
DTSTAMP:20260423T200755
CREATED:20191211T215813Z
LAST-MODIFIED:20191211T215813Z
UID:10000810-1580324400-1580328000@www.sfdsparish.com
SUMMARY:Meditation Prayer Group
DESCRIPTION:Be Still and Know That I Am God\nAll are welcome to join the SFDS Meditation Prayer Group. We meet every Wednesday at 7:00 p.m. for one hour in the parish center chapel. The group follows the teachings of Fr. John Main\, a Benedictine Monk\, who uses a combination of silence\, stillness and prayer. Those who are drawn to silent meditation as a way of experiencing the divine presence in their lives are encouraged to attend.\n“God is not only out there but also within.”\n\nTo learn more about the group’s practice\, go online to The World Community of Christian Meditation at www.wccm.com.
URL:https://www.sfdsparish.com/event/meditation-prayer-group/2020-01-29/
LOCATION:Parish Center\, CA
CATEGORIES:Ministries
GEO:36.778261;-119.4179324
END:VEVENT
BEGIN:VEVENT
DTSTART;TZID=America/Los_Angeles:20200125T090000
DTEND;TZID=America/Los_Angeles:20200125T103000
DTSTAMP:20260423T200755
CREATED:20200116T180025Z
LAST-MODIFIED:20200116T180025Z
UID:10001764-1579942800-1579948200@www.sfdsparish.com
SUMMARY:Legion of Mary
DESCRIPTION:The Legion of Mary meets in the parish center from 9 – 10:30 am
URL:https://www.sfdsparish.com/event/legion-of-mary-5/2020-01-25/
LOCATION:Parish Center\, CA
CATEGORIES:Ministries
GEO:36.778261;-119.4179324
END:VEVENT
BEGIN:VEVENT
DTSTART;TZID=America/Los_Angeles:20200122T190000
DTEND;TZID=America/Los_Angeles:20200122T200000
DTSTAMP:20260423T200755
CREATED:20191211T215813Z
LAST-MODIFIED:20191211T215813Z
UID:10000809-1579719600-1579723200@www.sfdsparish.com
SUMMARY:Meditation Prayer Group
DESCRIPTION:Be Still and Know That I Am God\nAll are welcome to join the SFDS Meditation Prayer Group. We meet every Wednesday at 7:00 p.m. for one hour in the parish center chapel. The group follows the teachings of Fr. John Main\, a Benedictine Monk\, who uses a combination of silence\, stillness and prayer. Those who are drawn to silent meditation as a way of experiencing the divine presence in their lives are encouraged to attend.\n“God is not only out there but also within.”\n\nTo learn more about the group’s practice\, go online to The World Community of Christian Meditation at www.wccm.com.
URL:https://www.sfdsparish.com/event/meditation-prayer-group/2020-01-22/
LOCATION:Parish Center\, CA
CATEGORIES:Ministries
GEO:36.778261;-119.4179324
END:VEVENT
BEGIN:VEVENT
DTSTART;TZID=America/Los_Angeles:20200118T090000
DTEND;TZID=America/Los_Angeles:20200118T103000
DTSTAMP:20260423T200755
CREATED:20200116T180025Z
LAST-MODIFIED:20200116T180025Z
UID:10001763-1579338000-1579343400@www.sfdsparish.com
SUMMARY:Legion of Mary
DESCRIPTION:The Legion of Mary meets in the parish center from 9 – 10:30 am
URL:https://www.sfdsparish.com/event/legion-of-mary-5/2020-01-18/
LOCATION:Parish Center\, CA
CATEGORIES:Ministries
GEO:36.778261;-119.4179324
END:VEVENT
BEGIN:VEVENT
DTSTART;TZID=America/Los_Angeles:20200115T190000
DTEND;TZID=America/Los_Angeles:20200115T200000
DTSTAMP:20260423T200755
CREATED:20191211T215813Z
LAST-MODIFIED:20191211T215813Z
UID:10000808-1579114800-1579118400@www.sfdsparish.com
SUMMARY:Meditation Prayer Group
DESCRIPTION:Be Still and Know That I Am God\nAll are welcome to join the SFDS Meditation Prayer Group. We meet every Wednesday at 7:00 p.m. for one hour in the parish center chapel. The group follows the teachings of Fr. John Main\, a Benedictine Monk\, who uses a combination of silence\, stillness and prayer. Those who are drawn to silent meditation as a way of experiencing the divine presence in their lives are encouraged to attend.\n“God is not only out there but also within.”\n\nTo learn more about the group’s practice\, go online to The World Community of Christian Meditation at www.wccm.com.
URL:https://www.sfdsparish.com/event/meditation-prayer-group/2020-01-15/
LOCATION:Parish Center\, CA
CATEGORIES:Ministries
GEO:36.778261;-119.4179324
END:VEVENT
END:VCALENDAR