BEGIN:VCALENDAR
VERSION:2.0
PRODID:-//Saint Francis de Sales Parish - ECPv6.15.20//NONSGML v1.0//EN
CALSCALE:GREGORIAN
METHOD:PUBLISH
X-WR-CALNAME:Saint Francis de Sales Parish
X-ORIGINAL-URL:https://www.sfdsparish.com
X-WR-CALDESC:Events for Saint Francis de Sales Parish
REFRESH-INTERVAL;VALUE=DURATION:PT1H
X-Robots-Tag:noindex
X-PUBLISHED-TTL:PT1H
BEGIN:VTIMEZONE
TZID:America/Los_Angeles
BEGIN:DAYLIGHT
TZOFFSETFROM:-0800
TZOFFSETTO:-0700
TZNAME:PDT
DTSTART:20210314T100000
END:DAYLIGHT
BEGIN:STANDARD
TZOFFSETFROM:-0700
TZOFFSETTO:-0800
TZNAME:PST
DTSTART:20211107T090000
END:STANDARD
BEGIN:DAYLIGHT
TZOFFSETFROM:-0800
TZOFFSETTO:-0700
TZNAME:PDT
DTSTART:20220313T100000
END:DAYLIGHT
BEGIN:STANDARD
TZOFFSETFROM:-0700
TZOFFSETTO:-0800
TZNAME:PST
DTSTART:20221106T090000
END:STANDARD
BEGIN:DAYLIGHT
TZOFFSETFROM:-0800
TZOFFSETTO:-0700
TZNAME:PDT
DTSTART:20230312T100000
END:DAYLIGHT
BEGIN:STANDARD
TZOFFSETFROM:-0700
TZOFFSETTO:-0800
TZNAME:PST
DTSTART:20231105T090000
END:STANDARD
BEGIN:DAYLIGHT
TZOFFSETFROM:-0800
TZOFFSETTO:-0700
TZNAME:PDT
DTSTART:20240310T100000
END:DAYLIGHT
BEGIN:STANDARD
TZOFFSETFROM:-0700
TZOFFSETTO:-0800
TZNAME:PST
DTSTART:20241103T090000
END:STANDARD
END:VTIMEZONE
BEGIN:VEVENT
DTSTART;VALUE=DATE:20231101
DTEND;VALUE=DATE:20231102
DTSTAMP:20260424T025036
CREATED:20231024T192515Z
LAST-MODIFIED:20231024T192647Z
UID:10002595-1698796800-1698883199@www.sfdsparish.com
SUMMARY:All Saints Day
DESCRIPTION:All Saints Day a Holy Day of Obligation Masses 8:15 am – 12:05 noon and 7:00 pm.
URL:https://www.sfdsparish.com/event/all-saints-day-8/
LOCATION:Main Church\, United States
CATEGORIES:Ministries
GEO:37.09024;-95.712891
END:VEVENT
BEGIN:VEVENT
DTSTART;VALUE=DATE:20230815
DTEND;VALUE=DATE:20230816
DTSTAMP:20260424T025036
CREATED:20230731T183352Z
LAST-MODIFIED:20230731T183352Z
UID:10001896-1692057600-1692143999@www.sfdsparish.com
SUMMARY:The Assumption of the Blessed Virgin
DESCRIPTION:The Assumption of the Blessed Virgin into Heaven is a Holy Day of Obligation. Masses will be in the main church at 8:15 am – 12:05 noon and 7:00 pm.
URL:https://www.sfdsparish.com/event/the-assumption-of-the-blessed-virgin/
LOCATION:Main Church\, United States
CATEGORIES:Ministries
GEO:37.09024;-95.712891
END:VEVENT
BEGIN:VEVENT
DTSTART;VALUE=DATE:20230513
DTEND;VALUE=DATE:20230514
DTSTAMP:20260424T025036
CREATED:20230313T215744Z
LAST-MODIFIED:20230313T215744Z
UID:10001006-1683936000-1684022399@www.sfdsparish.com
SUMMARY:First Communion Day
DESCRIPTION:First Communion Day in the main church. \n10:00 am – Parish School children and 12 noon Parish Religious Education children
URL:https://www.sfdsparish.com/event/first-communion-day/
LOCATION:Main Church\, United States
CATEGORIES:Ministries
GEO:37.09024;-95.712891
END:VEVENT
BEGIN:VEVENT
DTSTART;TZID=America/Los_Angeles:20230416T133000
DTEND;TZID=America/Los_Angeles:20230416T153000
DTSTAMP:20260424T025036
CREATED:20230411T164150Z
LAST-MODIFIED:20230411T164150Z
UID:10001016-1681651800-1681659000@www.sfdsparish.com
SUMMARY:Divine Mercy Sunday
DESCRIPTION:Divine Mercy Sunday in the main church 1:30 – 3:30 pm
URL:https://www.sfdsparish.com/event/divine-mercy-sunday-5/
LOCATION:Main Church\, United States
CATEGORIES:Ministries
GEO:37.09024;-95.712891
END:VEVENT
BEGIN:VEVENT
DTSTART;VALUE=DATE:20230409
DTEND;VALUE=DATE:20230410
DTSTAMP:20260424T025036
CREATED:20230308T190016Z
LAST-MODIFIED:20230308T190016Z
UID:10000964-1680998400-1681084799@www.sfdsparish.com
SUMMARY:Easter Sunday
DESCRIPTION:Easter Sunday Mass at 8:00 am\, 10:00 am\, 12 noon choir at 10:00 am.
URL:https://www.sfdsparish.com/event/easter-sunday-11/
LOCATION:Main Church\, United States
CATEGORIES:Ministries
GEO:37.09024;-95.712891
END:VEVENT
BEGIN:VEVENT
DTSTART;VALUE=DATE:20230408
DTEND;VALUE=DATE:20230409
DTSTAMP:20260424T025036
CREATED:20230308T185908Z
LAST-MODIFIED:20230308T185908Z
UID:10001018-1680912000-1680998399@www.sfdsparish.com
SUMMARY:Holy Saturday
DESCRIPTION:Great Easter Vigil at 7:00 pm with our choir.
URL:https://www.sfdsparish.com/event/holy-saturday-7/
LOCATION:Main Church\, United States
CATEGORIES:Ministries
GEO:37.09024;-95.712891
END:VEVENT
BEGIN:VEVENT
DTSTART;VALUE=DATE:20230407
DTEND;VALUE=DATE:20230408
DTSTAMP:20260424T025036
CREATED:20230308T185811Z
LAST-MODIFIED:20230308T185811Z
UID:10001889-1680825600-1680911999@www.sfdsparish.com
SUMMARY:Good Friday
DESCRIPTION:Good Friday Service at 1:30 pm – reading of the Passion\, Adoration of the Cross & Holy Communion.
URL:https://www.sfdsparish.com/event/good-friday-9/
LOCATION:Main Church\, United States
CATEGORIES:Ministries
GEO:37.09024;-95.712891
END:VEVENT
BEGIN:VEVENT
DTSTART;VALUE=DATE:20230406
DTEND;VALUE=DATE:20230407
DTSTAMP:20260424T025036
CREATED:20230308T185654Z
LAST-MODIFIED:20230308T185654Z
UID:10001887-1680739200-1680825599@www.sfdsparish.com
SUMMARY:Holy Thursday
DESCRIPTION:Holy Thursday Mass of the Lord’s Supper at 7:00 pm and adoration until 10:00 pm.
URL:https://www.sfdsparish.com/event/holy-thursday-10/
LOCATION:Main Church\, United States
CATEGORIES:Ministries
GEO:37.09024;-95.712891
END:VEVENT
BEGIN:VEVENT
DTSTART;VALUE=DATE:20230402
DTEND;VALUE=DATE:20230403
DTSTAMP:20260424T025036
CREATED:20230308T185527Z
LAST-MODIFIED:20230308T185527Z
UID:10001888-1680393600-1680479999@www.sfdsparish.com
SUMMARY:Palm Sunday
DESCRIPTION:Palm Sunday Mass at 8:00 am\, 10:00 am and 12:00 noon – Palms blessed and given at each Mass.
URL:https://www.sfdsparish.com/event/palm-sunday-7/
LOCATION:Main Church\, United States
CATEGORIES:Ministries
GEO:37.09024;-95.712891
END:VEVENT
BEGIN:VEVENT
DTSTART;TZID=America/Los_Angeles:20230331T190000
DTEND;TZID=America/Los_Angeles:20230331T193000
DTSTAMP:20260424T025036
CREATED:20230222T182116Z
LAST-MODIFIED:20230222T182116Z
UID:10001885-1680289200-1680291000@www.sfdsparish.com
SUMMARY:Stations of the Cross
DESCRIPTION:Stations of the Cross will be at 7 pm Friday’s during Lent in the main church.
URL:https://www.sfdsparish.com/event/stations-of-the-cross-11/2023-03-31/
LOCATION:Main Church\, United States
CATEGORIES:Ministries
GEO:37.09024;-95.712891
END:VEVENT
BEGIN:VEVENT
DTSTART;TZID=America/Los_Angeles:20230325T100000
DTEND;TZID=America/Los_Angeles:20230325T113000
DTSTAMP:20260424T025036
CREATED:20230313T215508Z
LAST-MODIFIED:20230313T215508Z
UID:10001005-1679738400-1679743800@www.sfdsparish.com
SUMMARY:Confirmation Ceremony
DESCRIPTION:Confirmation Ceremony with Bishop Wilkersson 10:00 am in the main church.
URL:https://www.sfdsparish.com/event/confirmation-ceremony/
LOCATION:Main Church\, United States
CATEGORIES:Ministries
GEO:37.09024;-95.712891
END:VEVENT
BEGIN:VEVENT
DTSTART;TZID=America/Los_Angeles:20230324T190000
DTEND;TZID=America/Los_Angeles:20230324T193000
DTSTAMP:20260424T025036
CREATED:20230222T182116Z
LAST-MODIFIED:20230222T182116Z
UID:10001884-1679684400-1679686200@www.sfdsparish.com
SUMMARY:Stations of the Cross
DESCRIPTION:Stations of the Cross will be at 7 pm Friday’s during Lent in the main church.
URL:https://www.sfdsparish.com/event/stations-of-the-cross-11/2023-03-24/
LOCATION:Main Church\, United States
CATEGORIES:Ministries
GEO:37.09024;-95.712891
END:VEVENT
BEGIN:VEVENT
DTSTART;TZID=America/Los_Angeles:20230317T190000
DTEND;TZID=America/Los_Angeles:20230317T193000
DTSTAMP:20260424T025036
CREATED:20230222T182116Z
LAST-MODIFIED:20230222T182116Z
UID:10001883-1679079600-1679081400@www.sfdsparish.com
SUMMARY:Stations of the Cross
DESCRIPTION:Stations of the Cross will be at 7 pm Friday’s during Lent in the main church.
URL:https://www.sfdsparish.com/event/stations-of-the-cross-11/2023-03-17/
LOCATION:Main Church\, United States
CATEGORIES:Ministries
GEO:37.09024;-95.712891
END:VEVENT
BEGIN:VEVENT
DTSTART;TZID=America/Los_Angeles:20230310T190000
DTEND;TZID=America/Los_Angeles:20230310T193000
DTSTAMP:20260424T025036
CREATED:20230222T182116Z
LAST-MODIFIED:20230222T182116Z
UID:10001882-1678474800-1678476600@www.sfdsparish.com
SUMMARY:Stations of the Cross
DESCRIPTION:Stations of the Cross will be at 7 pm Friday’s during Lent in the main church.
URL:https://www.sfdsparish.com/event/stations-of-the-cross-11/2023-03-10/
LOCATION:Main Church\, United States
CATEGORIES:Ministries
GEO:37.09024;-95.712891
END:VEVENT
BEGIN:VEVENT
DTSTART;TZID=America/Los_Angeles:20230303T190000
DTEND;TZID=America/Los_Angeles:20230303T193000
DTSTAMP:20260424T025036
CREATED:20230222T182116Z
LAST-MODIFIED:20230222T182116Z
UID:10001881-1677870000-1677871800@www.sfdsparish.com
SUMMARY:Stations of the Cross
DESCRIPTION:Stations of the Cross will be at 7 pm Friday’s during Lent in the main church.
URL:https://www.sfdsparish.com/event/stations-of-the-cross-11/2023-03-03/
LOCATION:Main Church\, United States
CATEGORIES:Ministries
GEO:37.09024;-95.712891
END:VEVENT
BEGIN:VEVENT
DTSTART;TZID=America/Los_Angeles:20230226T190000
DTEND;TZID=America/Los_Angeles:20230226T200000
DTSTAMP:20260424T025036
CREATED:20230215T180636Z
LAST-MODIFIED:20230215T180636Z
UID:10001879-1677438000-1677441600@www.sfdsparish.com
SUMMARY:Wagner Ensemble Concert
DESCRIPTION:Wagner Ensemble presents The Slave Letters at 7pm in the main church.
URL:https://www.sfdsparish.com/event/wagner-ensemble-concert/
LOCATION:Main Church\, United States
CATEGORIES:Organizations
GEO:37.09024;-95.712891
END:VEVENT
BEGIN:VEVENT
DTSTART;TZID=America/Los_Angeles:20230224T190000
DTEND;TZID=America/Los_Angeles:20230224T193000
DTSTAMP:20260424T025036
CREATED:20230222T182116Z
LAST-MODIFIED:20230222T182116Z
UID:10001880-1677265200-1677267000@www.sfdsparish.com
SUMMARY:Stations of the Cross
DESCRIPTION:Stations of the Cross will be at 7 pm Friday’s during Lent in the main church.
URL:https://www.sfdsparish.com/event/stations-of-the-cross-11/2023-02-24/
LOCATION:Main Church\, United States
CATEGORIES:Ministries
GEO:37.09024;-95.712891
END:VEVENT
BEGIN:VEVENT
DTSTART;TZID=America/Los_Angeles:20230222T081500
DTEND;TZID=America/Los_Angeles:20230222T200000
DTSTAMP:20260424T025036
CREATED:20230208T190708Z
LAST-MODIFIED:20230208T190708Z
UID:10001878-1677053700-1677096000@www.sfdsparish.com
SUMMARY:Ash Wednesday
DESCRIPTION:Masses on Ash Wednesday will be at 8:15 am\, 12:05 noontime and 7:00 pm.  Ashes will be given after the homily at every Mass.
URL:https://www.sfdsparish.com/event/ash-wednesday-7/
LOCATION:Main Church\, United States
CATEGORIES:Ministries
GEO:37.09024;-95.712891
END:VEVENT
BEGIN:VEVENT
DTSTART;TZID=America/Los_Angeles:20221225T080000
DTEND;TZID=America/Los_Angeles:20221225T130000
DTSTAMP:20260424T025036
CREATED:20221128T210118Z
LAST-MODIFIED:20221128T211732Z
UID:10001876-1671955200-1671973200@www.sfdsparish.com
SUMMARY:Christmas Day
DESCRIPTION:Mass at 8:00 am with cantor and organ \nMass at 10:00 am with St. Francis de Sales Choir and orchestra \nMass 12 noon with cantor and organ
URL:https://www.sfdsparish.com/event/christmas-day-8/
LOCATION:Main Church\, United States
CATEGORIES:Ministries
GEO:37.09024;-95.712891
END:VEVENT
BEGIN:VEVENT
DTSTART;TZID=America/Los_Angeles:20221224T160000
DTEND;TZID=America/Los_Angeles:20221224T193000
DTSTAMP:20260424T025036
CREATED:20221128T205926Z
LAST-MODIFIED:20221128T205926Z
UID:10001875-1671897600-1671910200@www.sfdsparish.com
SUMMARY:Christmas Eve
DESCRIPTION:Mass at 4:00 pm with cantor and piano \nMass at 6:00 pm with St. Francis de Sales Choir and orchestra
URL:https://www.sfdsparish.com/event/christmas-eve-9/
LOCATION:Main Church\, United States
CATEGORIES:Ministries
GEO:37.09024;-95.712891
END:VEVENT
BEGIN:VEVENT
DTSTART;TZID=America/Los_Angeles:20221220T190000
DTEND;TZID=America/Los_Angeles:20221220T200000
DTSTAMP:20260424T025036
CREATED:20221128T205654Z
LAST-MODIFIED:20221128T205654Z
UID:10001874-1671562800-1671566400@www.sfdsparish.com
SUMMARY:Simbang Gabi
DESCRIPTION:Simbang Gabi traditional Philippino Christmas Celebration 7:00 pm in the main church.
URL:https://www.sfdsparish.com/event/simbang-gabi-10/
LOCATION:Main Church\, United States
CATEGORIES:Ministries
GEO:37.09024;-95.712891
END:VEVENT
BEGIN:VEVENT
DTSTART;TZID=America/Los_Angeles:20221217T190000
DTEND;TZID=America/Los_Angeles:20221217T213000
DTSTAMP:20260424T025036
CREATED:20221128T204129Z
LAST-MODIFIED:20221128T205013Z
UID:10001872-1671303600-1671312600@www.sfdsparish.com
SUMMARY:Choir Christmas Concert
DESCRIPTION:December 17th 7:00 pm in the main church no fee
URL:https://www.sfdsparish.com/event/choir-christmas-concert/
LOCATION:Main Church\, United States
CATEGORIES:Ministries
GEO:37.09024;-95.712891
END:VEVENT
BEGIN:VEVENT
DTSTART;TZID=America/Los_Angeles:20221212T070000
DTEND;TZID=America/Los_Angeles:20221212T093000
DTSTAMP:20260424T025036
CREATED:20221128T204003Z
LAST-MODIFIED:20221128T204003Z
UID:10001871-1670828400-1670837400@www.sfdsparish.com
SUMMARY:Our Lady of Guadalupe
DESCRIPTION:Our Lady of Guadalupe Celebration starting at 7:15 am with Mass at 8:15 am followed by pan dulce\, champurrado\, tamales and cafe afterwards.
URL:https://www.sfdsparish.com/event/our-lady-of-guadalupe-2/
LOCATION:Main Church\, United States
CATEGORIES:Ministries
GEO:37.09024;-95.712891
END:VEVENT
BEGIN:VEVENT
DTSTART;TZID=America/Los_Angeles:20221208T080000
DTEND;TZID=America/Los_Angeles:20221208T130000
DTSTAMP:20260424T025036
CREATED:20221201T183007Z
LAST-MODIFIED:20221201T183007Z
UID:10001877-1670486400-1670504400@www.sfdsparish.com
SUMMARY:Immaculate Conception
DESCRIPTION:Immaculate Conception a Holy Day of Obligation Masses at 8:15 am and 12:05 Noon
URL:https://www.sfdsparish.com/event/immaculate-conception-5/
LOCATION:Main Church\, United States
CATEGORIES:Ministries
GEO:37.09024;-95.712891
END:VEVENT
BEGIN:VEVENT
DTSTART;TZID=America/Los_Angeles:20221124T090000
DTEND;TZID=America/Los_Angeles:20221124T100000
DTSTAMP:20260424T025036
CREATED:20221117T170620Z
LAST-MODIFIED:20221117T170620Z
UID:10001870-1669280400-1669284000@www.sfdsparish.com
SUMMARY:Thanksgiving Day Mass
DESCRIPTION:Daily Mass will be at 9:00 am on Thanksgiving Day NOT 8:15 am
URL:https://www.sfdsparish.com/event/thanksgiving-day-mass-2/
LOCATION:Main Church\, United States
CATEGORIES:Ministries
GEO:37.09024;-95.712891
END:VEVENT
BEGIN:VEVENT
DTSTART;TZID=America/Los_Angeles:20221102T080000
DTEND;TZID=America/Los_Angeles:20221102T090000
DTSTAMP:20260424T025036
CREATED:20221025T171831Z
LAST-MODIFIED:20221025T171831Z
UID:10001869-1667376000-1667379600@www.sfdsparish.com
SUMMARY:All Soul's Day
DESCRIPTION:All Soul’s Day NOT a Holy Day of Obligation. Book of Angels Mass 8:15 am
URL:https://www.sfdsparish.com/event/all-souls-day-3/
LOCATION:Main Church\, United States
CATEGORIES:Ministries
GEO:37.09024;-95.712891
END:VEVENT
BEGIN:VEVENT
DTSTART;TZID=America/Los_Angeles:20221101T080000
DTEND;TZID=America/Los_Angeles:20221101T120000
DTSTAMP:20260424T025036
CREATED:20221025T171712Z
LAST-MODIFIED:20221025T171712Z
UID:10001868-1667289600-1667304000@www.sfdsparish.com
SUMMARY:All Saints Day
DESCRIPTION:All Saints Day a Holy Day of Obligation Masses in the main church at 8:15 am and 12:05 pm. 12:05 livestreamed.
URL:https://www.sfdsparish.com/event/all-saints-day-7/
LOCATION:Main Church\, United States
CATEGORIES:Ministries
GEO:37.09024;-95.712891
END:VEVENT
BEGIN:VEVENT
DTSTART;VALUE=DATE:20220815
DTEND;VALUE=DATE:20220816
DTSTAMP:20260424T025036
CREATED:20220727T155501Z
LAST-MODIFIED:20220727T155501Z
UID:10001830-1660521600-1660607999@www.sfdsparish.com
SUMMARY:The Assumption
DESCRIPTION:August 15 is NOT a Holyday of Obligation. The Assumption of the Blessed Virgin will be celebrated on Sunday August 14th.
URL:https://www.sfdsparish.com/event/the-assumption-2/
LOCATION:Main Church\, United States
CATEGORIES:Ministries
GEO:37.09024;-95.712891
END:VEVENT
BEGIN:VEVENT
DTSTART;TZID=America/Los_Angeles:20220507T140000
DTEND;TZID=America/Los_Angeles:20220507T150000
DTSTAMP:20260424T025036
CREATED:20220504T203258Z
LAST-MODIFIED:20220504T203258Z
UID:10001829-1651932000-1651935600@www.sfdsparish.com
SUMMARY:Funeral Mass Ms. Jeannie Bas
DESCRIPTION:The funeral Mass for our long time parish secretary Ms. Jeannie Bas is 2:00 pm in the main church with a small reception to follow.
URL:https://www.sfdsparish.com/event/funeral-mass-ms-jeannie-bas/
LOCATION:Main Church\, United States
CATEGORIES:Ministries
GEO:37.09024;-95.712891
END:VEVENT
BEGIN:VEVENT
DTSTART;TZID=America/Los_Angeles:20220507T100000
DTEND;TZID=America/Los_Angeles:20220507T133000
DTSTAMP:20260424T025036
CREATED:20220406T192333Z
LAST-MODIFIED:20220406T192333Z
UID:10000886-1651917600-1651930200@www.sfdsparish.com
SUMMARY:First Communion
DESCRIPTION:First Communion for school children and children registered in Religious Education\, both in the main church \nSchool ceremony 10:00 am \nReligious Education ceremony 12 noon
URL:https://www.sfdsparish.com/event/first-communion-6/
LOCATION:Main Church\, United States
CATEGORIES:Ministries
GEO:37.09024;-95.712891
END:VEVENT
END:VCALENDAR