BEGIN:VCALENDAR
VERSION:2.0
PRODID:-//Saint Francis de Sales Parish - ECPv6.15.20//NONSGML v1.0//EN
CALSCALE:GREGORIAN
METHOD:PUBLISH
X-ORIGINAL-URL:https://www.sfdsparish.com
X-WR-CALDESC:Events for Saint Francis de Sales Parish
REFRESH-INTERVAL;VALUE=DURATION:PT1H
X-Robots-Tag:noindex
X-PUBLISHED-TTL:PT1H
BEGIN:VTIMEZONE
TZID:America/Los_Angeles
BEGIN:DAYLIGHT
TZOFFSETFROM:-0800
TZOFFSETTO:-0700
TZNAME:PDT
DTSTART:20220313T100000
END:DAYLIGHT
BEGIN:STANDARD
TZOFFSETFROM:-0700
TZOFFSETTO:-0800
TZNAME:PST
DTSTART:20221106T090000
END:STANDARD
BEGIN:DAYLIGHT
TZOFFSETFROM:-0800
TZOFFSETTO:-0700
TZNAME:PDT
DTSTART:20230312T100000
END:DAYLIGHT
BEGIN:STANDARD
TZOFFSETFROM:-0700
TZOFFSETTO:-0800
TZNAME:PST
DTSTART:20231105T090000
END:STANDARD
BEGIN:DAYLIGHT
TZOFFSETFROM:-0800
TZOFFSETTO:-0700
TZNAME:PDT
DTSTART:20240310T100000
END:DAYLIGHT
BEGIN:STANDARD
TZOFFSETFROM:-0700
TZOFFSETTO:-0800
TZNAME:PST
DTSTART:20241103T090000
END:STANDARD
BEGIN:DAYLIGHT
TZOFFSETFROM:-0800
TZOFFSETTO:-0700
TZNAME:PDT
DTSTART:20250309T100000
END:DAYLIGHT
BEGIN:STANDARD
TZOFFSETFROM:-0700
TZOFFSETTO:-0800
TZNAME:PST
DTSTART:20251102T090000
END:STANDARD
END:VTIMEZONE
BEGIN:VEVENT
DTSTART;TZID=America/Los_Angeles:20240329T133000
DTEND;TZID=America/Los_Angeles:20240329T143000
DTSTAMP:20260423T231241
CREATED:20240305T175348Z
LAST-MODIFIED:20240305T175348Z
UID:10002682-1711719000-1711722600@www.sfdsparish.com
SUMMARY:Good Friday
DESCRIPTION:Good Friday Service 1:30 pm.
URL:https://www.sfdsparish.com/event/good-friday-10/
LOCATION:Main Church\, United States
CATEGORIES:Ministries
GEO:37.09024;-95.712891
END:VEVENT
BEGIN:VEVENT
DTSTART;TZID=America/Los_Angeles:20240328T190000
DTEND;TZID=America/Los_Angeles:20240328T200000
DTSTAMP:20260423T231241
CREATED:20240305T175513Z
LAST-MODIFIED:20240305T175513Z
UID:10002683-1711652400-1711656000@www.sfdsparish.com
SUMMARY:Holy Thursday
DESCRIPTION:Evening Mass of the Lord’s Supper 7:00 pm
URL:https://www.sfdsparish.com/event/holy-thursday-11/
LOCATION:Main Church\, United States
CATEGORIES:Ministries
GEO:37.09024;-95.712891
END:VEVENT
BEGIN:VEVENT
DTSTART;VALUE=DATE:20240324
DTEND;VALUE=DATE:20240325
DTSTAMP:20260423T231241
CREATED:20240305T175636Z
LAST-MODIFIED:20240305T175636Z
UID:10002684-1711238400-1711324799@www.sfdsparish.com
SUMMARY:Palm Sunday
DESCRIPTION:Masses at 8:00 am – 10:00 am and 12 noon – Palms blessed and given at each Mass.
URL:https://www.sfdsparish.com/event/palm-sunday-8/
LOCATION:Main Church\, United States
CATEGORIES:Ministries
GEO:37.09024;-95.712891
END:VEVENT
BEGIN:VEVENT
DTSTART;TZID=America/Los_Angeles:20240323T170000
DTEND;TZID=America/Los_Angeles:20240323T180000
DTSTAMP:20260423T231241
CREATED:20240305T175926Z
LAST-MODIFIED:20240305T175926Z
UID:10002686-1711213200-1711216800@www.sfdsparish.com
SUMMARY:Saturday Vigil
DESCRIPTION:Mass at 5:00 pm Palms blessed and given.
URL:https://www.sfdsparish.com/event/saturday-vigil/
LOCATION:Main Church\, United States
CATEGORIES:Ministries
GEO:37.09024;-95.712891
END:VEVENT
BEGIN:VEVENT
DTSTART;TZID=America/Los_Angeles:20240322T190000
DTEND;TZID=America/Los_Angeles:20240322T193000
DTSTAMP:20260423T231241
CREATED:20240206T174119Z
LAST-MODIFIED:20240206T174136Z
UID:10002621-1711134000-1711135800@www.sfdsparish.com
SUMMARY:Stations of the Cross
DESCRIPTION:The Stations are prayed every Friday of Lent at 7:00 pm in the main church.
URL:https://www.sfdsparish.com/event/stations-of-the-cross-12/2024-03-22/
LOCATION:Main Church\, United States
CATEGORIES:Ministries
GEO:37.09024;-95.712891
END:VEVENT
BEGIN:VEVENT
DTSTART;TZID=America/Los_Angeles:20240315T190000
DTEND;TZID=America/Los_Angeles:20240315T193000
DTSTAMP:20260423T231241
CREATED:20240206T174119Z
LAST-MODIFIED:20240206T174136Z
UID:10002620-1710529200-1710531000@www.sfdsparish.com
SUMMARY:Stations of the Cross
DESCRIPTION:The Stations are prayed every Friday of Lent at 7:00 pm in the main church.
URL:https://www.sfdsparish.com/event/stations-of-the-cross-12/2024-03-15/
LOCATION:Main Church\, United States
CATEGORIES:Ministries
GEO:37.09024;-95.712891
END:VEVENT
BEGIN:VEVENT
DTSTART;TZID=America/Los_Angeles:20240308T190000
DTEND;TZID=America/Los_Angeles:20240308T193000
DTSTAMP:20260423T231241
CREATED:20240206T174119Z
LAST-MODIFIED:20240206T174136Z
UID:10002619-1709924400-1709926200@www.sfdsparish.com
SUMMARY:Stations of the Cross
DESCRIPTION:The Stations are prayed every Friday of Lent at 7:00 pm in the main church.
URL:https://www.sfdsparish.com/event/stations-of-the-cross-12/2024-03-08/
LOCATION:Main Church\, United States
CATEGORIES:Ministries
GEO:37.09024;-95.712891
END:VEVENT
BEGIN:VEVENT
DTSTART;TZID=America/Los_Angeles:20240301T190000
DTEND;TZID=America/Los_Angeles:20240301T193000
DTSTAMP:20260423T231241
CREATED:20240206T174119Z
LAST-MODIFIED:20240206T174136Z
UID:10002618-1709319600-1709321400@www.sfdsparish.com
SUMMARY:Stations of the Cross
DESCRIPTION:The Stations are prayed every Friday of Lent at 7:00 pm in the main church.
URL:https://www.sfdsparish.com/event/stations-of-the-cross-12/2024-03-01/
LOCATION:Main Church\, United States
CATEGORIES:Ministries
GEO:37.09024;-95.712891
END:VEVENT
BEGIN:VEVENT
DTSTART;TZID=America/Los_Angeles:20240223T190000
DTEND;TZID=America/Los_Angeles:20240223T193000
DTSTAMP:20260423T231241
CREATED:20240206T174119Z
LAST-MODIFIED:20240206T174136Z
UID:10002617-1708714800-1708716600@www.sfdsparish.com
SUMMARY:Stations of the Cross
DESCRIPTION:The Stations are prayed every Friday of Lent at 7:00 pm in the main church.
URL:https://www.sfdsparish.com/event/stations-of-the-cross-12/2024-02-23/
LOCATION:Main Church\, United States
CATEGORIES:Ministries
GEO:37.09024;-95.712891
END:VEVENT
BEGIN:VEVENT
DTSTART;TZID=America/Los_Angeles:20240216T190000
DTEND;TZID=America/Los_Angeles:20240216T193000
DTSTAMP:20260423T231241
CREATED:20240206T174119Z
LAST-MODIFIED:20240206T174136Z
UID:10002616-1708110000-1708111800@www.sfdsparish.com
SUMMARY:Stations of the Cross
DESCRIPTION:The Stations are prayed every Friday of Lent at 7:00 pm in the main church.
URL:https://www.sfdsparish.com/event/stations-of-the-cross-12/2024-02-16/
LOCATION:Main Church\, United States
CATEGORIES:Ministries
GEO:37.09024;-95.712891
END:VEVENT
BEGIN:VEVENT
DTSTART;VALUE=DATE:20240214
DTEND;VALUE=DATE:20240215
DTSTAMP:20260423T231241
CREATED:20240129T203814Z
LAST-MODIFIED:20240129T203814Z
UID:10002615-1707868800-1707955199@www.sfdsparish.com
SUMMARY:Ash Wednesday
DESCRIPTION:Ash Wednesday a Holy Day of Obligation Masses at 8:15 am – 12:05 noon and 7:00pm in the main church\, ashes distributed at all Masses.
URL:https://www.sfdsparish.com/event/ash-wednesday-8/
LOCATION:Main Church\, United States
CATEGORIES:Holidays
GEO:37.09024;-95.712891
END:VEVENT
BEGIN:VEVENT
DTSTART;TZID=America/Los_Angeles:20240210T100000
DTEND;TZID=America/Los_Angeles:20240210T113000
DTSTAMP:20260423T231241
CREATED:20230918T212605Z
LAST-MODIFIED:20230918T212605Z
UID:10002574-1707559200-1707564600@www.sfdsparish.com
SUMMARY:First Penance
DESCRIPTION:First Penance for 2nd year First Communion Class
URL:https://www.sfdsparish.com/event/first-penance-5/
LOCATION:Main Church\, United States
CATEGORIES:Ministries
GEO:37.09024;-95.712891
END:VEVENT
BEGIN:VEVENT
DTSTART;VALUE=DATE:20231225
DTEND;VALUE=DATE:20231226
DTSTAMP:20260423T231241
CREATED:20231205T214901Z
LAST-MODIFIED:20231205T215031Z
UID:10002605-1703462400-1703548799@www.sfdsparish.com
SUMMARY:Christmas Day
DESCRIPTION:Christmas Day Masses 8:00 am – 10:00 am and 12 noon
URL:https://www.sfdsparish.com/event/christmas-day-9/
LOCATION:Main Church\, United States
CATEGORIES:Holidays
GEO:37.09024;-95.712891
END:VEVENT
BEGIN:VEVENT
DTSTART;VALUE=DATE:20231224
DTEND;VALUE=DATE:20231225
DTSTAMP:20260423T231241
CREATED:20231205T215016Z
LAST-MODIFIED:20231205T215016Z
UID:10002606-1703376000-1703462399@www.sfdsparish.com
SUMMARY:Christmas Eve
DESCRIPTION:Christmas Eve Masses 4:00 pm – 6:00 pm and 10:00 pm
URL:https://www.sfdsparish.com/event/christmas-eve-10/
LOCATION:Main Church\, United States
CATEGORIES:Holidays
GEO:37.09024;-95.712891
END:VEVENT
BEGIN:VEVENT
DTSTART;TZID=America/Los_Angeles:20231219T190000
DTEND;TZID=America/Los_Angeles:20231219T203000
DTSTAMP:20260423T231241
CREATED:20231107T174237Z
LAST-MODIFIED:20231107T174237Z
UID:10002602-1703012400-1703017800@www.sfdsparish.com
SUMMARY:Simbang Gabi
DESCRIPTION:Simbang Gabi 7:00 pm in the main church
URL:https://www.sfdsparish.com/event/simbang-gabi-11/
LOCATION:Main Church\, United States
CATEGORIES:Ministries
GEO:37.09024;-95.712891
END:VEVENT
BEGIN:VEVENT
DTSTART;TZID=America/Los_Angeles:20231212T070000
DTEND;TZID=America/Los_Angeles:20231212T093000
DTSTAMP:20260423T231241
CREATED:20231107T174017Z
LAST-MODIFIED:20231107T174017Z
UID:10002601-1702364400-1702373400@www.sfdsparish.com
SUMMARY:Our Lady of Guadalupe
DESCRIPTION:Our Lady of Guadalupe Mariachis begin at 7:00 am and Mass 8:15 am refreshments right after Mass.
URL:https://www.sfdsparish.com/event/our-lady-of-guadalupe-3/
LOCATION:Main Church\, United States
CATEGORIES:Ministries
GEO:37.09024;-95.712891
END:VEVENT
BEGIN:VEVENT
DTSTART;VALUE=DATE:20231208
DTEND;VALUE=DATE:20231209
DTSTAMP:20260423T231241
CREATED:20231128T204832Z
LAST-MODIFIED:20231128T204832Z
UID:10002604-1701993600-1702079999@www.sfdsparish.com
SUMMARY:The Immaculate Conception
DESCRIPTION:Friday\, December 8th is the Immaculate Conception of the Blessed Virgin Mary. Masses on this holy day of obligation are at 8:15 am\, 12:05 noontime and 7:00 pm.
URL:https://www.sfdsparish.com/event/the-immaculate-conception/
LOCATION:Main Church\, United States
CATEGORIES:Ministries
GEO:37.09024;-95.712891
END:VEVENT
BEGIN:VEVENT
DTSTART;TZID=America/Los_Angeles:20231127T183000
DTEND;TZID=America/Los_Angeles:20231127T190000
DTSTAMP:20260423T231241
CREATED:20231107T164905Z
LAST-MODIFIED:20231107T165324Z
UID:10002599-1701109800-1701111600@www.sfdsparish.com
SUMMARY:Tree Lighting
DESCRIPTION:The Christmas tree lighting will be at 6:30 pm at the corner of Valleyheart and Dixie Cyn.
URL:https://www.sfdsparish.com/event/tree-lighting-3/
LOCATION:Main Church\, United States
CATEGORIES:Ministries
GEO:37.09024;-95.712891
END:VEVENT
BEGIN:VEVENT
DTSTART;VALUE=DATE:20231123
DTEND;VALUE=DATE:20231124
DTSTAMP:20260423T231241
CREATED:20231107T164616Z
LAST-MODIFIED:20231107T164616Z
UID:10002597-1700697600-1700783999@www.sfdsparish.com
SUMMARY:Thanksgiving
DESCRIPTION:Thanksgiving Mass is at 9:00 am in the main church.
URL:https://www.sfdsparish.com/event/thanksgiving-3/
LOCATION:Main Church\, United States
CATEGORIES:Ministries
GEO:37.09024;-95.712891
END:VEVENT
BEGIN:VEVENT
DTSTART;TZID=America/Los_Angeles:20231119T131500
DTEND;TZID=America/Los_Angeles:20231119T140000
DTSTAMP:20260423T231241
CREATED:20231107T164739Z
LAST-MODIFIED:20231107T164739Z
UID:10002598-1700399700-1700402400@www.sfdsparish.com
SUMMARY:Garden Dedication
DESCRIPTION:The healing garden will be dedicated at 1:15 after the noon Mass.
URL:https://www.sfdsparish.com/event/garden-dedication/
LOCATION:Main Church\, United States
CATEGORIES:Ministries
GEO:37.09024;-95.712891
END:VEVENT
BEGIN:VEVENT
DTSTART;VALUE=DATE:20231101
DTEND;VALUE=DATE:20231102
DTSTAMP:20260423T231241
CREATED:20231024T192515Z
LAST-MODIFIED:20231024T192647Z
UID:10002595-1698796800-1698883199@www.sfdsparish.com
SUMMARY:All Saints Day
DESCRIPTION:All Saints Day a Holy Day of Obligation Masses 8:15 am – 12:05 noon and 7:00 pm.
URL:https://www.sfdsparish.com/event/all-saints-day-8/
LOCATION:Main Church\, United States
CATEGORIES:Ministries
GEO:37.09024;-95.712891
END:VEVENT
BEGIN:VEVENT
DTSTART;VALUE=DATE:20230815
DTEND;VALUE=DATE:20230816
DTSTAMP:20260423T231241
CREATED:20230731T183352Z
LAST-MODIFIED:20230731T183352Z
UID:10001896-1692057600-1692143999@www.sfdsparish.com
SUMMARY:The Assumption of the Blessed Virgin
DESCRIPTION:The Assumption of the Blessed Virgin into Heaven is a Holy Day of Obligation. Masses will be in the main church at 8:15 am – 12:05 noon and 7:00 pm.
URL:https://www.sfdsparish.com/event/the-assumption-of-the-blessed-virgin/
LOCATION:Main Church\, United States
CATEGORIES:Ministries
GEO:37.09024;-95.712891
END:VEVENT
BEGIN:VEVENT
DTSTART;VALUE=DATE:20230513
DTEND;VALUE=DATE:20230514
DTSTAMP:20260423T231241
CREATED:20230313T215744Z
LAST-MODIFIED:20230313T215744Z
UID:10001006-1683936000-1684022399@www.sfdsparish.com
SUMMARY:First Communion Day
DESCRIPTION:First Communion Day in the main church. \n10:00 am – Parish School children and 12 noon Parish Religious Education children
URL:https://www.sfdsparish.com/event/first-communion-day/
LOCATION:Main Church\, United States
CATEGORIES:Ministries
GEO:37.09024;-95.712891
END:VEVENT
BEGIN:VEVENT
DTSTART;TZID=America/Los_Angeles:20230416T133000
DTEND;TZID=America/Los_Angeles:20230416T153000
DTSTAMP:20260423T231241
CREATED:20230411T164150Z
LAST-MODIFIED:20230411T164150Z
UID:10001016-1681651800-1681659000@www.sfdsparish.com
SUMMARY:Divine Mercy Sunday
DESCRIPTION:Divine Mercy Sunday in the main church 1:30 – 3:30 pm
URL:https://www.sfdsparish.com/event/divine-mercy-sunday-5/
LOCATION:Main Church\, United States
CATEGORIES:Ministries
GEO:37.09024;-95.712891
END:VEVENT
BEGIN:VEVENT
DTSTART;VALUE=DATE:20230409
DTEND;VALUE=DATE:20230410
DTSTAMP:20260423T231241
CREATED:20230308T190016Z
LAST-MODIFIED:20230308T190016Z
UID:10000964-1680998400-1681084799@www.sfdsparish.com
SUMMARY:Easter Sunday
DESCRIPTION:Easter Sunday Mass at 8:00 am\, 10:00 am\, 12 noon choir at 10:00 am.
URL:https://www.sfdsparish.com/event/easter-sunday-11/
LOCATION:Main Church\, United States
CATEGORIES:Ministries
GEO:37.09024;-95.712891
END:VEVENT
BEGIN:VEVENT
DTSTART;VALUE=DATE:20230408
DTEND;VALUE=DATE:20230409
DTSTAMP:20260423T231241
CREATED:20230308T185908Z
LAST-MODIFIED:20230308T185908Z
UID:10001018-1680912000-1680998399@www.sfdsparish.com
SUMMARY:Holy Saturday
DESCRIPTION:Great Easter Vigil at 7:00 pm with our choir.
URL:https://www.sfdsparish.com/event/holy-saturday-7/
LOCATION:Main Church\, United States
CATEGORIES:Ministries
GEO:37.09024;-95.712891
END:VEVENT
BEGIN:VEVENT
DTSTART;VALUE=DATE:20230407
DTEND;VALUE=DATE:20230408
DTSTAMP:20260423T231241
CREATED:20230308T185811Z
LAST-MODIFIED:20230308T185811Z
UID:10001889-1680825600-1680911999@www.sfdsparish.com
SUMMARY:Good Friday
DESCRIPTION:Good Friday Service at 1:30 pm – reading of the Passion\, Adoration of the Cross & Holy Communion.
URL:https://www.sfdsparish.com/event/good-friday-9/
LOCATION:Main Church\, United States
CATEGORIES:Ministries
GEO:37.09024;-95.712891
END:VEVENT
BEGIN:VEVENT
DTSTART;VALUE=DATE:20230406
DTEND;VALUE=DATE:20230407
DTSTAMP:20260423T231241
CREATED:20230308T185654Z
LAST-MODIFIED:20230308T185654Z
UID:10001887-1680739200-1680825599@www.sfdsparish.com
SUMMARY:Holy Thursday
DESCRIPTION:Holy Thursday Mass of the Lord’s Supper at 7:00 pm and adoration until 10:00 pm.
URL:https://www.sfdsparish.com/event/holy-thursday-10/
LOCATION:Main Church\, United States
CATEGORIES:Ministries
GEO:37.09024;-95.712891
END:VEVENT
BEGIN:VEVENT
DTSTART;VALUE=DATE:20230402
DTEND;VALUE=DATE:20230403
DTSTAMP:20260423T231241
CREATED:20230308T185527Z
LAST-MODIFIED:20230308T185527Z
UID:10001888-1680393600-1680479999@www.sfdsparish.com
SUMMARY:Palm Sunday
DESCRIPTION:Palm Sunday Mass at 8:00 am\, 10:00 am and 12:00 noon – Palms blessed and given at each Mass.
URL:https://www.sfdsparish.com/event/palm-sunday-7/
LOCATION:Main Church\, United States
CATEGORIES:Ministries
GEO:37.09024;-95.712891
END:VEVENT
BEGIN:VEVENT
DTSTART;TZID=America/Los_Angeles:20230331T190000
DTEND;TZID=America/Los_Angeles:20230331T193000
DTSTAMP:20260423T231241
CREATED:20230222T182116Z
LAST-MODIFIED:20230222T182116Z
UID:10001885-1680289200-1680291000@www.sfdsparish.com
SUMMARY:Stations of the Cross
DESCRIPTION:Stations of the Cross will be at 7 pm Friday’s during Lent in the main church.
URL:https://www.sfdsparish.com/event/stations-of-the-cross-11/2023-03-31/
LOCATION:Main Church\, United States
CATEGORIES:Ministries
GEO:37.09024;-95.712891
END:VEVENT
END:VCALENDAR