BEGIN:VCALENDAR
VERSION:2.0
PRODID:-//Saint Francis de Sales Parish - ECPv6.15.20//NONSGML v1.0//EN
CALSCALE:GREGORIAN
METHOD:PUBLISH
X-ORIGINAL-URL:https://www.sfdsparish.com
X-WR-CALDESC:Events for Saint Francis de Sales Parish
REFRESH-INTERVAL;VALUE=DURATION:PT1H
X-Robots-Tag:noindex
X-PUBLISHED-TTL:PT1H
BEGIN:VTIMEZONE
TZID:America/Los_Angeles
BEGIN:DAYLIGHT
TZOFFSETFROM:-0800
TZOFFSETTO:-0700
TZNAME:PDT
DTSTART:20210314T100000
END:DAYLIGHT
BEGIN:STANDARD
TZOFFSETFROM:-0700
TZOFFSETTO:-0800
TZNAME:PST
DTSTART:20211107T090000
END:STANDARD
BEGIN:DAYLIGHT
TZOFFSETFROM:-0800
TZOFFSETTO:-0700
TZNAME:PDT
DTSTART:20220313T100000
END:DAYLIGHT
BEGIN:STANDARD
TZOFFSETFROM:-0700
TZOFFSETTO:-0800
TZNAME:PST
DTSTART:20221106T090000
END:STANDARD
BEGIN:DAYLIGHT
TZOFFSETFROM:-0800
TZOFFSETTO:-0700
TZNAME:PDT
DTSTART:20230312T100000
END:DAYLIGHT
BEGIN:STANDARD
TZOFFSETFROM:-0700
TZOFFSETTO:-0800
TZNAME:PST
DTSTART:20231105T090000
END:STANDARD
BEGIN:DAYLIGHT
TZOFFSETFROM:-0800
TZOFFSETTO:-0700
TZNAME:PDT
DTSTART:20240310T100000
END:DAYLIGHT
BEGIN:STANDARD
TZOFFSETFROM:-0700
TZOFFSETTO:-0800
TZNAME:PST
DTSTART:20241103T090000
END:STANDARD
END:VTIMEZONE
BEGIN:VEVENT
DTSTART;TZID=America/Los_Angeles:20230430T090000
DTEND;TZID=America/Los_Angeles:20230430T100000
DTSTAMP:20260424T004757
CREATED:20220920T203656Z
LAST-MODIFIED:20220920T204302Z
UID:10000931-1682845200-1682848800@www.sfdsparish.com
SUMMARY:CRE Class and Mass
DESCRIPTION:Religious Education Class from 9:00 am to 9:50 am. Attend 10 am Mass after classes
URL:https://www.sfdsparish.com/event/cre-class-7-2023-04-30/
LOCATION:CA\, United States
CATEGORIES:Ministries
GEO:36.778261;-119.4179324
END:VEVENT
BEGIN:VEVENT
DTSTART;TZID=America/Los_Angeles:20230423T090000
DTEND;TZID=America/Los_Angeles:20230423T100000
DTSTAMP:20260424T004757
CREATED:20220920T203656Z
LAST-MODIFIED:20220920T203724Z
UID:10001858-1682240400-1682244000@www.sfdsparish.com
SUMMARY:CRE Class
DESCRIPTION:Religious Education Class from 9:00 am to 9:50 am.
URL:https://www.sfdsparish.com/event/cre-class-7-2023-01-08/2023-04-23/
LOCATION:CA\, United States
CATEGORIES:Ministries
GEO:36.778261;-119.4179324
END:VEVENT
BEGIN:VEVENT
DTSTART;TZID=America/Los_Angeles:20230416T090000
DTEND;TZID=America/Los_Angeles:20230416T100000
DTSTAMP:20260424T004757
CREATED:20220920T203656Z
LAST-MODIFIED:20220920T203724Z
UID:10001857-1681635600-1681639200@www.sfdsparish.com
SUMMARY:CRE Class
DESCRIPTION:Religious Education Class from 9:00 am to 9:50 am.
URL:https://www.sfdsparish.com/event/cre-class-7-2023-01-08/2023-04-16/
LOCATION:CA\, United States
CATEGORIES:Ministries
GEO:36.778261;-119.4179324
END:VEVENT
BEGIN:VEVENT
DTSTART;TZID=America/Los_Angeles:20230409T090000
DTEND;TZID=America/Los_Angeles:20230409T100000
DTSTAMP:20260424T004757
CREATED:20220920T203656Z
LAST-MODIFIED:20220920T204232Z
UID:10000929-1681030800-1681034400@www.sfdsparish.com
SUMMARY:NO CRE Class
DESCRIPTION:Easter Holiday
URL:https://www.sfdsparish.com/event/cre-class-7-2023-04-09/
LOCATION:CA\, United States
CATEGORIES:Ministries
GEO:36.778261;-119.4179324
END:VEVENT
BEGIN:VEVENT
DTSTART;TZID=America/Los_Angeles:20230402T090000
DTEND;TZID=America/Los_Angeles:20230402T100000
DTSTAMP:20260424T004757
CREATED:20220920T203656Z
LAST-MODIFIED:20220920T203724Z
UID:10001856-1680426000-1680429600@www.sfdsparish.com
SUMMARY:CRE Class
DESCRIPTION:Religious Education Class from 9:00 am to 9:50 am.
URL:https://www.sfdsparish.com/event/cre-class-7-2023-01-08/2023-04-02/
LOCATION:CA\, United States
CATEGORIES:Ministries
GEO:36.778261;-119.4179324
END:VEVENT
BEGIN:VEVENT
DTSTART;TZID=America/Los_Angeles:20230326T090000
DTEND;TZID=America/Los_Angeles:20230326T100000
DTSTAMP:20260424T004757
CREATED:20220920T203656Z
LAST-MODIFIED:20220920T205048Z
UID:10000927-1679821200-1679824800@www.sfdsparish.com
SUMMARY:CRE Class
DESCRIPTION:Religious Education Class from 9:00 am to 9:50 am.
URL:https://www.sfdsparish.com/event/cre-class-7-2023-03-26/
LOCATION:CA\, United States
CATEGORIES:Ministries
GEO:36.778261;-119.4179324
END:VEVENT
BEGIN:VEVENT
DTSTART;TZID=America/Los_Angeles:20230319T090000
DTEND;TZID=America/Los_Angeles:20230319T100000
DTSTAMP:20260424T004757
CREATED:20220920T203656Z
LAST-MODIFIED:20220920T204207Z
UID:10000954-1679216400-1679220000@www.sfdsparish.com
SUMMARY:CRE Class and Mass
DESCRIPTION:Religious Education Class from 9:00 am to 9:50 am. Attend 10 am Mass after class.
URL:https://www.sfdsparish.com/event/cre-class-7-2023-03-19/
LOCATION:CA\, United States
CATEGORIES:Ministries
GEO:36.778261;-119.4179324
END:VEVENT
BEGIN:VEVENT
DTSTART;TZID=America/Los_Angeles:20230319T084500
DTEND;TZID=America/Los_Angeles:20230319T094500
DTSTAMP:20260424T004757
CREATED:20220920T205509Z
LAST-MODIFIED:20220920T205816Z
UID:10001867-1679215500-1679219100@www.sfdsparish.com
SUMMARY:Teen Confirmation Class and Mass
DESCRIPTION:Teen Confirmation Class from 8:45 – 9:45 am. Students will attend 10 am Mass after classes.
URL:https://www.sfdsparish.com/event/teen-confirmation-class-14-2023-03-19/
LOCATION:CA\, United States
CATEGORIES:Ministries
GEO:36.778261;-119.4179324
END:VEVENT
BEGIN:VEVENT
DTSTART;TZID=America/Los_Angeles:20230312T090000
DTEND;TZID=America/Los_Angeles:20230312T100000
DTSTAMP:20260424T004757
CREATED:20220920T203656Z
LAST-MODIFIED:20220920T203724Z
UID:10001855-1678611600-1678615200@www.sfdsparish.com
SUMMARY:CRE Class
DESCRIPTION:Religious Education Class from 9:00 am to 9:50 am.
URL:https://www.sfdsparish.com/event/cre-class-7-2023-01-08/2023-03-12/
LOCATION:CA\, United States
CATEGORIES:Ministries
GEO:36.778261;-119.4179324
END:VEVENT
BEGIN:VEVENT
DTSTART;TZID=America/Los_Angeles:20230312T084500
DTEND;TZID=America/Los_Angeles:20230312T094500
DTSTAMP:20260424T004757
CREATED:20220920T205509Z
LAST-MODIFIED:20220920T205509Z
UID:10001864-1678610700-1678614300@www.sfdsparish.com
SUMMARY:Teen Confirmation Class
DESCRIPTION:Teen Confirmation Class from 8:45 – 9:45 am
URL:https://www.sfdsparish.com/event/teen-confirmation-class-14/2023-03-12/
LOCATION:CA\, United States
CATEGORIES:Ministries
GEO:36.778261;-119.4179324
END:VEVENT
BEGIN:VEVENT
DTSTART;TZID=America/Los_Angeles:20230305T090000
DTEND;TZID=America/Los_Angeles:20230305T100000
DTSTAMP:20260424T004757
CREATED:20220920T203656Z
LAST-MODIFIED:20220920T203724Z
UID:10001854-1678006800-1678010400@www.sfdsparish.com
SUMMARY:CRE Class
DESCRIPTION:Religious Education Class from 9:00 am to 9:50 am.
URL:https://www.sfdsparish.com/event/cre-class-7-2023-01-08/2023-03-05/
LOCATION:CA\, United States
CATEGORIES:Ministries
GEO:36.778261;-119.4179324
END:VEVENT
BEGIN:VEVENT
DTSTART;TZID=America/Los_Angeles:20230305T084500
DTEND;TZID=America/Los_Angeles:20230305T094500
DTSTAMP:20260424T004757
CREATED:20220920T205509Z
LAST-MODIFIED:20220920T205509Z
UID:10001863-1678005900-1678009500@www.sfdsparish.com
SUMMARY:Teen Confirmation Class
DESCRIPTION:Teen Confirmation Class from 8:45 – 9:45 am
URL:https://www.sfdsparish.com/event/teen-confirmation-class-14/2023-03-05/
LOCATION:CA\, United States
CATEGORIES:Ministries
GEO:36.778261;-119.4179324
END:VEVENT
BEGIN:VEVENT
DTSTART;TZID=America/Los_Angeles:20230226T090000
DTEND;TZID=America/Los_Angeles:20230226T100000
DTSTAMP:20260424T004757
CREATED:20220920T203656Z
LAST-MODIFIED:20220920T203724Z
UID:10001853-1677402000-1677405600@www.sfdsparish.com
SUMMARY:CRE Class
DESCRIPTION:Religious Education Class from 9:00 am to 9:50 am.
URL:https://www.sfdsparish.com/event/cre-class-7-2023-01-08/2023-02-26/
LOCATION:CA\, United States
CATEGORIES:Ministries
GEO:36.778261;-119.4179324
END:VEVENT
BEGIN:VEVENT
DTSTART;TZID=America/Los_Angeles:20230226T084500
DTEND;TZID=America/Los_Angeles:20230226T094500
DTSTAMP:20260424T004757
CREATED:20220920T205509Z
LAST-MODIFIED:20220920T205509Z
UID:10001862-1677401100-1677404700@www.sfdsparish.com
SUMMARY:Teen Confirmation Class
DESCRIPTION:Teen Confirmation Class from 8:45 – 9:45 am
URL:https://www.sfdsparish.com/event/teen-confirmation-class-14/2023-02-26/
LOCATION:CA\, United States
CATEGORIES:Ministries
GEO:36.778261;-119.4179324
END:VEVENT
BEGIN:VEVENT
DTSTART;TZID=America/Los_Angeles:20230219T090000
DTEND;TZID=America/Los_Angeles:20230219T100000
DTSTAMP:20260424T004757
CREATED:20220920T203656Z
LAST-MODIFIED:20220920T204128Z
UID:10000952-1676797200-1676800800@www.sfdsparish.com
SUMMARY:NO CRE Class
DESCRIPTION:Presidents Holiday
URL:https://www.sfdsparish.com/event/cre-class-7-2023-02-19/
LOCATION:CA\, United States
CATEGORIES:Ministries
GEO:36.778261;-119.4179324
END:VEVENT
BEGIN:VEVENT
DTSTART;TZID=America/Los_Angeles:20230219T084500
DTEND;TZID=America/Los_Angeles:20230219T094500
DTSTAMP:20260424T004757
CREATED:20220920T205509Z
LAST-MODIFIED:20220920T205604Z
UID:10001866-1676796300-1676799900@www.sfdsparish.com
SUMMARY:NO Teen Confirmation Class
DESCRIPTION:Presidents Holiday
URL:https://www.sfdsparish.com/event/teen-confirmation-class-14-2023-02-19/
LOCATION:CA\, United States
CATEGORIES:Ministries
GEO:36.778261;-119.4179324
END:VEVENT
BEGIN:VEVENT
DTSTART;TZID=America/Los_Angeles:20230212T090000
DTEND;TZID=America/Los_Angeles:20230212T100000
DTSTAMP:20260424T004757
CREATED:20220920T203656Z
LAST-MODIFIED:20220920T204058Z
UID:10000950-1676192400-1676196000@www.sfdsparish.com
SUMMARY:CRE Class and Mass
DESCRIPTION:Religious Education Class from 9:00 am to 9:50 am. Attend 10 am Mass after classes
URL:https://www.sfdsparish.com/event/cre-class-7-2023-02-12/
LOCATION:CA\, United States
CATEGORIES:Ministries
GEO:36.778261;-119.4179324
END:VEVENT
BEGIN:VEVENT
DTSTART;TZID=America/Los_Angeles:20230212T084500
DTEND;TZID=America/Los_Angeles:20230212T094500
DTSTAMP:20260424T004757
CREATED:20220920T205509Z
LAST-MODIFIED:20220920T205702Z
UID:10001865-1676191500-1676195100@www.sfdsparish.com
SUMMARY:Teen Confirmation Class and Mass
DESCRIPTION:Teen Confirmation Class from 8:45 – 9:45 am. Students will attend Mass at 10:00 am after classes
URL:https://www.sfdsparish.com/event/teen-confirmation-class-14-2023-02-12/
LOCATION:CA\, United States
CATEGORIES:Ministries
GEO:36.778261;-119.4179324
END:VEVENT
BEGIN:VEVENT
DTSTART;TZID=America/Los_Angeles:20230205T090000
DTEND;TZID=America/Los_Angeles:20230205T100000
DTSTAMP:20260424T004757
CREATED:20220920T203656Z
LAST-MODIFIED:20220920T203724Z
UID:10001852-1675587600-1675591200@www.sfdsparish.com
SUMMARY:CRE Class
DESCRIPTION:Religious Education Class from 9:00 am to 9:50 am.
URL:https://www.sfdsparish.com/event/cre-class-7-2023-01-08/2023-02-05/
LOCATION:CA\, United States
CATEGORIES:Ministries
GEO:36.778261;-119.4179324
END:VEVENT
BEGIN:VEVENT
DTSTART;TZID=America/Los_Angeles:20230205T084500
DTEND;TZID=America/Los_Angeles:20230205T094500
DTSTAMP:20260424T004757
CREATED:20220920T205509Z
LAST-MODIFIED:20220920T205509Z
UID:10001861-1675586700-1675590300@www.sfdsparish.com
SUMMARY:Teen Confirmation Class
DESCRIPTION:Teen Confirmation Class from 8:45 – 9:45 am
URL:https://www.sfdsparish.com/event/teen-confirmation-class-14/2023-02-05/
LOCATION:CA\, United States
CATEGORIES:Ministries
GEO:36.778261;-119.4179324
END:VEVENT
BEGIN:VEVENT
DTSTART;TZID=America/Los_Angeles:20230129T090000
DTEND;TZID=America/Los_Angeles:20230129T100000
DTSTAMP:20260424T004757
CREATED:20220920T203656Z
LAST-MODIFIED:20220920T204013Z
UID:10000948-1674982800-1674986400@www.sfdsparish.com
SUMMARY:NO CRE Class
DESCRIPTION:Catholic Schools Week Holiday
URL:https://www.sfdsparish.com/event/cre-class-7-2023-01-29/
LOCATION:CA\, United States
CATEGORIES:Ministries
GEO:36.778261;-119.4179324
END:VEVENT
BEGIN:VEVENT
DTSTART;TZID=America/Los_Angeles:20230122T090000
DTEND;TZID=America/Los_Angeles:20230122T100000
DTSTAMP:20260424T004757
CREATED:20220920T203656Z
LAST-MODIFIED:20220920T203924Z
UID:10000946-1674378000-1674381600@www.sfdsparish.com
SUMMARY:CRE Class and Mass
DESCRIPTION:Religious Education Class from 9:00 am to 9:50 am. Classes will attend 10 am Mass after class.
URL:https://www.sfdsparish.com/event/cre-class-7-2023-01-22/
LOCATION:CA\, United States
CATEGORIES:Ministries
GEO:36.778261;-119.4179324
END:VEVENT
BEGIN:VEVENT
DTSTART;TZID=America/Los_Angeles:20230115T090000
DTEND;TZID=America/Los_Angeles:20230115T100000
DTSTAMP:20260424T004757
CREATED:20220920T203656Z
LAST-MODIFIED:20220920T203826Z
UID:10000926-1673773200-1673776800@www.sfdsparish.com
SUMMARY:NO CRE Class
DESCRIPTION:Martin Luther King Holiday
URL:https://www.sfdsparish.com/event/cre-class-7-2023-01-15/
LOCATION:CA\, United States
CATEGORIES:Ministries
GEO:36.778261;-119.4179324
END:VEVENT
BEGIN:VEVENT
DTSTART;TZID=America/Los_Angeles:20230108T090000
DTEND;TZID=America/Los_Angeles:20230108T100000
DTSTAMP:20260424T004757
CREATED:20220920T203656Z
LAST-MODIFIED:20220920T203724Z
UID:10001851-1673168400-1673172000@www.sfdsparish.com
SUMMARY:CRE Class
DESCRIPTION:Religious Education Class from 9:00 am to 9:50 am.
URL:https://www.sfdsparish.com/event/cre-class-7-2023-01-08/2023-01-08/
LOCATION:CA\, United States
CATEGORIES:Ministries
GEO:36.778261;-119.4179324
END:VEVENT
BEGIN:VEVENT
DTSTART;TZID=America/Los_Angeles:20230101T090000
DTEND;TZID=America/Los_Angeles:20230101T100000
DTSTAMP:20260424T004757
CREATED:20220920T203656Z
LAST-MODIFIED:20220920T203743Z
UID:10001850-1672563600-1672567200@www.sfdsparish.com
SUMMARY:NO CRE Class
DESCRIPTION:Christmas Holiday
URL:https://www.sfdsparish.com/event/cre-class-7/
LOCATION:CA\, United States
CATEGORIES:Ministries
GEO:36.778261;-119.4179324
END:VEVENT
BEGIN:VEVENT
DTSTART;TZID=America/Los_Angeles:20221225T090000
DTEND;TZID=America/Los_Angeles:20221225T100000
DTSTAMP:20260424T004757
CREATED:20220920T200830Z
LAST-MODIFIED:20220920T200922Z
UID:10001849-1671958800-1671962400@www.sfdsparish.com
SUMMARY:NO CRE Class
DESCRIPTION:Christmas Holiday
URL:https://www.sfdsparish.com/event/cre-class-6-2022-12-25/
LOCATION:CA\, United States
GEO:36.778261;-119.4179324
END:VEVENT
BEGIN:VEVENT
DTSTART;TZID=America/Los_Angeles:20221219T190000
DTEND;TZID=America/Los_Angeles:20221219T200000
DTSTAMP:20260424T004757
CREATED:20221128T205331Z
LAST-MODIFIED:20221215T215147Z
UID:10001873-1671476400-1671480000@www.sfdsparish.com
SUMMARY:Christmas Penance Service
DESCRIPTION:Our Christmas Penance Service will be on December 19th 7:00 pm at St. Cyril of Jerusalem – located at 15520 Ventura Blvd. Encino\, 91436
URL:https://www.sfdsparish.com/event/christmas-penance-service/
LOCATION:CA\, United States
CATEGORIES:Ministries
GEO:36.778261;-119.4179324
END:VEVENT
BEGIN:VEVENT
DTSTART;TZID=America/Los_Angeles:20221218T090000
DTEND;TZID=America/Los_Angeles:20221218T100000
DTSTAMP:20260424T004757
CREATED:20220920T200830Z
LAST-MODIFIED:20220920T200953Z
UID:10001848-1671354000-1671357600@www.sfdsparish.com
SUMMARY:NO CRE Class
DESCRIPTION:Christmas Holiday
URL:https://www.sfdsparish.com/event/cre-class-6-2022-12-18/
LOCATION:CA\, United States
GEO:36.778261;-119.4179324
END:VEVENT
BEGIN:VEVENT
DTSTART;TZID=America/Los_Angeles:20221211T090000
DTEND;TZID=America/Los_Angeles:20221211T100000
DTSTAMP:20260424T004757
CREATED:20220920T200830Z
LAST-MODIFIED:20220920T201026Z
UID:10001847-1670749200-1670752800@www.sfdsparish.com
SUMMARY:CRE Class and Mass
DESCRIPTION:Religious Education Class 9 am to 9:50 am 10 am Mass after class
URL:https://www.sfdsparish.com/event/cre-class-6-2022-12-11/
LOCATION:CA\, United States
GEO:36.778261;-119.4179324
END:VEVENT
BEGIN:VEVENT
DTSTART;TZID=America/Los_Angeles:20221204T090000
DTEND;TZID=America/Los_Angeles:20221204T095000
DTSTAMP:20260424T004757
CREATED:20220920T200830Z
LAST-MODIFIED:20220920T210550Z
UID:10001843-1670144400-1670147400@www.sfdsparish.com
SUMMARY:CRE Class
DESCRIPTION:Religious Education Class 9 am to 9:50 am
URL:https://www.sfdsparish.com/event/cre-class-6/2022-12-04/
LOCATION:CA\, United States
GEO:36.778261;-119.4179324
END:VEVENT
END:VCALENDAR