BEGIN:VCALENDAR
VERSION:2.0
PRODID:-//Saint Francis de Sales Parish - ECPv6.15.20//NONSGML v1.0//EN
CALSCALE:GREGORIAN
METHOD:PUBLISH
X-ORIGINAL-URL:https://www.sfdsparish.com
X-WR-CALDESC:Events for Saint Francis de Sales Parish
REFRESH-INTERVAL;VALUE=DURATION:PT1H
X-Robots-Tag:noindex
X-PUBLISHED-TTL:PT1H
BEGIN:VTIMEZONE
TZID:America/Los_Angeles
BEGIN:DAYLIGHT
TZOFFSETFROM:-0800
TZOFFSETTO:-0700
TZNAME:PDT
DTSTART:20180311T100000
END:DAYLIGHT
BEGIN:STANDARD
TZOFFSETFROM:-0700
TZOFFSETTO:-0800
TZNAME:PST
DTSTART:20181104T090000
END:STANDARD
BEGIN:DAYLIGHT
TZOFFSETFROM:-0800
TZOFFSETTO:-0700
TZNAME:PDT
DTSTART:20190310T100000
END:DAYLIGHT
BEGIN:STANDARD
TZOFFSETFROM:-0700
TZOFFSETTO:-0800
TZNAME:PST
DTSTART:20191103T090000
END:STANDARD
BEGIN:DAYLIGHT
TZOFFSETFROM:-0800
TZOFFSETTO:-0700
TZNAME:PDT
DTSTART:20200308T100000
END:DAYLIGHT
BEGIN:STANDARD
TZOFFSETFROM:-0700
TZOFFSETTO:-0800
TZNAME:PST
DTSTART:20201101T090000
END:STANDARD
END:VTIMEZONE
BEGIN:VEVENT
DTSTART;TZID=America/Los_Angeles:20190317T083000
DTEND;TZID=America/Los_Angeles:20190317T100000
DTSTAMP:20260424T011726
CREATED:20180925T182729Z
LAST-MODIFIED:20180925T182729Z
UID:10000707-1552811400-1552816800@www.sfdsparish.com
SUMMARY:Teen Confirmation Class
DESCRIPTION:Classes meet from 8:45 – 9:50 am.
URL:https://www.sfdsparish.com/event/teen-confirmation-class-10/2019-03-17/
LOCATION:CA\, United States
CATEGORIES:Ministries
END:VEVENT
BEGIN:VEVENT
DTSTART;TZID=America/Los_Angeles:20190310T083000
DTEND;TZID=America/Los_Angeles:20190310T100000
DTSTAMP:20260424T011726
CREATED:20180925T182729Z
LAST-MODIFIED:20180925T184800Z
UID:10001664-1552206600-1552212000@www.sfdsparish.com
SUMMARY:No Teen Confirmation Class
DESCRIPTION:Daylight Savings time
URL:https://www.sfdsparish.com/event/teen-confirmation-class-10-2019-03-10/
LOCATION:CA\, United States
CATEGORIES:Ministries
END:VEVENT
BEGIN:VEVENT
DTSTART;TZID=America/Los_Angeles:20190303T083000
DTEND;TZID=America/Los_Angeles:20190303T100000
DTSTAMP:20260424T011726
CREATED:20180925T182729Z
LAST-MODIFIED:20180925T184631Z
UID:10000719-1551601800-1551607200@www.sfdsparish.com
SUMMARY:Teen Confirmation Class and Mass
DESCRIPTION:Classes meet from 8:45 – 9:50 am. All students go to 10 am Mass together after regular class.
URL:https://www.sfdsparish.com/event/teen-confirmation-class-10-2019-03-03/
LOCATION:CA\, United States
CATEGORIES:Ministries
END:VEVENT
BEGIN:VEVENT
DTSTART;TZID=America/Los_Angeles:20190224T083000
DTEND;TZID=America/Los_Angeles:20190224T100000
DTSTAMP:20260424T011726
CREATED:20180925T182729Z
LAST-MODIFIED:20180925T182729Z
UID:10000706-1550997000-1551002400@www.sfdsparish.com
SUMMARY:Teen Confirmation Class
DESCRIPTION:Classes meet from 8:45 – 9:50 am.
URL:https://www.sfdsparish.com/event/teen-confirmation-class-10/2019-02-24/
LOCATION:CA\, United States
CATEGORIES:Ministries
END:VEVENT
BEGIN:VEVENT
DTSTART;TZID=America/Los_Angeles:20190217T083000
DTEND;TZID=America/Los_Angeles:20190217T100000
DTSTAMP:20260424T011726
CREATED:20180925T182729Z
LAST-MODIFIED:20180925T184522Z
UID:10000717-1550392200-1550397600@www.sfdsparish.com
SUMMARY:No Teen Confirmation Class
DESCRIPTION:President’s Holiday
URL:https://www.sfdsparish.com/event/teen-confirmation-class-10-2019-02-17/
LOCATION:CA\, United States
CATEGORIES:Ministries
END:VEVENT
BEGIN:VEVENT
DTSTART;TZID=America/Los_Angeles:20190210T083000
DTEND;TZID=America/Los_Angeles:20190210T100000
DTSTAMP:20260424T011726
CREATED:20180925T182729Z
LAST-MODIFIED:20180925T182729Z
UID:10000705-1549787400-1549792800@www.sfdsparish.com
SUMMARY:Teen Confirmation Class
DESCRIPTION:Classes meet from 8:45 – 9:50 am.
URL:https://www.sfdsparish.com/event/teen-confirmation-class-10/2019-02-10/
LOCATION:CA\, United States
CATEGORIES:Ministries
END:VEVENT
BEGIN:VEVENT
DTSTART;TZID=America/Los_Angeles:20190203T083000
DTEND;TZID=America/Los_Angeles:20190203T100000
DTSTAMP:20260424T011726
CREATED:20180925T182729Z
LAST-MODIFIED:20180925T183343Z
UID:10000715-1549182600-1549188000@www.sfdsparish.com
SUMMARY:Teen Confirmation Class and Mass
DESCRIPTION:Classes meet from 8:45 – 9:50 am. All students go to 10 am Mass together after regular class.
URL:https://www.sfdsparish.com/event/teen-confirmation-class-10-2019-02-03/
LOCATION:CA\, United States
CATEGORIES:Ministries
END:VEVENT
BEGIN:VEVENT
DTSTART;TZID=America/Los_Angeles:20190127T083000
DTEND;TZID=America/Los_Angeles:20190127T100000
DTSTAMP:20260424T011726
CREATED:20180925T182729Z
LAST-MODIFIED:20180925T183234Z
UID:10000713-1548577800-1548583200@www.sfdsparish.com
SUMMARY:No Teen Confirmation Class
DESCRIPTION:Catholic Schools Week
URL:https://www.sfdsparish.com/event/teen-confirmation-class-10-2019-01-27/
LOCATION:CA\, United States
CATEGORIES:Ministries
END:VEVENT
BEGIN:VEVENT
DTSTART;TZID=America/Los_Angeles:20190120T083000
DTEND;TZID=America/Los_Angeles:20190120T100000
DTSTAMP:20260424T011726
CREATED:20180925T182729Z
LAST-MODIFIED:20180925T183128Z
UID:10000711-1547973000-1547978400@www.sfdsparish.com
SUMMARY:No Teen Confirmation Class
DESCRIPTION:MLK Holiday
URL:https://www.sfdsparish.com/event/teen-confirmation-class-10-2019-01-20/
LOCATION:CA\, United States
CATEGORIES:Ministries
END:VEVENT
BEGIN:VEVENT
DTSTART;TZID=America/Los_Angeles:20190113T083000
DTEND;TZID=America/Los_Angeles:20190113T100000
DTSTAMP:20260424T011726
CREATED:20180925T182729Z
LAST-MODIFIED:20180925T183009Z
UID:10000709-1547368200-1547373600@www.sfdsparish.com
SUMMARY:Teen Confirmation Class and Mass
DESCRIPTION:Classes meet from 8:45 – 9:50 am. All students go to 10 am Mass together after regular class.
URL:https://www.sfdsparish.com/event/teen-confirmation-class-10-2019-01-13/
LOCATION:CA\, United States
CATEGORIES:Ministries
END:VEVENT
BEGIN:VEVENT
DTSTART;TZID=America/Los_Angeles:20190106T083000
DTEND;TZID=America/Los_Angeles:20190106T100000
DTSTAMP:20260424T011726
CREATED:20180925T182729Z
LAST-MODIFIED:20180925T182729Z
UID:10000704-1546763400-1546768800@www.sfdsparish.com
SUMMARY:Teen Confirmation Class
DESCRIPTION:Classes meet from 8:45 – 9:50 am.
URL:https://www.sfdsparish.com/event/teen-confirmation-class-10/2019-01-06/
LOCATION:CA\, United States
CATEGORIES:Ministries
END:VEVENT
END:VCALENDAR