BEGIN:VCALENDAR
VERSION:2.0
PRODID:-//Saint Francis de Sales Parish - ECPv6.15.20//NONSGML v1.0//EN
CALSCALE:GREGORIAN
METHOD:PUBLISH
X-ORIGINAL-URL:https://www.sfdsparish.com
X-WR-CALDESC:Events for Saint Francis de Sales Parish
REFRESH-INTERVAL;VALUE=DURATION:PT1H
X-Robots-Tag:noindex
X-PUBLISHED-TTL:PT1H
BEGIN:VTIMEZONE
TZID:America/Los_Angeles
BEGIN:DAYLIGHT
TZOFFSETFROM:-0800
TZOFFSETTO:-0700
TZNAME:PDT
DTSTART:20180311T100000
END:DAYLIGHT
BEGIN:STANDARD
TZOFFSETFROM:-0700
TZOFFSETTO:-0800
TZNAME:PST
DTSTART:20181104T090000
END:STANDARD
BEGIN:DAYLIGHT
TZOFFSETFROM:-0800
TZOFFSETTO:-0700
TZNAME:PDT
DTSTART:20190310T100000
END:DAYLIGHT
BEGIN:STANDARD
TZOFFSETFROM:-0700
TZOFFSETTO:-0800
TZNAME:PST
DTSTART:20191103T090000
END:STANDARD
BEGIN:DAYLIGHT
TZOFFSETFROM:-0800
TZOFFSETTO:-0700
TZNAME:PDT
DTSTART:20200308T100000
END:DAYLIGHT
BEGIN:STANDARD
TZOFFSETFROM:-0700
TZOFFSETTO:-0800
TZNAME:PST
DTSTART:20201101T090000
END:STANDARD
END:VTIMEZONE
BEGIN:VEVENT
DTSTART;TZID=America/Los_Angeles:20190428T090000
DTEND;TZID=America/Los_Angeles:20190428T100000
DTSTAMP:20260424T031406
CREATED:20180925T163244Z
LAST-MODIFIED:20180925T164212Z
UID:10001649-1556442000-1556445600@www.sfdsparish.com
SUMMARY:Religious Education Class and Mass
DESCRIPTION:Classes are Sunday 9am sharp – 9:50 am. The children attend 10 am Mass together after regular classes. Last Class
URL:https://www.sfdsparish.com/event/religious-education-class-5-2019-04-28/
LOCATION:CA\, United States
CATEGORIES:Ministries
END:VEVENT
BEGIN:VEVENT
DTSTART;TZID=America/Los_Angeles:20190421T090000
DTEND;TZID=America/Los_Angeles:20190421T100000
DTSTAMP:20260424T031406
CREATED:20180925T163244Z
LAST-MODIFIED:20180925T164107Z
UID:10001648-1555837200-1555840800@www.sfdsparish.com
SUMMARY:No Religious Education Class
DESCRIPTION:Easter Sunday
URL:https://www.sfdsparish.com/event/religious-education-class-5-2019-04-21/
LOCATION:CA\, United States
CATEGORIES:Ministries
END:VEVENT
BEGIN:VEVENT
DTSTART;TZID=America/Los_Angeles:20190414T090000
DTEND;TZID=America/Los_Angeles:20190414T100000
DTSTAMP:20260424T031406
CREATED:20180925T163244Z
LAST-MODIFIED:20180925T163244Z
UID:10001641-1555232400-1555236000@www.sfdsparish.com
SUMMARY:Religious Education Class
DESCRIPTION:Classes are Sunday 9am sharp – 9:50 am.
URL:https://www.sfdsparish.com/event/religious-education-class-5/2019-04-14/
LOCATION:CA\, United States
CATEGORIES:Ministries
END:VEVENT
BEGIN:VEVENT
DTSTART;TZID=America/Los_Angeles:20190407T090000
DTEND;TZID=America/Los_Angeles:20190407T100000
DTSTAMP:20260424T031406
CREATED:20180925T163244Z
LAST-MODIFIED:20180925T163244Z
UID:10001640-1554627600-1554631200@www.sfdsparish.com
SUMMARY:Religious Education Class
DESCRIPTION:Classes are Sunday 9am sharp – 9:50 am.
URL:https://www.sfdsparish.com/event/religious-education-class-5/2019-04-07/
LOCATION:CA\, United States
CATEGORIES:Ministries
END:VEVENT
BEGIN:VEVENT
DTSTART;TZID=America/Los_Angeles:20190331T090000
DTEND;TZID=America/Los_Angeles:20190331T100000
DTSTAMP:20260424T031406
CREATED:20180925T163244Z
LAST-MODIFIED:20180925T163244Z
UID:10001639-1554022800-1554026400@www.sfdsparish.com
SUMMARY:Religious Education Class
DESCRIPTION:Classes are Sunday 9am sharp – 9:50 am.
URL:https://www.sfdsparish.com/event/religious-education-class-5/2019-03-31/
LOCATION:CA\, United States
CATEGORIES:Ministries
END:VEVENT
BEGIN:VEVENT
DTSTART;TZID=America/Los_Angeles:20190324T090000
DTEND;TZID=America/Los_Angeles:20190324T100000
DTSTAMP:20260424T031406
CREATED:20180925T163244Z
LAST-MODIFIED:20180925T163244Z
UID:10001638-1553418000-1553421600@www.sfdsparish.com
SUMMARY:Religious Education Class
DESCRIPTION:Classes are Sunday 9am sharp – 9:50 am.
URL:https://www.sfdsparish.com/event/religious-education-class-5/2019-03-24/
LOCATION:CA\, United States
CATEGORIES:Ministries
END:VEVENT
BEGIN:VEVENT
DTSTART;TZID=America/Los_Angeles:20190317T090000
DTEND;TZID=America/Los_Angeles:20190317T100000
DTSTAMP:20260424T031406
CREATED:20180925T163244Z
LAST-MODIFIED:20180925T163244Z
UID:10001637-1552813200-1552816800@www.sfdsparish.com
SUMMARY:Religious Education Class
DESCRIPTION:Classes are Sunday 9am sharp – 9:50 am.
URL:https://www.sfdsparish.com/event/religious-education-class-5/2019-03-17/
LOCATION:CA\, United States
CATEGORIES:Ministries
END:VEVENT
BEGIN:VEVENT
DTSTART;TZID=America/Los_Angeles:20190310T090000
DTEND;TZID=America/Los_Angeles:20190310T100000
DTSTAMP:20260424T031406
CREATED:20180925T163244Z
LAST-MODIFIED:20180925T163244Z
UID:10001636-1552208400-1552212000@www.sfdsparish.com
SUMMARY:Religious Education Class
DESCRIPTION:Classes are Sunday 9am sharp – 9:50 am.
URL:https://www.sfdsparish.com/event/religious-education-class-5/2019-03-10/
LOCATION:CA\, United States
CATEGORIES:Ministries
END:VEVENT
BEGIN:VEVENT
DTSTART;TZID=America/Los_Angeles:20190303T090000
DTEND;TZID=America/Los_Angeles:20190303T100000
DTSTAMP:20260424T031406
CREATED:20180925T163244Z
LAST-MODIFIED:20180925T163947Z
UID:10001647-1551603600-1551607200@www.sfdsparish.com
SUMMARY:Religious Education Class and Mass
DESCRIPTION:Classes are Sunday 9am sharp – 9:50 am. The children attend 10 am Mass together after regular classes.
URL:https://www.sfdsparish.com/event/religious-education-class-5-2019-03-03/
LOCATION:CA\, United States
CATEGORIES:Ministries
END:VEVENT
BEGIN:VEVENT
DTSTART;TZID=America/Los_Angeles:20190224T090000
DTEND;TZID=America/Los_Angeles:20190224T100000
DTSTAMP:20260424T031406
CREATED:20180925T163244Z
LAST-MODIFIED:20180925T163244Z
UID:10001635-1550998800-1551002400@www.sfdsparish.com
SUMMARY:Religious Education Class
DESCRIPTION:Classes are Sunday 9am sharp – 9:50 am.
URL:https://www.sfdsparish.com/event/religious-education-class-5/2019-02-24/
LOCATION:CA\, United States
CATEGORIES:Ministries
END:VEVENT
BEGIN:VEVENT
DTSTART;TZID=America/Los_Angeles:20190217T090000
DTEND;TZID=America/Los_Angeles:20190217T100000
DTSTAMP:20260424T031406
CREATED:20180925T163244Z
LAST-MODIFIED:20180925T163841Z
UID:10001646-1550394000-1550397600@www.sfdsparish.com
SUMMARY:No Religious Education Class
DESCRIPTION:President’s Holiday
URL:https://www.sfdsparish.com/event/religious-education-class-5-2019-02-17/
LOCATION:CA\, United States
CATEGORIES:Ministries
END:VEVENT
BEGIN:VEVENT
DTSTART;TZID=America/Los_Angeles:20190210T090000
DTEND;TZID=America/Los_Angeles:20190210T100000
DTSTAMP:20260424T031406
CREATED:20180925T163244Z
LAST-MODIFIED:20180925T163244Z
UID:10001634-1549789200-1549792800@www.sfdsparish.com
SUMMARY:Religious Education Class
DESCRIPTION:Classes are Sunday 9am sharp – 9:50 am.
URL:https://www.sfdsparish.com/event/religious-education-class-5/2019-02-10/
LOCATION:CA\, United States
CATEGORIES:Ministries
END:VEVENT
BEGIN:VEVENT
DTSTART;TZID=America/Los_Angeles:20190203T090000
DTEND;TZID=America/Los_Angeles:20190203T100000
DTSTAMP:20260424T031406
CREATED:20180925T163244Z
LAST-MODIFIED:20180925T163748Z
UID:10001645-1549184400-1549188000@www.sfdsparish.com
SUMMARY:Religious Education Class and Mass
DESCRIPTION:Classes are Sunday 9am sharp – 9:50 am. The children attend 10 am Mass together after regular classes.
URL:https://www.sfdsparish.com/event/religious-education-class-5-2019-02-03/
LOCATION:CA\, United States
CATEGORIES:Ministries
END:VEVENT
BEGIN:VEVENT
DTSTART;TZID=America/Los_Angeles:20190127T090000
DTEND;TZID=America/Los_Angeles:20190127T100000
DTSTAMP:20260424T031406
CREATED:20180925T163244Z
LAST-MODIFIED:20180925T163638Z
UID:10001644-1548579600-1548583200@www.sfdsparish.com
SUMMARY:No Religious Education Class
DESCRIPTION:Catholic Schools Week
URL:https://www.sfdsparish.com/event/religious-education-class-5-2019-01-27/
LOCATION:CA\, United States
CATEGORIES:Ministries
END:VEVENT
BEGIN:VEVENT
DTSTART;TZID=America/Los_Angeles:20190120T090000
DTEND;TZID=America/Los_Angeles:20190120T100000
DTSTAMP:20260424T031406
CREATED:20180925T163244Z
LAST-MODIFIED:20180925T163520Z
UID:10001643-1547974800-1547978400@www.sfdsparish.com
SUMMARY:No Religious Education Class
DESCRIPTION:Martin Luther King Holiday
URL:https://www.sfdsparish.com/event/religious-education-class-5-2019-01-20/
LOCATION:CA\, United States
CATEGORIES:Ministries
END:VEVENT
BEGIN:VEVENT
DTSTART;TZID=America/Los_Angeles:20190113T090000
DTEND;TZID=America/Los_Angeles:20190113T100000
DTSTAMP:20260424T031406
CREATED:20180925T163244Z
LAST-MODIFIED:20180925T163423Z
UID:10001642-1547370000-1547373600@www.sfdsparish.com
SUMMARY:Religious Education Class and Mass
DESCRIPTION:Classes are Sunday 9am sharp – 9:50 am. The children attend 10 am Mass together after regular classes.
URL:https://www.sfdsparish.com/event/religious-education-class-5-2019-01-13/
LOCATION:CA\, United States
CATEGORIES:Ministries
END:VEVENT
BEGIN:VEVENT
DTSTART;TZID=America/Los_Angeles:20190106T090000
DTEND;TZID=America/Los_Angeles:20190106T100000
DTSTAMP:20260424T031406
CREATED:20180925T163244Z
LAST-MODIFIED:20180925T163244Z
UID:10001633-1546765200-1546768800@www.sfdsparish.com
SUMMARY:Religious Education Class
DESCRIPTION:Classes are Sunday 9am sharp – 9:50 am.
URL:https://www.sfdsparish.com/event/religious-education-class-5/2019-01-06/
LOCATION:CA\, United States
CATEGORIES:Ministries
END:VEVENT
END:VCALENDAR