BEGIN:VCALENDAR
VERSION:2.0
PRODID:-//Saint Francis de Sales Parish - ECPv6.15.20//NONSGML v1.0//EN
CALSCALE:GREGORIAN
METHOD:PUBLISH
X-WR-CALNAME:Saint Francis de Sales Parish
X-ORIGINAL-URL:https://www.sfdsparish.com
X-WR-CALDESC:Events for Saint Francis de Sales Parish
REFRESH-INTERVAL;VALUE=DURATION:PT1H
X-Robots-Tag:noindex
X-PUBLISHED-TTL:PT1H
BEGIN:VTIMEZONE
TZID:America/Los_Angeles
BEGIN:DAYLIGHT
TZOFFSETFROM:-0800
TZOFFSETTO:-0700
TZNAME:PDT
DTSTART:20130310T100000
END:DAYLIGHT
BEGIN:STANDARD
TZOFFSETFROM:-0700
TZOFFSETTO:-0800
TZNAME:PST
DTSTART:20131103T090000
END:STANDARD
BEGIN:DAYLIGHT
TZOFFSETFROM:-0800
TZOFFSETTO:-0700
TZNAME:PDT
DTSTART:20140309T100000
END:DAYLIGHT
BEGIN:STANDARD
TZOFFSETFROM:-0700
TZOFFSETTO:-0800
TZNAME:PST
DTSTART:20141102T090000
END:STANDARD
BEGIN:DAYLIGHT
TZOFFSETFROM:-0800
TZOFFSETTO:-0700
TZNAME:PDT
DTSTART:20150308T100000
END:DAYLIGHT
BEGIN:STANDARD
TZOFFSETFROM:-0700
TZOFFSETTO:-0800
TZNAME:PST
DTSTART:20151101T090000
END:STANDARD
END:VTIMEZONE
BEGIN:VEVENT
DTSTART;TZID=America/Los_Angeles:20141115T190000
DTEND;TZID=America/Los_Angeles:20141115T210000
DTSTAMP:20260425T194931
CREATED:20141027T180221Z
LAST-MODIFIED:20141027T180221Z
UID:10000594-1416078000-1416085200@www.sfdsparish.com
SUMMARY:Memorial Concert
DESCRIPTION:The Saint Francis de Sales Choir & The Wagner Ensemble Present a Memorial Concert\nThe Armed Man – a Mass for Peace\, composed by Karl Jenkins \nSaturday November 15th at 7:00pm \nTickets $15.00 – 4 Tickets + 2 Memorial Names in the Program for $50.00 \nYou can purchase tickets after masses. \nFor more information contact Tina McConnell at 818-342-5233.
URL:https://www.sfdsparish.com/event/memorial-concert/
LOCATION:SFDS Church\, 13360 Valleyheart Drive\, Sherman Oaks\, CA\, 91423\, United States
CATEGORIES:Ministries
END:VEVENT
END:VCALENDAR