BEGIN:VCALENDAR
VERSION:2.0
PRODID:-//Saint Francis de Sales Parish - ECPv6.15.20//NONSGML v1.0//EN
CALSCALE:GREGORIAN
METHOD:PUBLISH
X-ORIGINAL-URL:https://www.sfdsparish.com
X-WR-CALDESC:Events for Saint Francis de Sales Parish
REFRESH-INTERVAL;VALUE=DURATION:PT1H
X-Robots-Tag:noindex
X-PUBLISHED-TTL:PT1H
BEGIN:VTIMEZONE
TZID:America/Los_Angeles
BEGIN:DAYLIGHT
TZOFFSETFROM:-0800
TZOFFSETTO:-0700
TZNAME:PDT
DTSTART:20120311T100000
END:DAYLIGHT
BEGIN:STANDARD
TZOFFSETFROM:-0700
TZOFFSETTO:-0800
TZNAME:PST
DTSTART:20121104T090000
END:STANDARD
BEGIN:DAYLIGHT
TZOFFSETFROM:-0800
TZOFFSETTO:-0700
TZNAME:PDT
DTSTART:20130310T100000
END:DAYLIGHT
BEGIN:STANDARD
TZOFFSETFROM:-0700
TZOFFSETTO:-0800
TZNAME:PST
DTSTART:20131103T090000
END:STANDARD
BEGIN:DAYLIGHT
TZOFFSETFROM:-0800
TZOFFSETTO:-0700
TZNAME:PDT
DTSTART:20140309T100000
END:DAYLIGHT
BEGIN:STANDARD
TZOFFSETFROM:-0700
TZOFFSETTO:-0800
TZNAME:PST
DTSTART:20141102T090000
END:STANDARD
BEGIN:DAYLIGHT
TZOFFSETFROM:-0800
TZOFFSETTO:-0700
TZNAME:PDT
DTSTART:20150308T100000
END:DAYLIGHT
BEGIN:STANDARD
TZOFFSETFROM:-0700
TZOFFSETTO:-0800
TZNAME:PST
DTSTART:20151101T090000
END:STANDARD
BEGIN:DAYLIGHT
TZOFFSETFROM:-0800
TZOFFSETTO:-0700
TZNAME:PDT
DTSTART:20160313T100000
END:DAYLIGHT
BEGIN:STANDARD
TZOFFSETFROM:-0700
TZOFFSETTO:-0800
TZNAME:PST
DTSTART:20161106T090000
END:STANDARD
END:VTIMEZONE
BEGIN:VEVENT
DTSTART;TZID=America/Los_Angeles:20150225T180000
DTEND;TZID=America/Los_Angeles:20150225T210000
DTSTAMP:20260424T031440
CREATED:20150224T200604Z
LAST-MODIFIED:20150224T200604Z
UID:10000671-1424887200-1424898000@www.sfdsparish.com
SUMMARY:Soup and Cinema
DESCRIPTION:Soup and Cinema with Fr. Tony Scannell\, OFM will start on Wednesday\, February 25th and continue until Wednesday March 18th in the school auditorium. Soup is from 6:00 – 7:00 pm and Cinema discussion from 7:00 – 9:00 pm.
URL:https://www.sfdsparish.com/event/soup-and-cinema/2015-02-25/
LOCATION:SFDS School\, 13368 Valleyheart Drive\, Sherman Oaks\, CA\, 91423\, United States
CATEGORIES:Organizations
ORGANIZER;CN="Ms. Reising":MAILTO:lreising@stfrancisds.org
END:VEVENT
BEGIN:VEVENT
DTSTART;TZID=America/Los_Angeles:20140319T180000
DTEND;TZID=America/Los_Angeles:20140319T210000
DTSTAMP:20260424T031440
CREATED:20140227T200610Z
LAST-MODIFIED:20140227T200647Z
UID:10000382-1395252000-1395262800@www.sfdsparish.com
SUMMARY:Soup and Cinema with Fr. Tony Scannell\, OFM\, Cap.
DESCRIPTION:Soup and Cinema will start on Wednesday March 19th and continue the following Wednesdays: March 26th\, April 2nd and 9th all in the Parish Auditorium. Soup is from 6:00 -7:00 pm and Cinema and discussion from 7:00 – 9:00 pm. \nYour donations of soup and supplies  are much appreciated. Please call Ms. LouAnn Reising at 818-784-9573 for more info.
URL:https://www.sfdsparish.com/event/soup-and-cinema-with-fr-tony-scannell-ofm-cap/2014-03-19/
LOCATION:SFDS School\, 13368 Valleyheart Drive\, Sherman Oaks\, CA\, 91423\, United States
CATEGORIES:Ministries
ORGANIZER;CN="Ms. Reising":MAILTO:lreising@stfrancisds.org
END:VEVENT
BEGIN:VEVENT
DTSTART;TZID=America/Los_Angeles:20130320T080000
DTEND;TZID=America/Los_Angeles:20130320T170000
DTSTAMP:20260424T031440
CREATED:20130308T030019Z
LAST-MODIFIED:20130308T030145Z
UID:10000003-1363766400-1363798800@www.sfdsparish.com
SUMMARY:Junior High Science Fair
DESCRIPTION:
URL:https://www.sfdsparish.com/event/junior-high-science-fair/
LOCATION:SFDS School\, 13368 Valleyheart Drive\, Sherman Oaks\, CA\, 91423\, United States
CATEGORIES:SFDS School
ORGANIZER;CN="Ms. Reising":MAILTO:lreising@stfrancisds.org
END:VEVENT
END:VCALENDAR