BEGIN:VCALENDAR
VERSION:2.0
PRODID:-//Saint Francis de Sales Parish - ECPv6.15.20//NONSGML v1.0//EN
CALSCALE:GREGORIAN
METHOD:PUBLISH
X-WR-CALNAME:Saint Francis de Sales Parish
X-ORIGINAL-URL:https://www.sfdsparish.com
X-WR-CALDESC:Events for Saint Francis de Sales Parish
REFRESH-INTERVAL;VALUE=DURATION:PT1H
X-Robots-Tag:noindex
X-PUBLISHED-TTL:PT1H
BEGIN:VTIMEZONE
TZID:America/Los_Angeles
BEGIN:DAYLIGHT
TZOFFSETFROM:-0800
TZOFFSETTO:-0700
TZNAME:PDT
DTSTART:20220313T100000
END:DAYLIGHT
BEGIN:STANDARD
TZOFFSETFROM:-0700
TZOFFSETTO:-0800
TZNAME:PST
DTSTART:20221106T090000
END:STANDARD
BEGIN:DAYLIGHT
TZOFFSETFROM:-0800
TZOFFSETTO:-0700
TZNAME:PDT
DTSTART:20230312T100000
END:DAYLIGHT
BEGIN:STANDARD
TZOFFSETFROM:-0700
TZOFFSETTO:-0800
TZNAME:PST
DTSTART:20231105T090000
END:STANDARD
BEGIN:DAYLIGHT
TZOFFSETFROM:-0800
TZOFFSETTO:-0700
TZNAME:PDT
DTSTART:20240310T100000
END:DAYLIGHT
BEGIN:STANDARD
TZOFFSETFROM:-0700
TZOFFSETTO:-0800
TZNAME:PST
DTSTART:20241103T090000
END:STANDARD
BEGIN:DAYLIGHT
TZOFFSETFROM:-0800
TZOFFSETTO:-0700
TZNAME:PDT
DTSTART:20250309T100000
END:DAYLIGHT
BEGIN:STANDARD
TZOFFSETFROM:-0700
TZOFFSETTO:-0800
TZNAME:PST
DTSTART:20251102T090000
END:STANDARD
BEGIN:DAYLIGHT
TZOFFSETFROM:-0800
TZOFFSETTO:-0700
TZNAME:PDT
DTSTART:20260308T100000
END:DAYLIGHT
BEGIN:STANDARD
TZOFFSETFROM:-0700
TZOFFSETTO:-0800
TZNAME:PST
DTSTART:20261101T090000
END:STANDARD
BEGIN:DAYLIGHT
TZOFFSETFROM:-0800
TZOFFSETTO:-0700
TZNAME:PDT
DTSTART:20270314T100000
END:DAYLIGHT
BEGIN:STANDARD
TZOFFSETFROM:-0700
TZOFFSETTO:-0800
TZNAME:PST
DTSTART:20271107T090000
END:STANDARD
END:VTIMEZONE
BEGIN:VEVENT
DTSTART;TZID=America/Los_Angeles:20260328T170000
DTEND;TZID=America/Los_Angeles:20260328T180000
DTSTAMP:20260423T152654
CREATED:20250723T182607Z
LAST-MODIFIED:20250723T182607Z
UID:10002844-1774717200-1774720800@www.sfdsparish.com
SUMMARY:Passion Play
DESCRIPTION:School Passion Play 5 pm Mass
URL:https://www.sfdsparish.com/event/passion-play/
LOCATION:Main Church\, United States
CATEGORIES:SFDS School
GEO:37.09024;-95.712891
END:VEVENT
BEGIN:VEVENT
DTSTART;TZID=America/Los_Angeles:20260125T100000
DTEND;TZID=America/Los_Angeles:20260125T110000
DTSTAMP:20260423T152654
CREATED:20250723T181926Z
LAST-MODIFIED:20250723T181926Z
UID:10002838-1769335200-1769338800@www.sfdsparish.com
SUMMARY:Catholic School Mass
DESCRIPTION:Catholic School Week Mass at 10:00 am and school open house after.
URL:https://www.sfdsparish.com/event/catholic-school-mass/
LOCATION:Main Church\, United States
CATEGORIES:SFDS School
GEO:37.09024;-95.712891
END:VEVENT
BEGIN:VEVENT
DTSTART;TZID=America/Los_Angeles:20251102T113000
DTEND;TZID=America/Los_Angeles:20251102T130000
DTSTAMP:20260423T152654
CREATED:20250723T181517Z
LAST-MODIFIED:20250723T181517Z
UID:10002837-1762083000-1762088400@www.sfdsparish.com
SUMMARY:Candle Mass
DESCRIPTION:Book of Angels Candle Mass 12 noon
URL:https://www.sfdsparish.com/event/candle-mass/
LOCATION:Main Church\, United States
CATEGORIES:SFDS School
GEO:37.09024;-95.712891
END:VEVENT
BEGIN:VEVENT
DTSTART;TZID=America/Los_Angeles:20250829T081500
DTEND;TZID=America/Los_Angeles:20250829T090000
DTSTAMP:20260423T152654
CREATED:20250723T175050Z
LAST-MODIFIED:20250723T180716Z
UID:10002828-1756455300-1756458000@www.sfdsparish.com
SUMMARY:School Mass
DESCRIPTION:School Mass 8:15 am
URL:https://www.sfdsparish.com/event/school-mass-8/
LOCATION:Main Church\, United States
CATEGORIES:SFDS School
GEO:37.09024;-95.712891
END:VEVENT
BEGIN:VEVENT
DTSTART;TZID=America/Los_Angeles:20231014T180000
DTEND;TZID=America/Los_Angeles:20231014T200000
DTSTAMP:20260423T152654
CREATED:20231010T173021Z
LAST-MODIFIED:20231010T173021Z
UID:10002592-1697306400-1697313600@www.sfdsparish.com
SUMMARY:School Harvest Festival
DESCRIPTION:School Harvest Festival on the field\, games\, food\, raffles\, silent auction and more 6:00 pm to 8:00 pm.
URL:https://www.sfdsparish.com/event/school-harvest-festival/
LOCATION:School\, United States
CATEGORIES:SFDS School
GEO:37.09024;-95.712891
END:VEVENT
END:VCALENDAR