BEGIN:VCALENDAR
VERSION:2.0
PRODID:-//Saint Francis de Sales Parish - ECPv6.15.20//NONSGML v1.0//EN
CALSCALE:GREGORIAN
METHOD:PUBLISH
X-WR-CALNAME:Saint Francis de Sales Parish
X-ORIGINAL-URL:https://www.sfdsparish.com
X-WR-CALDESC:Events for Saint Francis de Sales Parish
REFRESH-INTERVAL;VALUE=DURATION:PT1H
X-Robots-Tag:noindex
X-PUBLISHED-TTL:PT1H
BEGIN:VTIMEZONE
TZID:America/Los_Angeles
BEGIN:DAYLIGHT
TZOFFSETFROM:-0800
TZOFFSETTO:-0700
TZNAME:PDT
DTSTART:20230312T100000
END:DAYLIGHT
BEGIN:STANDARD
TZOFFSETFROM:-0700
TZOFFSETTO:-0800
TZNAME:PST
DTSTART:20231105T090000
END:STANDARD
BEGIN:DAYLIGHT
TZOFFSETFROM:-0800
TZOFFSETTO:-0700
TZNAME:PDT
DTSTART:20240310T100000
END:DAYLIGHT
BEGIN:STANDARD
TZOFFSETFROM:-0700
TZOFFSETTO:-0800
TZNAME:PST
DTSTART:20241103T090000
END:STANDARD
BEGIN:DAYLIGHT
TZOFFSETFROM:-0800
TZOFFSETTO:-0700
TZNAME:PDT
DTSTART:20250309T100000
END:DAYLIGHT
BEGIN:STANDARD
TZOFFSETFROM:-0700
TZOFFSETTO:-0800
TZNAME:PST
DTSTART:20251102T090000
END:STANDARD
BEGIN:DAYLIGHT
TZOFFSETFROM:-0800
TZOFFSETTO:-0700
TZNAME:PDT
DTSTART:20260308T100000
END:DAYLIGHT
BEGIN:STANDARD
TZOFFSETFROM:-0700
TZOFFSETTO:-0800
TZNAME:PST
DTSTART:20261101T090000
END:STANDARD
END:VTIMEZONE
BEGIN:VEVENT
DTSTART;TZID=America/Los_Angeles:20251012T090000
DTEND;TZID=America/Los_Angeles:20251012T095000
DTSTAMP:20260423T200802
CREATED:20250724T172211Z
LAST-MODIFIED:20250724T172352Z
UID:10002866-1760259600-1760262600@www.sfdsparish.com
SUMMARY:CRE Class
DESCRIPTION:Religious Education Class 9:00 – 9:50 am
URL:https://www.sfdsparish.com/event/cre-class-12/2025-10-12/
LOCATION:School\, United States
CATEGORIES:Ministries
GEO:37.09024;-95.712891
END:VEVENT
BEGIN:VEVENT
DTSTART;TZID=America/Los_Angeles:20251005T090000
DTEND;TZID=America/Los_Angeles:20251005T095000
DTSTAMP:20260423T200802
CREATED:20250724T172211Z
LAST-MODIFIED:20250724T172352Z
UID:10002865-1759654800-1759657800@www.sfdsparish.com
SUMMARY:CRE Class
DESCRIPTION:Religious Education Class 9:00 – 9:50 am
URL:https://www.sfdsparish.com/event/cre-class-12/2025-10-05/
LOCATION:School\, United States
CATEGORIES:Ministries
GEO:37.09024;-95.712891
END:VEVENT
BEGIN:VEVENT
DTSTART;TZID=America/Los_Angeles:20250928T090000
DTEND;TZID=America/Los_Angeles:20250928T095000
DTSTAMP:20260423T200802
CREATED:20250724T172211Z
LAST-MODIFIED:20250724T172352Z
UID:10002864-1759050000-1759053000@www.sfdsparish.com
SUMMARY:CRE Class
DESCRIPTION:Religious Education Class 9:00 – 9:50 am
URL:https://www.sfdsparish.com/event/cre-class-12/2025-09-28/
LOCATION:School\, United States
CATEGORIES:Ministries
GEO:37.09024;-95.712891
END:VEVENT
BEGIN:VEVENT
DTSTART;TZID=America/Los_Angeles:20250921T090000
DTEND;TZID=America/Los_Angeles:20250921T095000
DTSTAMP:20260423T200802
CREATED:20250724T172211Z
LAST-MODIFIED:20250724T172352Z
UID:10002863-1758445200-1758448200@www.sfdsparish.com
SUMMARY:CRE Class
DESCRIPTION:Religious Education Class 9:00 – 9:50 am
URL:https://www.sfdsparish.com/event/cre-class-12/2025-09-21/
LOCATION:School\, United States
CATEGORIES:Ministries
GEO:37.09024;-95.712891
END:VEVENT
BEGIN:VEVENT
DTSTART;TZID=America/Los_Angeles:20250914T090000
DTEND;TZID=America/Los_Angeles:20250914T095000
DTSTAMP:20260423T200802
CREATED:20250724T172211Z
LAST-MODIFIED:20250724T172352Z
UID:10002862-1757840400-1757843400@www.sfdsparish.com
SUMMARY:CRE Class
DESCRIPTION:Religious Education Class 9:00 – 9:50 am
URL:https://www.sfdsparish.com/event/cre-class-12/2025-09-14/
LOCATION:School\, United States
CATEGORIES:Ministries
GEO:37.09024;-95.712891
END:VEVENT
BEGIN:VEVENT
DTSTART;TZID=America/Los_Angeles:20250323T084500
DTEND;TZID=America/Los_Angeles:20250323T094500
DTSTAMP:20260423T200802
CREATED:20241001T210249Z
LAST-MODIFIED:20241001T210249Z
UID:10002772-1742719500-1742723100@www.sfdsparish.com
SUMMARY:Teen Confirmation Class and Mass
DESCRIPTION:Teen confirmation 8:45 – 9:45 and class Mass at 10:00 am
URL:https://www.sfdsparish.com/event/teen-confirmation-class-and-mass-2/
CATEGORIES:Ministries
END:VEVENT
BEGIN:VEVENT
DTSTART;VALUE=DATE:20250316
DTEND;VALUE=DATE:20250317
DTSTAMP:20260423T200802
CREATED:20241001T210124Z
LAST-MODIFIED:20241001T210124Z
UID:10002771-1742083200-1742165999@www.sfdsparish.com
SUMMARY:No Teen Confirmation Class
DESCRIPTION:No Teen Confirmation Class
URL:https://www.sfdsparish.com/event/no-teen-confirmation-class-6/2025-03-16/
CATEGORIES:Ministries
END:VEVENT
BEGIN:VEVENT
DTSTART;VALUE=DATE:20250309
DTEND;VALUE=DATE:20250310
DTSTAMP:20260423T200802
CREATED:20241001T210124Z
LAST-MODIFIED:20241001T210124Z
UID:10002770-1741478400-1741561199@www.sfdsparish.com
SUMMARY:No Teen Confirmation Class
DESCRIPTION:No Teen Confirmation Class
URL:https://www.sfdsparish.com/event/no-teen-confirmation-class-6/2025-03-09/
CATEGORIES:Ministries
END:VEVENT
BEGIN:VEVENT
DTSTART;TZID=America/Los_Angeles:20250302T084500
DTEND;TZID=America/Los_Angeles:20250302T094500
DTSTAMP:20260423T200802
CREATED:20241001T205845Z
LAST-MODIFIED:20241001T205845Z
UID:10002769-1740905100-1740908700@www.sfdsparish.com
SUMMARY:Teen Confirmation Class
DESCRIPTION:Teen Confirmation Class 8:45 am – 9:45 am
URL:https://www.sfdsparish.com/event/teen-confirmation-class-17/2025-03-02/
CATEGORIES:Ministries
END:VEVENT
BEGIN:VEVENT
DTSTART;TZID=America/Los_Angeles:20250223T084500
DTEND;TZID=America/Los_Angeles:20250223T094500
DTSTAMP:20260423T200802
CREATED:20241001T205845Z
LAST-MODIFIED:20241001T205845Z
UID:10002768-1740300300-1740303900@www.sfdsparish.com
SUMMARY:Teen Confirmation Class
DESCRIPTION:Teen Confirmation Class 8:45 am – 9:45 am
URL:https://www.sfdsparish.com/event/teen-confirmation-class-17/2025-02-23/
CATEGORIES:Ministries
END:VEVENT
BEGIN:VEVENT
DTSTART;TZID=America/Los_Angeles:20250216T084500
DTEND;TZID=America/Los_Angeles:20250216T094500
DTSTAMP:20260423T200802
CREATED:20241001T205957Z
LAST-MODIFIED:20241001T205957Z
UID:10002767-1739695500-1739699100@www.sfdsparish.com
SUMMARY:No Teen Confirmation Class
DESCRIPTION:No Teen Confirmation Class
URL:https://www.sfdsparish.com/event/teen-confirmation-class-17-2/
CATEGORIES:Ministries
END:VEVENT
BEGIN:VEVENT
DTSTART;TZID=America/Los_Angeles:20250209T084500
DTEND;TZID=America/Los_Angeles:20250209T094500
DTSTAMP:20260423T200802
CREATED:20241001T205845Z
LAST-MODIFIED:20241001T205845Z
UID:10002766-1739090700-1739094300@www.sfdsparish.com
SUMMARY:Teen Confirmation Class
DESCRIPTION:Teen Confirmation Class 8:45 am – 9:45 am
URL:https://www.sfdsparish.com/event/teen-confirmation-class-17/2025-02-09/
CATEGORIES:Ministries
END:VEVENT
BEGIN:VEVENT
DTSTART;TZID=America/Los_Angeles:20250202T084500
DTEND;TZID=America/Los_Angeles:20250202T094500
DTSTAMP:20260423T200802
CREATED:20241001T205845Z
LAST-MODIFIED:20241001T205845Z
UID:10002765-1738485900-1738489500@www.sfdsparish.com
SUMMARY:Teen Confirmation Class
DESCRIPTION:Teen Confirmation Class 8:45 am – 9:45 am
URL:https://www.sfdsparish.com/event/teen-confirmation-class-17/2025-02-02/
CATEGORIES:Ministries
END:VEVENT
BEGIN:VEVENT
DTSTART;VALUE=DATE:20250126
DTEND;VALUE=DATE:20250127
DTSTAMP:20260423T200802
CREATED:20241001T205622Z
LAST-MODIFIED:20241001T205622Z
UID:10002764-1737849600-1737935999@www.sfdsparish.com
SUMMARY:No Confirmation Class
DESCRIPTION:No Confirmation Class
URL:https://www.sfdsparish.com/event/no-confirmation-class-4/2025-01-26/
CATEGORIES:Ministries
END:VEVENT
BEGIN:VEVENT
DTSTART;VALUE=DATE:20250119
DTEND;VALUE=DATE:20250120
DTSTAMP:20260423T200802
CREATED:20241001T205622Z
LAST-MODIFIED:20241001T205622Z
UID:10002763-1737244800-1737331199@www.sfdsparish.com
SUMMARY:No Confirmation Class
DESCRIPTION:No Confirmation Class
URL:https://www.sfdsparish.com/event/no-confirmation-class-4/2025-01-19/
CATEGORIES:Ministries
END:VEVENT
BEGIN:VEVENT
DTSTART;TZID=America/Los_Angeles:20250105T084500
DTEND;TZID=America/Los_Angeles:20250105T094500
DTSTAMP:20260423T200802
CREATED:20241001T205320Z
LAST-MODIFIED:20241001T205320Z
UID:10002761-1736066700-1736070300@www.sfdsparish.com
SUMMARY:No Teen Confirmation Class
DESCRIPTION:No Teen Confirmation Class
URL:https://www.sfdsparish.com/event/no-teen-confirmation-class-5/2025-01-05/
CATEGORIES:Ministries
END:VEVENT
BEGIN:VEVENT
DTSTART;TZID=America/Los_Angeles:20241229T084500
DTEND;TZID=America/Los_Angeles:20241229T094500
DTSTAMP:20260423T200802
CREATED:20241001T205320Z
LAST-MODIFIED:20241001T205320Z
UID:10002760-1735461900-1735465500@www.sfdsparish.com
SUMMARY:No Teen Confirmation Class
DESCRIPTION:No Teen Confirmation Class
URL:https://www.sfdsparish.com/event/no-teen-confirmation-class-5/2024-12-29/
CATEGORIES:Ministries
END:VEVENT
BEGIN:VEVENT
DTSTART;TZID=America/Los_Angeles:20241222T084500
DTEND;TZID=America/Los_Angeles:20241222T094500
DTSTAMP:20260423T200802
CREATED:20241001T205320Z
LAST-MODIFIED:20241001T205320Z
UID:10002759-1734857100-1734860700@www.sfdsparish.com
SUMMARY:No Teen Confirmation Class
DESCRIPTION:No Teen Confirmation Class
URL:https://www.sfdsparish.com/event/no-teen-confirmation-class-5/2024-12-22/
CATEGORIES:Ministries
END:VEVENT
BEGIN:VEVENT
DTSTART;TZID=America/Los_Angeles:20241215T084500
DTEND;TZID=America/Los_Angeles:20241215T094500
DTSTAMP:20260423T200802
CREATED:20241001T205320Z
LAST-MODIFIED:20241001T205320Z
UID:10002758-1734252300-1734255900@www.sfdsparish.com
SUMMARY:No Teen Confirmation Class
DESCRIPTION:No Teen Confirmation Class
URL:https://www.sfdsparish.com/event/no-teen-confirmation-class-5/2024-12-15/
CATEGORIES:Ministries
END:VEVENT
BEGIN:VEVENT
DTSTART;TZID=America/Los_Angeles:20241208T084500
DTEND;TZID=America/Los_Angeles:20241208T094500
DTSTAMP:20260423T200802
CREATED:20241001T205113Z
LAST-MODIFIED:20241001T205113Z
UID:10002757-1733647500-1733651100@www.sfdsparish.com
SUMMARY:Teen Confirmation and Mass
DESCRIPTION:Teen Confirmation class 8:45 – 9:45 and class Mass at 10:00 am
URL:https://www.sfdsparish.com/event/teen-confirmation-and-mass/
CATEGORIES:Ministries
END:VEVENT
BEGIN:VEVENT
DTSTART;TZID=America/Los_Angeles:20241201T084500
DTEND;TZID=America/Los_Angeles:20241201T214500
DTSTAMP:20260423T200802
CREATED:20241001T204955Z
LAST-MODIFIED:20241001T204955Z
UID:10002756-1733042700-1733089500@www.sfdsparish.com
SUMMARY:No Teen Confirmation Class
DESCRIPTION:No Teen Confirmation Class
URL:https://www.sfdsparish.com/event/no-teen-confirmation-class-4/2024-12-01/
CATEGORIES:Ministries
END:VEVENT
BEGIN:VEVENT
DTSTART;TZID=America/Los_Angeles:20241124T084500
DTEND;TZID=America/Los_Angeles:20241124T214500
DTSTAMP:20260423T200802
CREATED:20241001T204955Z
LAST-MODIFIED:20241001T204955Z
UID:10002755-1732437900-1732484700@www.sfdsparish.com
SUMMARY:No Teen Confirmation Class
DESCRIPTION:No Teen Confirmation Class
URL:https://www.sfdsparish.com/event/no-teen-confirmation-class-4/2024-11-24/
CATEGORIES:Ministries
END:VEVENT
BEGIN:VEVENT
DTSTART;TZID=America/Los_Angeles:20241117T084500
DTEND;TZID=America/Los_Angeles:20241117T094500
DTSTAMP:20260423T200802
CREATED:20241001T204232Z
LAST-MODIFIED:20241001T204323Z
UID:10002754-1731833100-1731836700@www.sfdsparish.com
SUMMARY:Teen Confirmation Class
DESCRIPTION:Teen Confirmation meets from 8:45 – 9:45
URL:https://www.sfdsparish.com/event/teen-confirmation-class-16/2024-11-17/
CATEGORIES:Ministries
END:VEVENT
BEGIN:VEVENT
DTSTART;TZID=America/Los_Angeles:20241110T084500
DTEND;TZID=America/Los_Angeles:20241110T094500
DTSTAMP:20260423T200802
CREATED:20241001T204738Z
LAST-MODIFIED:20241001T204739Z
UID:10002752-1731228300-1731231900@www.sfdsparish.com
SUMMARY:Teen Confirmation Class and Mass
DESCRIPTION:Teen Confirmation meets from 8:45 – 9:45 and class Mass at 10:00 am
URL:https://www.sfdsparish.com/event/teen-confirmation-class-16-4/
CATEGORIES:Ministries
END:VEVENT
BEGIN:VEVENT
DTSTART;TZID=America/Los_Angeles:20241103T084500
DTEND;TZID=America/Los_Angeles:20241103T094500
DTSTAMP:20260423T200802
CREATED:20241001T204232Z
LAST-MODIFIED:20241001T204323Z
UID:10002750-1730623500-1730627100@www.sfdsparish.com
SUMMARY:Teen Confirmation Class
DESCRIPTION:Teen Confirmation meets from 8:45 – 9:45
URL:https://www.sfdsparish.com/event/teen-confirmation-class-16/2024-11-03/
CATEGORIES:Ministries
END:VEVENT
BEGIN:VEVENT
DTSTART;TZID=America/Los_Angeles:20241027T084500
DTEND;TZID=America/Los_Angeles:20241027T094500
DTSTAMP:20260423T200802
CREATED:20241001T204506Z
LAST-MODIFIED:20241001T204614Z
UID:10002748-1730018700-1730022300@www.sfdsparish.com
SUMMARY:No Teen Confirmation Class
DESCRIPTION:No Teen Confirmation Class
URL:https://www.sfdsparish.com/event/teen-confirmation-class-16-2/
CATEGORIES:Ministries
END:VEVENT
BEGIN:VEVENT
DTSTART;TZID=America/Los_Angeles:20241020T084500
DTEND;TZID=America/Los_Angeles:20241020T094500
DTSTAMP:20260423T200802
CREATED:20241001T204232Z
LAST-MODIFIED:20241001T204323Z
UID:10002746-1729413900-1729417500@www.sfdsparish.com
SUMMARY:Teen Confirmation Class
DESCRIPTION:Teen Confirmation meets from 8:45 – 9:45
URL:https://www.sfdsparish.com/event/teen-confirmation-class-16/2024-10-20/
CATEGORIES:Ministries
END:VEVENT
BEGIN:VEVENT
DTSTART;TZID=America/Los_Angeles:20241013T084500
DTEND;TZID=America/Los_Angeles:20241013T094500
DTSTAMP:20260423T200802
CREATED:20241001T204653Z
LAST-MODIFIED:20241001T204653Z
UID:10002744-1728809100-1728812700@www.sfdsparish.com
SUMMARY:Teen Confirmation Class and Mass
DESCRIPTION:Teen Confirmation meets from 8:45 – 9:45 and class Mass at 10:00 am
URL:https://www.sfdsparish.com/event/teen-confirmation-class-16-3/
CATEGORIES:Ministries
END:VEVENT
BEGIN:VEVENT
DTSTART;TZID=America/Los_Angeles:20240908T090000
DTEND;TZID=America/Los_Angeles:20240908T120000
DTSTAMP:20260423T200802
CREATED:20240606T173712Z
LAST-MODIFIED:20240606T173712Z
UID:10002694-1725786000-1725796800@www.sfdsparish.com
SUMMARY:Religious Education 1- 8 & Teen Confirmation
DESCRIPTION:Registration for Religious Education\, Teen Confirmation & Little Church will be Sunday September 8\, 2024 from 9 am to 12 noon in the school auditorium. Registration forms will be under religious education on our website.
URL:https://www.sfdsparish.com/event/religious-education-1-8-teen-confirmation/
LOCATION:School Auditorium\, United States
CATEGORIES:Ministries
GEO:37.09024;-95.712891
END:VEVENT
BEGIN:VEVENT
DTSTART;VALUE=DATE:20240511
DTEND;VALUE=DATE:20240512
DTSTAMP:20260423T200802
CREATED:20230918T213019Z
LAST-MODIFIED:20230919T181808Z
UID:10002576-1715385600-1715471999@www.sfdsparish.com
SUMMARY:First Communion Day
DESCRIPTION:First Communion Day \nSchool Children 10:00 am CRE Children 12 noon.
URL:https://www.sfdsparish.com/event/cre-first-communion-day/
LOCATION:Main Church\, United States
CATEGORIES:Ministries
GEO:37.09024;-95.712891
END:VEVENT
END:VCALENDAR