BEGIN:VCALENDAR
VERSION:2.0
PRODID:-//Saint Francis de Sales Parish - ECPv6.15.20//NONSGML v1.0//EN
CALSCALE:GREGORIAN
METHOD:PUBLISH
X-ORIGINAL-URL:https://www.sfdsparish.com
X-WR-CALDESC:Events for Saint Francis de Sales Parish
REFRESH-INTERVAL;VALUE=DURATION:PT1H
X-Robots-Tag:noindex
X-PUBLISHED-TTL:PT1H
BEGIN:VTIMEZONE
TZID:America/Los_Angeles
BEGIN:DAYLIGHT
TZOFFSETFROM:-0800
TZOFFSETTO:-0700
TZNAME:PDT
DTSTART:20250309T100000
END:DAYLIGHT
BEGIN:STANDARD
TZOFFSETFROM:-0700
TZOFFSETTO:-0800
TZNAME:PST
DTSTART:20251102T090000
END:STANDARD
BEGIN:DAYLIGHT
TZOFFSETFROM:-0800
TZOFFSETTO:-0700
TZNAME:PDT
DTSTART:20260308T100000
END:DAYLIGHT
BEGIN:STANDARD
TZOFFSETFROM:-0700
TZOFFSETTO:-0800
TZNAME:PST
DTSTART:20261101T090000
END:STANDARD
BEGIN:DAYLIGHT
TZOFFSETFROM:-0800
TZOFFSETTO:-0700
TZNAME:PDT
DTSTART:20270314T100000
END:DAYLIGHT
BEGIN:STANDARD
TZOFFSETFROM:-0700
TZOFFSETTO:-0800
TZNAME:PST
DTSTART:20271107T090000
END:STANDARD
END:VTIMEZONE
BEGIN:VEVENT
DTSTART;TZID=America/Los_Angeles:20260426T090000
DTEND;TZID=America/Los_Angeles:20260426T110000
DTSTAMP:20260423T120640
CREATED:20250724T182807Z
LAST-MODIFIED:20250724T182807Z
UID:10002886-1777194000-1777201200@www.sfdsparish.com
SUMMARY:CRE Class
DESCRIPTION:Religious Education Class 9 – 9:50 am and Class Mass Last Class
URL:https://www.sfdsparish.com/event/cre-class-19/
LOCATION:School\, United States
CATEGORIES:Ministries
GEO:37.09024;-95.712891
END:VEVENT
BEGIN:VEVENT
DTSTART;VALUE=DATE:20260503
DTEND;VALUE=DATE:20260504
DTSTAMP:20260423T120640
CREATED:20250724T182932Z
LAST-MODIFIED:20250724T182932Z
UID:10002887-1777766400-1777852799@www.sfdsparish.com
SUMMARY:First Communion Practice
DESCRIPTION:First Communion Practice for 2nd year students
URL:https://www.sfdsparish.com/event/first-communion-practice-7/
LOCATION:Main Church\, United States
CATEGORIES:Ministries
GEO:37.09024;-95.712891
END:VEVENT
BEGIN:VEVENT
DTSTART;TZID=America/Los_Angeles:20260509T120000
DTEND;TZID=America/Los_Angeles:20260509T133000
DTSTAMP:20260423T120640
CREATED:20250724T183103Z
LAST-MODIFIED:20250724T183103Z
UID:10002888-1778328000-1778333400@www.sfdsparish.com
SUMMARY:CRE First Communion
DESCRIPTION:First Communion for Religious Education 2nd year students
URL:https://www.sfdsparish.com/event/cre-first-communion/
LOCATION:Main Church\, United States
CATEGORIES:Ministries
GEO:37.09024;-95.712891
END:VEVENT
END:VCALENDAR