BEGIN:VCALENDAR
VERSION:2.0
PRODID:-//Saint Francis de Sales Parish - ECPv6.15.20//NONSGML v1.0//EN
CALSCALE:GREGORIAN
METHOD:PUBLISH
X-ORIGINAL-URL:https://www.sfdsparish.com
X-WR-CALDESC:Events for Saint Francis de Sales Parish
REFRESH-INTERVAL;VALUE=DURATION:PT1H
X-Robots-Tag:noindex
X-PUBLISHED-TTL:PT1H
BEGIN:VTIMEZONE
TZID:America/Los_Angeles
BEGIN:DAYLIGHT
TZOFFSETFROM:-0800
TZOFFSETTO:-0700
TZNAME:PDT
DTSTART:20240310T100000
END:DAYLIGHT
BEGIN:STANDARD
TZOFFSETFROM:-0700
TZOFFSETTO:-0800
TZNAME:PST
DTSTART:20241103T090000
END:STANDARD
BEGIN:DAYLIGHT
TZOFFSETFROM:-0800
TZOFFSETTO:-0700
TZNAME:PDT
DTSTART:20250309T100000
END:DAYLIGHT
BEGIN:STANDARD
TZOFFSETFROM:-0700
TZOFFSETTO:-0800
TZNAME:PST
DTSTART:20251102T090000
END:STANDARD
BEGIN:DAYLIGHT
TZOFFSETFROM:-0800
TZOFFSETTO:-0700
TZNAME:PDT
DTSTART:20260308T100000
END:DAYLIGHT
BEGIN:STANDARD
TZOFFSETFROM:-0700
TZOFFSETTO:-0800
TZNAME:PST
DTSTART:20261101T090000
END:STANDARD
END:VTIMEZONE
BEGIN:VEVENT
DTSTART;TZID=America/Los_Angeles:20251026T084500
DTEND;TZID=America/Los_Angeles:20251026T094500
DTSTAMP:20260423T214309
CREATED:20250724T170506Z
LAST-MODIFIED:20250724T170506Z
UID:10002852-1761468300-1761471900@www.sfdsparish.com
SUMMARY:Teen Confirmation Class
DESCRIPTION:Confirmation Class 8:45 – 9:45
URL:https://www.sfdsparish.com/event/teen-confirmation-class-18/2025-10-26/
LOCATION:School\, United States
CATEGORIES:Ministries
GEO:37.09024;-95.712891
END:VEVENT
BEGIN:VEVENT
DTSTART;TZID=America/Los_Angeles:20251026T090000
DTEND;TZID=America/Los_Angeles:20251026T095000
DTSTAMP:20260423T214309
CREATED:20250724T172434Z
LAST-MODIFIED:20250724T172435Z
UID:10002868-1761469200-1761472200@www.sfdsparish.com
SUMMARY:CRE Class
DESCRIPTION:Religious Education Class 9:00 – 9:50 am and class Mass
URL:https://www.sfdsparish.com/event/cre-class-12-2/
LOCATION:School\, United States
CATEGORIES:Ministries
GEO:37.09024;-95.712891
END:VEVENT
BEGIN:VEVENT
DTSTART;VALUE=DATE:20251101
DTEND;VALUE=DATE:20251102
DTSTAMP:20260423T214309
CREATED:20251014T163852Z
LAST-MODIFIED:20251014T163852Z
UID:10002895-1761955200-1762041599@www.sfdsparish.com
SUMMARY:Not a Holy Day of Obligation
DESCRIPTION:All Saints Day is NOT a Holy Day of Obligation this year. Regular Masses 8:15 am & 5:00 pm
URL:https://www.sfdsparish.com/event/not-a-holy-day-of-obligation/
LOCATION:Main Church\, United States
CATEGORIES:Ministries
GEO:37.09024;-95.712891
END:VEVENT
END:VCALENDAR