BEGIN:VCALENDAR
VERSION:2.0
PRODID:-//Saint Francis de Sales Parish - ECPv6.15.20//NONSGML v1.0//EN
CALSCALE:GREGORIAN
METHOD:PUBLISH
X-WR-CALNAME:Saint Francis de Sales Parish
X-ORIGINAL-URL:https://www.sfdsparish.com
X-WR-CALDESC:Events for Saint Francis de Sales Parish
REFRESH-INTERVAL;VALUE=DURATION:PT1H
X-Robots-Tag:noindex
X-PUBLISHED-TTL:PT1H
BEGIN:VTIMEZONE
TZID:America/Los_Angeles
BEGIN:DAYLIGHT
TZOFFSETFROM:-0800
TZOFFSETTO:-0700
TZNAME:PDT
DTSTART:20250309T100000
END:DAYLIGHT
BEGIN:STANDARD
TZOFFSETFROM:-0700
TZOFFSETTO:-0800
TZNAME:PST
DTSTART:20251102T090000
END:STANDARD
BEGIN:DAYLIGHT
TZOFFSETFROM:-0800
TZOFFSETTO:-0700
TZNAME:PDT
DTSTART:20260308T100000
END:DAYLIGHT
BEGIN:STANDARD
TZOFFSETFROM:-0700
TZOFFSETTO:-0800
TZNAME:PST
DTSTART:20261101T090000
END:STANDARD
BEGIN:DAYLIGHT
TZOFFSETFROM:-0800
TZOFFSETTO:-0700
TZNAME:PDT
DTSTART:20270314T100000
END:DAYLIGHT
BEGIN:STANDARD
TZOFFSETFROM:-0700
TZOFFSETTO:-0800
TZNAME:PST
DTSTART:20271107T090000
END:STANDARD
END:VTIMEZONE
BEGIN:VEVENT
DTSTART;TZID=America/Los_Angeles:20260201T084500
DTEND;TZID=America/Los_Angeles:20260201T094500
DTSTAMP:20260423T120442
CREATED:20250724T171209Z
LAST-MODIFIED:20250724T171209Z
UID:10002857-1769935500-1769939100@www.sfdsparish.com
SUMMARY:Teen Confirmation Class
DESCRIPTION:Teen Confirmation Class 8:45 – 9:45 am
URL:https://www.sfdsparish.com/event/teen-confirmation-class-19/
LOCATION:School\, United States
CATEGORIES:Ministries
GEO:37.09024;-95.712891
END:VEVENT
BEGIN:VEVENT
DTSTART;TZID=America/Los_Angeles:20260201T090000
DTEND;TZID=America/Los_Angeles:20260201T095000
DTSTAMP:20260423T120442
CREATED:20250724T181643Z
LAST-MODIFIED:20250724T181643Z
UID:10002876-1769936400-1769939400@www.sfdsparish.com
SUMMARY:CRE Class
DESCRIPTION:Religious Education Class 9 – 9:50 am
URL:https://www.sfdsparish.com/event/cre-class-16/
LOCATION:School\, United States
CATEGORIES:Ministries
GEO:37.09024;-95.712891
END:VEVENT
BEGIN:VEVENT
DTSTART;TZID=America/Los_Angeles:20260207T100000
DTEND;TZID=America/Los_Angeles:20260207T113000
DTSTAMP:20260423T120442
CREATED:20250724T181811Z
LAST-MODIFIED:20250724T181811Z
UID:10002877-1770458400-1770463800@www.sfdsparish.com
SUMMARY:First Penance 2nd Year Only
DESCRIPTION:First Penance for 2nd year CRE students ONLY
URL:https://www.sfdsparish.com/event/first-penance-2nd-year-only/
LOCATION:Main Church\, United States
CATEGORIES:Ministries
GEO:37.09024;-95.712891
END:VEVENT
BEGIN:VEVENT
DTSTART;TZID=America/Los_Angeles:20260208T090000
DTEND;TZID=America/Los_Angeles:20260208T095000
DTSTAMP:20260423T120442
CREATED:20250724T205739Z
LAST-MODIFIED:20250724T205739Z
UID:10002889-1770541200-1770544200@www.sfdsparish.com
SUMMARY:CRE Class
DESCRIPTION:Religious Education class 9 – 9:50 am
URL:https://www.sfdsparish.com/event/cre-class-20/
LOCATION:School\, United States
CATEGORIES:Ministries
GEO:37.09024;-95.712891
END:VEVENT
BEGIN:VEVENT
DTSTART;VALUE=DATE:20260216
DTEND;VALUE=DATE:20260217
DTSTAMP:20260423T120442
CREATED:20260210T224221Z
LAST-MODIFIED:20260210T224221Z
UID:10002912-1771200000-1771286399@www.sfdsparish.com
SUMMARY:President's Holiday
DESCRIPTION:The parish office will be closed for the President’s Day holiday.
URL:https://www.sfdsparish.com/event/presidents-holiday/
LOCATION:Parish Center\, 13360 Valleyheart Drive\, Sherman Oaks\, CA\, 91423\, United States
END:VEVENT
BEGIN:VEVENT
DTSTART;VALUE=DATE:20260218
DTEND;VALUE=DATE:20260219
DTSTAMP:20260423T120442
CREATED:20260203T181059Z
LAST-MODIFIED:20260203T181059Z
UID:10002911-1771372800-1771459199@www.sfdsparish.com
SUMMARY:Ash Wednesday
DESCRIPTION:Ash Wednesday Masses at 8:15 am\, 12:05 noon and 7:00 pm in the main church\, ashes distributed at all Masses.
URL:https://www.sfdsparish.com/event/ash-wednesday-10/
LOCATION:Main Church\, United States
CATEGORIES:Ministries
GEO:37.09024;-95.712891
END:VEVENT
BEGIN:VEVENT
DTSTART;TZID=America/Los_Angeles:20260222T084500
DTEND;TZID=America/Los_Angeles:20260222T094500
DTSTAMP:20260423T120442
CREATED:20250724T171407Z
LAST-MODIFIED:20250724T171407Z
UID:10002858-1771749900-1771753500@www.sfdsparish.com
SUMMARY:Teen Confirmation Class
DESCRIPTION:Teen Confirmation Class 8:45 – 9:45 am
URL:https://www.sfdsparish.com/event/teen-confirmation-class-20/2026-02-22/
LOCATION:School\, United States
CATEGORIES:Ministries
GEO:37.09024;-95.712891
END:VEVENT
BEGIN:VEVENT
DTSTART;TZID=America/Los_Angeles:20260222T090000
DTEND;TZID=America/Los_Angeles:20260222T095000
DTSTAMP:20260423T120442
CREATED:20250724T210419Z
LAST-MODIFIED:20250724T210419Z
UID:10002890-1771750800-1771753800@www.sfdsparish.com
SUMMARY:CRE Class
DESCRIPTION:Religious Education Class 9 – 9:50 am and Class Mass
URL:https://www.sfdsparish.com/event/cre-class-17/
LOCATION:School\, United States
CATEGORIES:Ministries
GEO:37.09024;-95.712891
END:VEVENT
BEGIN:VEVENT
DTSTART;VALUE=DATE:20260227
DTEND;VALUE=DATE:20260228
DTSTAMP:20260423T120442
CREATED:20260223T215444Z
LAST-MODIFIED:20260223T215444Z
UID:10002917-1772150400-1772236799@www.sfdsparish.com
SUMMARY:Parish Office Closed
DESCRIPTION:The parish office will be closed only this Friday February 27th.
URL:https://www.sfdsparish.com/event/parish-office-closed-24/
LOCATION:Parish Center\, 13360 Valleyheart Drive\, Sherman Oaks\, CA\, 91423\, United States
CATEGORIES:Ministries
END:VEVENT
END:VCALENDAR