BEGIN:VCALENDAR
VERSION:2.0
PRODID:-//Saint Francis de Sales Parish - ECPv6.15.20//NONSGML v1.0//EN
CALSCALE:GREGORIAN
METHOD:PUBLISH
X-ORIGINAL-URL:https://www.sfdsparish.com
X-WR-CALDESC:Events for Saint Francis de Sales Parish
REFRESH-INTERVAL;VALUE=DURATION:PT1H
X-Robots-Tag:noindex
X-PUBLISHED-TTL:PT1H
BEGIN:VTIMEZONE
TZID:America/Los_Angeles
BEGIN:DAYLIGHT
TZOFFSETFROM:-0800
TZOFFSETTO:-0700
TZNAME:PDT
DTSTART:20120311T100000
END:DAYLIGHT
BEGIN:STANDARD
TZOFFSETFROM:-0700
TZOFFSETTO:-0800
TZNAME:PST
DTSTART:20121104T090000
END:STANDARD
BEGIN:DAYLIGHT
TZOFFSETFROM:-0800
TZOFFSETTO:-0700
TZNAME:PDT
DTSTART:20130310T100000
END:DAYLIGHT
BEGIN:STANDARD
TZOFFSETFROM:-0700
TZOFFSETTO:-0800
TZNAME:PST
DTSTART:20131103T090000
END:STANDARD
BEGIN:DAYLIGHT
TZOFFSETFROM:-0800
TZOFFSETTO:-0700
TZNAME:PDT
DTSTART:20140309T100000
END:DAYLIGHT
BEGIN:STANDARD
TZOFFSETFROM:-0700
TZOFFSETTO:-0800
TZNAME:PST
DTSTART:20141102T090000
END:STANDARD
END:VTIMEZONE
BEGIN:VEVENT
DTSTART;TZID=America/Los_Angeles:20130521T073000
DTEND;TZID=America/Los_Angeles:20130521T083000
DTSTAMP:20260423T172755
CREATED:20130429T204018Z
LAST-MODIFIED:20130429T204018Z
UID:10000139-1369121400-1369125000@www.sfdsparish.com
SUMMARY:PAC Meeting
DESCRIPTION:Parish Council Meeting 7:30 am
URL:https://www.sfdsparish.com/event/pac-meeting-2/
LOCATION:Parish Center\, 13360 Valleyheart Drive\, Sherman Oaks\, CA\, 91423\, United States
END:VEVENT
BEGIN:VEVENT
DTSTART;TZID=America/Los_Angeles:20130522T080000
DTEND;TZID=America/Los_Angeles:20130522T200000
DTSTAMP:20260423T172755
CREATED:20130404T182721Z
LAST-MODIFIED:20130404T182721Z
UID:10000023-1369209600-1369252800@www.sfdsparish.com
SUMMARY:Altar Servers Disneyland Trip
DESCRIPTION:Altar Servers spend the day at Disneyland all children should arrive at school at 8:00 am.
URL:https://www.sfdsparish.com/event/altar-servers-disneyland-trip/
LOCATION:SFDS School\, 13368 Valleyheart Drive\, Sherman Oaks\, CA\, 91423\, United States
CATEGORIES:Organizations
END:VEVENT
BEGIN:VEVENT
DTSTART;TZID=America/Los_Angeles:20130527T080000
DTEND;TZID=America/Los_Angeles:20130527T170000
DTSTAMP:20260423T172755
CREATED:20130404T182817Z
LAST-MODIFIED:20130404T182817Z
UID:10000025-1369641600-1369674000@www.sfdsparish.com
SUMMARY:No School
DESCRIPTION:Memorial Day
URL:https://www.sfdsparish.com/event/no-school-3/
LOCATION:SFDS School\, 13368 Valleyheart Drive\, Sherman Oaks\, CA\, 91423\, United States
CATEGORIES:SFDS School
END:VEVENT
BEGIN:VEVENT
DTSTART;TZID=America/Los_Angeles:20130607T081500
DTEND;TZID=America/Los_Angeles:20130607T093000
DTSTAMP:20260423T172755
CREATED:20130404T185606Z
LAST-MODIFIED:20130404T190000Z
UID:10000132-1370592900-1370597400@www.sfdsparish.com
SUMMARY:School  Graduation Mass
DESCRIPTION:
URL:https://www.sfdsparish.com/event/school-mass/
LOCATION:SFDS Church\, 13360 Valleyheart Drive\, Sherman Oaks\, CA\, 91423\, United States
CATEGORIES:SFDS School
END:VEVENT
BEGIN:VEVENT
DTSTART;TZID=America/Los_Angeles:20130607T170000
DTEND;TZID=America/Los_Angeles:20130607T180000
DTSTAMP:20260423T172755
CREATED:20130404T183911Z
LAST-MODIFIED:20130404T183911Z
UID:10000127-1370624400-1370628000@www.sfdsparish.com
SUMMARY:Graduation Ceremony
DESCRIPTION:School Graduation ceremony 5:00 pm in the church
URL:https://www.sfdsparish.com/event/graduation-ceremony/
LOCATION:SFDS Church\, 13360 Valleyheart Drive\, Sherman Oaks\, CA\, 91423\, United States
CATEGORIES:SFDS School
END:VEVENT
BEGIN:VEVENT
DTSTART;TZID=America/Los_Angeles:20130612T193000
DTEND;TZID=America/Los_Angeles:20130612T203000
DTSTAMP:20260423T172755
CREATED:20130605T203957Z
LAST-MODIFIED:20130605T203957Z
UID:10000142-1371065400-1371069000@www.sfdsparish.com
SUMMARY:Baptism Class
DESCRIPTION:Baptism class the second Wednesday of the month in the parish center from 7:30 – 8:30 pm.
URL:https://www.sfdsparish.com/event/baptism-class-2/
LOCATION:Parish Center\, 13360 Valleyheart Drive\, Sherman Oaks\, CA\, 91423\, United States
END:VEVENT
BEGIN:VEVENT
DTSTART;TZID=America/Los_Angeles:20130614T081500
DTEND;TZID=America/Los_Angeles:20130614T091500
DTSTAMP:20260423T172755
CREATED:20130404T184615Z
LAST-MODIFIED:20130404T184615Z
UID:10000131-1371197700-1371201300@www.sfdsparish.com
SUMMARY:Kindergarten Graduation Mass
DESCRIPTION:School will attend 8:15 mass for Kindergarten Graduation.
URL:https://www.sfdsparish.com/event/kindergarten-graduation-mass/
LOCATION:SFDS Church\, 13360 Valleyheart Drive\, Sherman Oaks\, CA\, 91423\, United States
CATEGORIES:SFDS School
END:VEVENT
BEGIN:VEVENT
DTSTART;TZID=America/Los_Angeles:20130616T080000
DTEND;TZID=America/Los_Angeles:20130616T170000
DTSTAMP:20260423T172755
CREATED:20130404T182915Z
LAST-MODIFIED:20130404T182915Z
UID:10000027-1371369600-1371402000@www.sfdsparish.com
SUMMARY:Father's Day
DESCRIPTION:
URL:https://www.sfdsparish.com/event/fathers-day/
LOCATION:SFDS Church\, 13360 Valleyheart Drive\, Sherman Oaks\, CA\, 91423\, United States
CATEGORIES:Organizations
END:VEVENT
BEGIN:VEVENT
DTSTART;TZID=America/Los_Angeles:20130617T113000
DTEND;TZID=America/Los_Angeles:20130617T113000
DTSTAMP:20260423T172755
CREATED:20130612T194841Z
LAST-MODIFIED:20130612T194841Z
UID:10000144-1371468600-1371468600@www.sfdsparish.com
SUMMARY:55+ Summer Luncheon
DESCRIPTION:Luncheon Monday June 17th at 11:30 am in Parish Auditorium\, entertainment and bone density screening. A $5 donation is greatly appreciated for Chef Alcala’s delicious lunch. Please call the parish office to respond (818) 784-0105
URL:https://www.sfdsparish.com/event/55-summer-luncheon/
LOCATION:SFDS School\, 13368 Valleyheart Drive\, Sherman Oaks\, CA\, 91423\, United States
CATEGORIES:Organizations
END:VEVENT
BEGIN:VEVENT
DTSTART;TZID=America/Los_Angeles:20130620T080000
DTEND;TZID=America/Los_Angeles:20130620T170000
DTSTAMP:20260423T172755
CREATED:20130404T183620Z
LAST-MODIFIED:20130404T183620Z
UID:10000125-1371715200-1371747600@www.sfdsparish.com
SUMMARY:Mass - Last Day of School
DESCRIPTION:School attends 8:15 morning mass and summer vacation begins at 10:00 am
URL:https://www.sfdsparish.com/event/mass-last-day-of-school/
LOCATION:SFDS School\, 13368 Valleyheart Drive\, Sherman Oaks\, CA\, 91423\, United States
CATEGORIES:SFDS School
END:VEVENT
BEGIN:VEVENT
DTSTART;TZID=America/Los_Angeles:20130622T080000
DTEND;TZID=America/Los_Angeles:20130623T170000
DTSTAMP:20260423T172755
CREATED:20130404T184311Z
LAST-MODIFIED:20130404T184311Z
UID:10000130-1371888000-1372006800@www.sfdsparish.com
SUMMARY:Mission Appeal
DESCRIPTION:Mission Appeal at weekend masses.
URL:https://www.sfdsparish.com/event/mission-appeal/
LOCATION:SFDS Church\, 13360 Valleyheart Drive\, Sherman Oaks\, CA\, 91423\, United States
CATEGORIES:Ministries
END:VEVENT
BEGIN:VEVENT
DTSTART;TZID=America/Los_Angeles:20130908T090000
DTEND;TZID=America/Los_Angeles:20130908T120000
DTSTAMP:20260423T172755
CREATED:20130815T205217Z
LAST-MODIFIED:20130815T215835Z
UID:10000147-1378630800-1378641600@www.sfdsparish.com
SUMMARY:Religious Education Registration
DESCRIPTION:Registration for Religious Education 1st -8th\, Teen Confirmation and Little Church is in the school auditorium from 9:00 am to Noon. For all Religious Ed/Confirmation please bring a copy of your child’s baptismal certificate and First Communion Certificate for Teen confirmation..
URL:https://www.sfdsparish.com/event/religious-education-registration/
LOCATION:SFDS School\, 13368 Valleyheart Drive\, Sherman Oaks\, CA\, 91423\, United States
CATEGORIES:Ministries
END:VEVENT
BEGIN:VEVENT
DTSTART;TZID=America/Los_Angeles:20130908T100000
DTEND;TZID=America/Los_Angeles:20130908T100000
DTSTAMP:20260423T172755
CREATED:20130905T200733Z
LAST-MODIFIED:20130905T200733Z
UID:10000153-1378634400-1378634400@www.sfdsparish.com
SUMMARY:Choir Returns
DESCRIPTION:
URL:https://www.sfdsparish.com/event/choir-returns/
LOCATION:SFDS Church\, 13360 Valleyheart Drive\, Sherman Oaks\, CA\, 91423\, United States
CATEGORIES:Organizations
END:VEVENT
BEGIN:VEVENT
DTSTART;TZID=America/Los_Angeles:20130910T083000
DTEND;TZID=America/Los_Angeles:20130910T100000
DTSTAMP:20260423T172755
CREATED:20130905T210552Z
LAST-MODIFIED:20130924T173234Z
UID:10000161-1378801800-1378807200@www.sfdsparish.com
SUMMARY:PTAC Meeting
DESCRIPTION:PTAC meeting in the parish center at 8:30 am
URL:https://www.sfdsparish.com/event/ptac-meeting-3/2013-09-10/
LOCATION:Parish Center\, 13360 Valleyheart Drive\, Sherman Oaks\, CA\, 91423\, United States
CATEGORIES:SFDS School
END:VEVENT
BEGIN:VEVENT
DTSTART;TZID=America/Los_Angeles:20130910T103000
DTEND;TZID=America/Los_Angeles:20130910T113000
DTSTAMP:20260423T172755
CREATED:20130905T210836Z
LAST-MODIFIED:20130905T212028Z
UID:10000163-1378809000-1378812600@www.sfdsparish.com
SUMMARY:Chandler Convalescent
DESCRIPTION:Holy communion to convalescent at 10:30
URL:https://www.sfdsparish.com/event/chandler-convalescent/2013-09-10/
LOCATION:Chandler Convalescent
CATEGORIES:Ministries
END:VEVENT
BEGIN:VEVENT
DTSTART;TZID=America/Los_Angeles:20130912T193000
DTEND;TZID=America/Los_Angeles:20130912T210000
DTSTAMP:20260423T172755
CREATED:20130905T210005Z
LAST-MODIFIED:20130905T212753Z
UID:10000159-1379014200-1379019600@www.sfdsparish.com
SUMMARY:Choir Rehearsal
DESCRIPTION:
URL:https://www.sfdsparish.com/event/choir-rehearsal/2013-09-12/
LOCATION:CA
CATEGORIES:Organizations
END:VEVENT
BEGIN:VEVENT
DTSTART;TZID=America/Los_Angeles:20130913T081500
DTEND;TZID=America/Los_Angeles:20130913T081500
DTSTAMP:20260423T172755
CREATED:20130905T200829Z
LAST-MODIFIED:20130905T200829Z
UID:10000154-1379060100-1379060100@www.sfdsparish.com
SUMMARY:School Children attend Mass
DESCRIPTION:
URL:https://www.sfdsparish.com/event/school-children-attend-mass/
LOCATION:SFDS Church\, 13360 Valleyheart Drive\, Sherman Oaks\, CA\, 91423\, United States
CATEGORIES:SFDS School
END:VEVENT
BEGIN:VEVENT
DTSTART;TZID=America/Los_Angeles:20130915T090000
DTEND;TZID=America/Los_Angeles:20130915T095000
DTSTAMP:20260423T172755
CREATED:20130826T200959Z
LAST-MODIFIED:20130826T201239Z
UID:10000149-1379235600-1379238600@www.sfdsparish.com
SUMMARY:Religious Education Classes Begin
DESCRIPTION:Religious Education classes begin in the school buildings at 9:00 for grades 1 – 8.
URL:https://www.sfdsparish.com/event/religious-education-classes-begin/
LOCATION:SFDS School\, 13368 Valleyheart Drive\, Sherman Oaks\, CA\, 91423\, United States
CATEGORIES:Ministries
END:VEVENT
BEGIN:VEVENT
DTSTART;TZID=America/Los_Angeles:20130915T100000
DTEND;TZID=America/Los_Angeles:20130915T100000
DTSTAMP:20260423T172755
CREATED:20130905T200947Z
LAST-MODIFIED:20130905T200947Z
UID:10000155-1379239200-1379239200@www.sfdsparish.com
SUMMARY:Religious Ed Students attend Mass
DESCRIPTION:
URL:https://www.sfdsparish.com/event/religious-ed-students-attend-mass/
LOCATION:SFDS Church\, 13360 Valleyheart Drive\, Sherman Oaks\, CA\, 91423\, United States
CATEGORIES:Ministries
END:VEVENT
BEGIN:VEVENT
DTSTART;TZID=America/Los_Angeles:20130917T103000
DTEND;TZID=America/Los_Angeles:20130917T113000
DTSTAMP:20260423T172755
CREATED:20130905T211040Z
LAST-MODIFIED:20130905T213936Z
UID:10000171-1379413800-1379417400@www.sfdsparish.com
SUMMARY:Sherman Oaks Rehab
DESCRIPTION:Holy Communion to rehab at 10:30 am
URL:https://www.sfdsparish.com/event/sherman-oaks-rehab/2013-09-17/
LOCATION:Sherman Oaks Rehab
CATEGORIES:Ministries
END:VEVENT
BEGIN:VEVENT
DTSTART;TZID=America/Los_Angeles:20130918T190000
DTEND;TZID=America/Los_Angeles:20130918T210000
DTSTAMP:20260423T172755
CREATED:20130905T210219Z
LAST-MODIFIED:20130925T192623Z
UID:10000160-1379530800-1379538000@www.sfdsparish.com
SUMMARY:Christian Initiation of Adults - 7:00 pm
DESCRIPTION:RCIA meets in the parish center from 7:00 pm to 9:00 pm
URL:https://www.sfdsparish.com/event/christian-initiation-of-adults/2013-09-18/
LOCATION:Parish Center\, 13360 Valleyheart Drive\, Sherman Oaks\, CA\, 91423\, United States
CATEGORIES:Ministries
END:VEVENT
BEGIN:VEVENT
DTSTART;TZID=America/Los_Angeles:20130920T193000
DTEND;TZID=America/Los_Angeles:20130920T193000
DTSTAMP:20260423T172755
CREATED:20130905T201502Z
LAST-MODIFIED:20130905T201502Z
UID:10000156-1379705400-1379705400@www.sfdsparish.com
SUMMARY:Church Organ Concert
DESCRIPTION:Namhee Han\, PhD\, DMA and Rong-Huey Liu on the oboe will perform a concert in the church at 7:30 pm\, no fee but donations are welcome.
URL:https://www.sfdsparish.com/event/church-organ-concert/
LOCATION:SFDS Church\, 13360 Valleyheart Drive\, Sherman Oaks\, CA\, 91423\, United States
CATEGORIES:Ministries
END:VEVENT
BEGIN:VEVENT
DTSTART;TZID=America/Los_Angeles:20130921T130000
DTEND;TZID=America/Los_Angeles:20130921T160000
DTSTAMP:20260423T172755
CREATED:20130521T182100Z
LAST-MODIFIED:20130925T193314Z
UID:10000140-1379768400-1379779200@www.sfdsparish.com
SUMMARY:Exposition of the Blessed Sacrament in Church
DESCRIPTION:Exposition of the Blessed Sacrament in the church 1:00 pm to 4:00 pm
URL:https://www.sfdsparish.com/event/adoration-of-the-eucharist/2013-09-21/
LOCATION:SFDS Church\, 13360 Valleyheart Drive\, Sherman Oaks\, CA\, 91423\, United States
CATEGORIES:Ministries
END:VEVENT
BEGIN:VEVENT
DTSTART;TZID=America/Los_Angeles:20130921T170000
DTEND;TZID=America/Los_Angeles:20130922T170000
DTSTAMP:20260423T172755
CREATED:20130905T202650Z
LAST-MODIFIED:20130905T202650Z
UID:10000157-1379782800-1379869200@www.sfdsparish.com
SUMMARY:Baby Bottle Drive Begins
DESCRIPTION:Pregnancy Counseling Center baby bottle drive begins with the distribution of the bottles. Fill the bottles and return them on September 28th and 29th.
URL:https://www.sfdsparish.com/event/baby-bottle-drive-begins/
LOCATION:SFDS Church\, 13360 Valleyheart Drive\, Sherman Oaks\, CA\, 91423\, United States
CATEGORIES:Ministries
END:VEVENT
BEGIN:VEVENT
DTSTART;TZID=America/Los_Angeles:20130922T084500
DTEND;TZID=America/Los_Angeles:20130922T095000
DTSTAMP:20260423T172755
CREATED:20130826T201156Z
LAST-MODIFIED:20130826T201918Z
UID:10000151-1379839500-1379843400@www.sfdsparish.com
SUMMARY:High School Confirmation Begins
DESCRIPTION:Classes begin at 8:45  in the brick building of the school.
URL:https://www.sfdsparish.com/event/high-school-confirmation/
LOCATION:SFDS School\, 13368 Valleyheart Drive\, Sherman Oaks\, CA\, 91423\, United States
CATEGORIES:Ministries
END:VEVENT
BEGIN:VEVENT
DTSTART;TZID=America/Los_Angeles:20130924T103000
DTEND;TZID=America/Los_Angeles:20130924T113000
DTSTAMP:20260423T172755
CREATED:20130905T211300Z
LAST-MODIFIED:20130905T214436Z
UID:10000052-1380018600-1380022200@www.sfdsparish.com
SUMMARY:Sherman Village Convalescent
DESCRIPTION:Holy Communion to convalescent at 10:30 am
URL:https://www.sfdsparish.com/event/sherman-village-convalescent/2013-09-24/
LOCATION:Sherman Village
CATEGORIES:Ministries
END:VEVENT
BEGIN:VEVENT
DTSTART;TZID=America/Los_Angeles:20130928T170000
DTEND;TZID=America/Los_Angeles:20130929T170000
DTSTAMP:20260423T172755
CREATED:20130905T205827Z
LAST-MODIFIED:20130905T205827Z
UID:10000158-1380387600-1380474000@www.sfdsparish.com
SUMMARY:Baby Bottle Drive Collection
DESCRIPTION:Return your filled baby bottles to mass on September 28th and 29th.
URL:https://www.sfdsparish.com/event/baby-bottle-drive-collection/
LOCATION:SFDS Church\, 13360 Valleyheart Drive\, Sherman Oaks\, CA\, 91423\, United States
CATEGORIES:Ministries
END:VEVENT
BEGIN:VEVENT
DTSTART;VALUE=DATE:20131001
DTEND;VALUE=DATE:20131002
DTSTAMP:20260423T172755
CREATED:20130924T173032Z
LAST-MODIFIED:20130924T173032Z
UID:10000051-1380585600-1380671999@www.sfdsparish.com
SUMMARY:St. Therese Little Flower
DESCRIPTION:
URL:https://www.sfdsparish.com/event/st-therese-little-flower/
LOCATION:SFDS Church\, 13360 Valleyheart Drive\, Sherman Oaks\, CA\, 91423\, United States
CATEGORIES:Ministries
END:VEVENT
BEGIN:VEVENT
DTSTART;VALUE=DATE:20131002
DTEND;VALUE=DATE:20131003
DTSTAMP:20260423T172755
CREATED:20130924T173504Z
LAST-MODIFIED:20130924T173504Z
UID:10000045-1380672000-1380758399@www.sfdsparish.com
SUMMARY:Guardian Angels
DESCRIPTION:
URL:https://www.sfdsparish.com/event/guardian-angels/
LOCATION:SFDS Church\, 13360 Valleyheart Drive\, Sherman Oaks\, CA\, 91423\, United States
CATEGORIES:Ministries
END:VEVENT
BEGIN:VEVENT
DTSTART;VALUE=DATE:20131004
DTEND;VALUE=DATE:20131005
DTSTAMP:20260423T172755
CREATED:20130924T173551Z
LAST-MODIFIED:20130924T173551Z
UID:10000046-1380844800-1380931199@www.sfdsparish.com
SUMMARY:St. Francis of Assisi
DESCRIPTION:
URL:https://www.sfdsparish.com/event/st-francis-of-assisi/
LOCATION:SFDS Church\, 13360 Valleyheart Drive\, Sherman Oaks\, CA\, 91423\, United States
CATEGORIES:Ministries
END:VEVENT
END:VCALENDAR