BEGIN:VCALENDAR
VERSION:2.0
PRODID:-//Saint Francis de Sales Parish - ECPv6.15.20//NONSGML v1.0//EN
CALSCALE:GREGORIAN
METHOD:PUBLISH
X-WR-CALNAME:Saint Francis de Sales Parish
X-ORIGINAL-URL:https://www.sfdsparish.com
X-WR-CALDESC:Events for Saint Francis de Sales Parish
REFRESH-INTERVAL;VALUE=DURATION:PT1H
X-Robots-Tag:noindex
X-PUBLISHED-TTL:PT1H
BEGIN:VTIMEZONE
TZID:America/Los_Angeles
BEGIN:DAYLIGHT
TZOFFSETFROM:-0800
TZOFFSETTO:-0700
TZNAME:PDT
DTSTART:20140309T100000
END:DAYLIGHT
BEGIN:STANDARD
TZOFFSETFROM:-0700
TZOFFSETTO:-0800
TZNAME:PST
DTSTART:20141102T090000
END:STANDARD
BEGIN:DAYLIGHT
TZOFFSETFROM:-0800
TZOFFSETTO:-0700
TZNAME:PDT
DTSTART:20150308T100000
END:DAYLIGHT
BEGIN:STANDARD
TZOFFSETFROM:-0700
TZOFFSETTO:-0800
TZNAME:PST
DTSTART:20151101T090000
END:STANDARD
BEGIN:DAYLIGHT
TZOFFSETFROM:-0800
TZOFFSETTO:-0700
TZNAME:PDT
DTSTART:20160313T100000
END:DAYLIGHT
BEGIN:STANDARD
TZOFFSETFROM:-0700
TZOFFSETTO:-0800
TZNAME:PST
DTSTART:20161106T090000
END:STANDARD
END:VTIMEZONE
BEGIN:VEVENT
DTSTART;TZID=America/Los_Angeles:20150829T160000
DTEND;TZID=America/Los_Angeles:20150829T170000
DTSTAMP:20260425T195528
CREATED:20141203T174538Z
LAST-MODIFIED:20151221T204325Z
UID:10000616-1440864000-1440867600@www.sfdsparish.com
SUMMARY:Confessions
DESCRIPTION:Confessions in the main church every Saturday from 4:00 – 5:00 pm
URL:https://www.sfdsparish.com/event/confessions/2015-08-29/
LOCATION:SFDS Church\, 13360 Valleyheart Drive\, Sherman Oaks\, CA\, 91423\, United States
CATEGORIES:Ministries
END:VEVENT
BEGIN:VEVENT
DTSTART;TZID=America/Los_Angeles:20150905T090000
DTEND;TZID=America/Los_Angeles:20150905T103000
DTSTAMP:20260425T195528
CREATED:20140227T201135Z
LAST-MODIFIED:20160321T205851Z
UID:10000394-1441443600-1441449000@www.sfdsparish.com
SUMMARY:Legion of Mary
DESCRIPTION:Saturday’s from 9:00 – 10:30 am in the Parish Center chapel.
URL:https://www.sfdsparish.com/event/legion-of-mary/2015-09-05/
LOCATION:Parish Center\, 13360 Valleyheart Drive\, Sherman Oaks\, CA\, 91423\, United States
CATEGORIES:Ministries
END:VEVENT
BEGIN:VEVENT
DTSTART;TZID=America/Los_Angeles:20150905T160000
DTEND;TZID=America/Los_Angeles:20150905T170000
DTSTAMP:20260425T195528
CREATED:20141203T174538Z
LAST-MODIFIED:20151221T204325Z
UID:10000617-1441468800-1441472400@www.sfdsparish.com
SUMMARY:Confessions
DESCRIPTION:Confessions in the main church every Saturday from 4:00 – 5:00 pm
URL:https://www.sfdsparish.com/event/confessions/2015-09-05/
LOCATION:SFDS Church\, 13360 Valleyheart Drive\, Sherman Oaks\, CA\, 91423\, United States
CATEGORIES:Ministries
END:VEVENT
BEGIN:VEVENT
DTSTART;TZID=America/Los_Angeles:20150909T190000
DTEND;TZID=America/Los_Angeles:20150909T210000
DTSTAMP:20260425T195528
CREATED:20150831T194805Z
LAST-MODIFIED:20150831T194805Z
UID:10000710-1441825200-1441832400@www.sfdsparish.com
SUMMARY:Adult Initiation
DESCRIPTION:Adult Initiation classes are held in the Parish Center on Wednesdays evenings from 7 – 9 pm starting September 9th and finishing sometime in June.
URL:https://www.sfdsparish.com/event/adult-initiation-2/2015-09-09/
LOCATION:Parish Center\, 13360 Valleyheart Drive\, Sherman Oaks\, CA\, 91423\, United States
CATEGORIES:Ministries
END:VEVENT
BEGIN:VEVENT
DTSTART;TZID=America/Los_Angeles:20150912T090000
DTEND;TZID=America/Los_Angeles:20150912T103000
DTSTAMP:20260425T195528
CREATED:20140227T201135Z
LAST-MODIFIED:20160321T205851Z
UID:10000395-1442048400-1442053800@www.sfdsparish.com
SUMMARY:Legion of Mary
DESCRIPTION:Saturday’s from 9:00 – 10:30 am in the Parish Center chapel.
URL:https://www.sfdsparish.com/event/legion-of-mary/2015-09-12/
LOCATION:Parish Center\, 13360 Valleyheart Drive\, Sherman Oaks\, CA\, 91423\, United States
CATEGORIES:Ministries
END:VEVENT
BEGIN:VEVENT
DTSTART;TZID=America/Los_Angeles:20150912T160000
DTEND;TZID=America/Los_Angeles:20150912T170000
DTSTAMP:20260425T195528
CREATED:20141203T174538Z
LAST-MODIFIED:20151221T204325Z
UID:10000618-1442073600-1442077200@www.sfdsparish.com
SUMMARY:Confessions
DESCRIPTION:Confessions in the main church every Saturday from 4:00 – 5:00 pm
URL:https://www.sfdsparish.com/event/confessions/2015-09-12/
LOCATION:SFDS Church\, 13360 Valleyheart Drive\, Sherman Oaks\, CA\, 91423\, United States
CATEGORIES:Ministries
END:VEVENT
BEGIN:VEVENT
DTSTART;TZID=America/Los_Angeles:20150913T090000
DTEND;TZID=America/Los_Angeles:20150913T120000
DTSTAMP:20260425T195528
CREATED:20150813T205529Z
LAST-MODIFIED:20150820T220600Z
UID:10000702-1442134800-1442145600@www.sfdsparish.com
SUMMARY:Registration for CRE- Teen Confirmation - Little Church
DESCRIPTION:Registration for Religious Education for grades 1- 8\, Teen Confirmation and Little Church are in the school auditorium from 9 am to noon. If it’s your child’s first year in Religious Education or Teen confirmation please bring a copy of their Baptismal certificate even if they were baptized at our parish.
URL:https://www.sfdsparish.com/event/registration-for-cre-teen-confirmation-little-church/
LOCATION:SFDS School\, 13368 Valleyheart Drive\, Sherman Oaks\, CA\, 91423\, United States
CATEGORIES:Ministries
END:VEVENT
BEGIN:VEVENT
DTSTART;TZID=America/Los_Angeles:20150916T190000
DTEND;TZID=America/Los_Angeles:20150916T203000
DTSTAMP:20260425T195528
CREATED:20150831T174817Z
LAST-MODIFIED:20150831T205059Z
UID:10000703-1442430000-1442435400@www.sfdsparish.com
SUMMARY:DivorceCare
DESCRIPTION:The DivorceCare program will start on Wednesday September 16th from 7-8:30 in the parish center for 14 weeks. Contact SFDSDivorceCare@gmail.com or more information.
URL:https://www.sfdsparish.com/event/divorcecare-3/2015-09-16/
LOCATION:Parish Center\, 13360 Valleyheart Drive\, Sherman Oaks\, CA\, 91423\, United States
CATEGORIES:Ministries
END:VEVENT
BEGIN:VEVENT
DTSTART;TZID=America/Los_Angeles:20150919T090000
DTEND;TZID=America/Los_Angeles:20150919T103000
DTSTAMP:20260425T195528
CREATED:20140227T201135Z
LAST-MODIFIED:20160321T205851Z
UID:10000396-1442653200-1442658600@www.sfdsparish.com
SUMMARY:Legion of Mary
DESCRIPTION:Saturday’s from 9:00 – 10:30 am in the Parish Center chapel.
URL:https://www.sfdsparish.com/event/legion-of-mary/2015-09-19/
LOCATION:Parish Center\, 13360 Valleyheart Drive\, Sherman Oaks\, CA\, 91423\, United States
CATEGORIES:Ministries
END:VEVENT
BEGIN:VEVENT
DTSTART;TZID=America/Los_Angeles:20150919T160000
DTEND;TZID=America/Los_Angeles:20150919T170000
DTSTAMP:20260425T195528
CREATED:20141203T174538Z
LAST-MODIFIED:20151221T204325Z
UID:10000619-1442678400-1442682000@www.sfdsparish.com
SUMMARY:Confessions
DESCRIPTION:Confessions in the main church every Saturday from 4:00 – 5:00 pm
URL:https://www.sfdsparish.com/event/confessions/2015-09-19/
LOCATION:SFDS Church\, 13360 Valleyheart Drive\, Sherman Oaks\, CA\, 91423\, United States
CATEGORIES:Ministries
END:VEVENT
BEGIN:VEVENT
DTSTART;TZID=America/Los_Angeles:20150919T170000
DTEND;TZID=America/Los_Angeles:20150920T170000
DTSTAMP:20260425T195528
CREATED:20150915T155454Z
LAST-MODIFIED:20150915T155454Z
UID:10000721-1442682000-1442768400@www.sfdsparish.com
SUMMARY:Baby Bottle Distribution
DESCRIPTION:Take a baby bottle home after any Mass and fill it with monetary donations for the pregnancy counseling center. The bottles will be collected during Mass the weekend of 9/26 & 9/27
URL:https://www.sfdsparish.com/event/baby-bottle-distribution/
LOCATION:SFDS Church\, 13360 Valleyheart Drive\, Sherman Oaks\, CA\, 91423\, United States
CATEGORIES:Ministries
END:VEVENT
BEGIN:VEVENT
DTSTART;TZID=America/Los_Angeles:20150920T090000
DTEND;TZID=America/Los_Angeles:20150920T110000
DTSTAMP:20260425T195528
CREATED:20150914T181836Z
LAST-MODIFIED:20150914T181836Z
UID:10000714-1442739600-1442746800@www.sfdsparish.com
SUMMARY:First CRE Class
DESCRIPTION:The first class for religious education will be at 9 am in the school class rooms. The children will attend 10 am Mass after class together this week.
URL:https://www.sfdsparish.com/event/first-cre-class/
LOCATION:SFDS School\, 13368 Valleyheart Drive\, Sherman Oaks\, CA\, 91423\, United States
CATEGORIES:Ministries
END:VEVENT
BEGIN:VEVENT
DTSTART;TZID=America/Los_Angeles:20150926T090000
DTEND;TZID=America/Los_Angeles:20150926T103000
DTSTAMP:20260425T195528
CREATED:20140227T201135Z
LAST-MODIFIED:20160321T205851Z
UID:10000397-1443258000-1443263400@www.sfdsparish.com
SUMMARY:Legion of Mary
DESCRIPTION:Saturday’s from 9:00 – 10:30 am in the Parish Center chapel.
URL:https://www.sfdsparish.com/event/legion-of-mary/2015-09-26/
LOCATION:Parish Center\, 13360 Valleyheart Drive\, Sherman Oaks\, CA\, 91423\, United States
CATEGORIES:Ministries
END:VEVENT
BEGIN:VEVENT
DTSTART;TZID=America/Los_Angeles:20150926T160000
DTEND;TZID=America/Los_Angeles:20150926T170000
DTSTAMP:20260425T195528
CREATED:20141203T174538Z
LAST-MODIFIED:20151221T204325Z
UID:10000620-1443283200-1443286800@www.sfdsparish.com
SUMMARY:Confessions
DESCRIPTION:Confessions in the main church every Saturday from 4:00 – 5:00 pm
URL:https://www.sfdsparish.com/event/confessions/2015-09-26/
LOCATION:SFDS Church\, 13360 Valleyheart Drive\, Sherman Oaks\, CA\, 91423\, United States
CATEGORIES:Ministries
END:VEVENT
BEGIN:VEVENT
DTSTART;TZID=America/Los_Angeles:20150926T170000
DTEND;TZID=America/Los_Angeles:20150927T170000
DTSTAMP:20260425T195528
CREATED:20150915T155628Z
LAST-MODIFIED:20150915T155628Z
UID:10000723-1443286800-1443373200@www.sfdsparish.com
SUMMARY:Baby Bottle Return
DESCRIPTION:Take a baby bottle home after any Mass and fill it with monetary donations for the pregnancy counseling center. The bottles will be collected during Mass the weekend of 9/26 & 9/27
URL:https://www.sfdsparish.com/event/baby-bottle-return/
LOCATION:SFDS Church\, 13360 Valleyheart Drive\, Sherman Oaks\, CA\, 91423\, United States
END:VEVENT
BEGIN:VEVENT
DTSTART;TZID=America/Los_Angeles:20150927T084500
DTEND;TZID=America/Los_Angeles:20150927T094500
DTSTAMP:20260425T195528
CREATED:20150914T183947Z
LAST-MODIFIED:20150914T183947Z
UID:10000716-1443343500-1443347100@www.sfdsparish.com
SUMMARY:First Teen Confirmation Class
DESCRIPTION:Teen Confirmation will have their first class starting at 8:45 am in the brick building. There is a 2nd year parent meeting in the auditorium at 8:30 am sharp.
URL:https://www.sfdsparish.com/event/first-teen-confirmation-class/
LOCATION:SFDS School\, 13368 Valleyheart Drive\, Sherman Oaks\, CA\, 91423\, United States
CATEGORIES:Ministries
END:VEVENT
BEGIN:VEVENT
DTSTART;TZID=America/Los_Angeles:20150928T090000
DTEND;TZID=America/Los_Angeles:20150928T190000
DTSTAMP:20260425T195528
CREATED:20150922T205714Z
LAST-MODIFIED:20150922T205714Z
UID:10000739-1443430800-1443466800@www.sfdsparish.com
SUMMARY:Parish Mission
DESCRIPTION:Parish Mission –  Exploring the Mystery of God’s Love\, Mercy and Joy – morning and evening presentations of the same session at 9:00 am and 7:00 pm each session is 50 minutes in the main church and please bring a Bible. Presented by Fr. Ron Schmidt S.J.
URL:https://www.sfdsparish.com/event/parish-mission/
LOCATION:SFDS Church\, 13360 Valleyheart Drive\, Sherman Oaks\, CA\, 91423\, United States
CATEGORIES:Ministries
END:VEVENT
BEGIN:VEVENT
DTSTART;TZID=America/Los_Angeles:20150929T090000
DTEND;TZID=America/Los_Angeles:20150929T190000
DTSTAMP:20260425T195528
CREATED:20150922T205817Z
LAST-MODIFIED:20150922T205817Z
UID:10000207-1443517200-1443553200@www.sfdsparish.com
SUMMARY:Parish Mission
DESCRIPTION:Parish Mission –  Exploring the Mystery of God’s Love\, Mercy and Joy – morning and evening presentations of the same session at 9:00 am and 7:00 pm each session is 50 minutes in the main church and please bring a Bible. Presented by Fr. Ron Schmidt S.J.
URL:https://www.sfdsparish.com/event/parish-mission-2/
LOCATION:SFDS Church\, 13360 Valleyheart Drive\, Sherman Oaks\, CA\, 91423\, United States
CATEGORIES:Ministries
END:VEVENT
BEGIN:VEVENT
DTSTART;TZID=America/Los_Angeles:20150930T090000
DTEND;TZID=America/Los_Angeles:20150930T190000
DTSTAMP:20260425T195528
CREATED:20150922T205922Z
LAST-MODIFIED:20150922T205922Z
UID:10000216-1443603600-1443639600@www.sfdsparish.com
SUMMARY:Parish Mission
DESCRIPTION:Parish Mission –  Exploring the Mystery of God’s Love\, Mercy and Joy – morning and evening presentations of the same session at 9:00 am and 7:00 pm each session is 50 minutes in the main church and please bring a Bible. Presented by Fr. Ron Schmidt S.J.
URL:https://www.sfdsparish.com/event/parish-mission-3/
LOCATION:SFDS Church\, 13360 Valleyheart Drive\, Sherman Oaks\, CA\, 91423\, United States
CATEGORIES:Ministries
END:VEVENT
BEGIN:VEVENT
DTSTART;TZID=America/Los_Angeles:20151003T090000
DTEND;TZID=America/Los_Angeles:20151003T103000
DTSTAMP:20260425T195528
CREATED:20140227T201135Z
LAST-MODIFIED:20160321T205851Z
UID:10000398-1443862800-1443868200@www.sfdsparish.com
SUMMARY:Legion of Mary
DESCRIPTION:Saturday’s from 9:00 – 10:30 am in the Parish Center chapel.
URL:https://www.sfdsparish.com/event/legion-of-mary/2015-10-03/
LOCATION:Parish Center\, 13360 Valleyheart Drive\, Sherman Oaks\, CA\, 91423\, United States
CATEGORIES:Ministries
END:VEVENT
BEGIN:VEVENT
DTSTART;TZID=America/Los_Angeles:20151003T160000
DTEND;TZID=America/Los_Angeles:20151003T170000
DTSTAMP:20260425T195528
CREATED:20141203T174538Z
LAST-MODIFIED:20151221T204325Z
UID:10000621-1443888000-1443891600@www.sfdsparish.com
SUMMARY:Confessions
DESCRIPTION:Confessions in the main church every Saturday from 4:00 – 5:00 pm
URL:https://www.sfdsparish.com/event/confessions/2015-10-03/
LOCATION:SFDS Church\, 13360 Valleyheart Drive\, Sherman Oaks\, CA\, 91423\, United States
CATEGORIES:Ministries
END:VEVENT
BEGIN:VEVENT
DTSTART;TZID=America/Los_Angeles:20151004T080000
DTEND;TZID=America/Los_Angeles:20151004T141500
DTSTAMP:20260425T195528
CREATED:20150914T213009Z
LAST-MODIFIED:20150914T213009Z
UID:10000720-1443945600-1443968100@www.sfdsparish.com
SUMMARY:Blood Drive
DESCRIPTION:The bloodmobile will be in the church parking lot form 8:00 am – 2:15 pm. \nSchedule your life saving appointment at redcrossblood.org sponsor code: StFrancisds
URL:https://www.sfdsparish.com/event/blood-drive-3/
LOCATION:SFDS School\, 13368 Valleyheart Drive\, Sherman Oaks\, CA\, 91423\, United States
CATEGORIES:Ministries
END:VEVENT
BEGIN:VEVENT
DTSTART;TZID=America/Los_Angeles:20151004T083000
DTEND;TZID=America/Los_Angeles:20151004T095000
DTSTAMP:20260425T195528
CREATED:20150914T185454Z
LAST-MODIFIED:20150914T185454Z
UID:10000718-1443947400-1443952200@www.sfdsparish.com
SUMMARY:Confirmation Class and First Year Parent Meeting
DESCRIPTION:Confirmation Class and 1st year parent meeting in the school auditorium 8:30 am sharp.
URL:https://www.sfdsparish.com/event/confirmation-class-and-first-year-parent-meeting/
LOCATION:SFDS School\, 13368 Valleyheart Drive\, Sherman Oaks\, CA\, 91423\, United States
CATEGORIES:Ministries
END:VEVENT
BEGIN:VEVENT
DTSTART;TZID=America/Los_Angeles:20151004T090000
DTEND;TZID=America/Los_Angeles:20151004T095000
DTSTAMP:20260425T195528
CREATED:20151001T183915Z
LAST-MODIFIED:20151001T184627Z
UID:10000779-1443949200-1443952200@www.sfdsparish.com
SUMMARY:CRE Class
DESCRIPTION:Religious Education class from 9:00 am sharp until 9:50 am.
URL:https://www.sfdsparish.com/event/cre-class/2015-10-04/
LOCATION:SFDS School\, 13368 Valleyheart Drive\, Sherman Oaks\, CA\, 91423\, United States
CATEGORIES:Ministries
END:VEVENT
BEGIN:VEVENT
DTSTART;TZID=America/Los_Angeles:20151008T190000
DTEND;TZID=America/Los_Angeles:20151008T203000
DTSTAMP:20260425T195528
CREATED:20140902T181756Z
LAST-MODIFIED:20150511T183943Z
UID:10000517-1444330800-1444336200@www.sfdsparish.com
SUMMARY:No Evening Bible Study
DESCRIPTION:Holy Land Break
URL:https://www.sfdsparish.com/event/evening-bible-study-2-2015-10-08/
LOCATION:Parish Center\, 13360 Valleyheart Drive\, Sherman Oaks\, CA\, 91423\, United States
CATEGORIES:Ministries
END:VEVENT
BEGIN:VEVENT
DTSTART;TZID=America/Los_Angeles:20151010T090000
DTEND;TZID=America/Los_Angeles:20151010T103000
DTSTAMP:20260425T195528
CREATED:20140227T201135Z
LAST-MODIFIED:20160321T205851Z
UID:10000399-1444467600-1444473000@www.sfdsparish.com
SUMMARY:Legion of Mary
DESCRIPTION:Saturday’s from 9:00 – 10:30 am in the Parish Center chapel.
URL:https://www.sfdsparish.com/event/legion-of-mary/2015-10-10/
LOCATION:Parish Center\, 13360 Valleyheart Drive\, Sherman Oaks\, CA\, 91423\, United States
CATEGORIES:Ministries
END:VEVENT
BEGIN:VEVENT
DTSTART;TZID=America/Los_Angeles:20151010T160000
DTEND;TZID=America/Los_Angeles:20151010T170000
DTSTAMP:20260425T195528
CREATED:20141203T174538Z
LAST-MODIFIED:20151221T204325Z
UID:10000622-1444492800-1444496400@www.sfdsparish.com
SUMMARY:Confessions
DESCRIPTION:Confessions in the main church every Saturday from 4:00 – 5:00 pm
URL:https://www.sfdsparish.com/event/confessions/2015-10-10/
LOCATION:SFDS Church\, 13360 Valleyheart Drive\, Sherman Oaks\, CA\, 91423\, United States
CATEGORIES:Ministries
END:VEVENT
BEGIN:VEVENT
DTSTART;TZID=America/Los_Angeles:20151011T084500
DTEND;TZID=America/Los_Angeles:20151011T094500
DTSTAMP:20260425T195528
CREATED:20150922T151452Z
LAST-MODIFIED:20150922T151452Z
UID:10000724-1444553100-1444556700@www.sfdsparish.com
SUMMARY:No Teen Confirmation Class
DESCRIPTION:No class – Columbus Day
URL:https://www.sfdsparish.com/event/no-teen-confirmation-class/
LOCATION:SFDS School\, 13368 Valleyheart Drive\, Sherman Oaks\, CA\, 91423\, United States
CATEGORIES:Ministries
END:VEVENT
BEGIN:VEVENT
DTSTART;TZID=America/Los_Angeles:20151011T090000
DTEND;TZID=America/Los_Angeles:20151011T095000
DTSTAMP:20260425T195528
CREATED:20151001T183915Z
LAST-MODIFIED:20151001T184627Z
UID:10000780-1444554000-1444557000@www.sfdsparish.com
SUMMARY:CRE Class
DESCRIPTION:Religious Education class from 9:00 am sharp until 9:50 am.
URL:https://www.sfdsparish.com/event/cre-class/2015-10-11/
LOCATION:SFDS School\, 13368 Valleyheart Drive\, Sherman Oaks\, CA\, 91423\, United States
CATEGORIES:Ministries
END:VEVENT
BEGIN:VEVENT
DTSTART;TZID=America/Los_Angeles:20151015T190000
DTEND;TZID=America/Los_Angeles:20151015T203000
DTSTAMP:20260425T195528
CREATED:20140902T181756Z
LAST-MODIFIED:20150511T184056Z
UID:10000518-1444935600-1444941000@www.sfdsparish.com
SUMMARY:No Evening Bible Study
DESCRIPTION:Holy Land Break
URL:https://www.sfdsparish.com/event/evening-bible-study-2-2015-10-15/
LOCATION:Parish Center\, 13360 Valleyheart Drive\, Sherman Oaks\, CA\, 91423\, United States
CATEGORIES:Ministries
END:VEVENT
END:VCALENDAR