BEGIN:VCALENDAR
VERSION:2.0
PRODID:-//Saint Francis de Sales Parish - ECPv6.15.20//NONSGML v1.0//EN
CALSCALE:GREGORIAN
METHOD:PUBLISH
X-WR-CALNAME:Saint Francis de Sales Parish
X-ORIGINAL-URL:https://www.sfdsparish.com
X-WR-CALDESC:Events for Saint Francis de Sales Parish
REFRESH-INTERVAL;VALUE=DURATION:PT1H
X-Robots-Tag:noindex
X-PUBLISHED-TTL:PT1H
BEGIN:VTIMEZONE
TZID:America/Los_Angeles
BEGIN:DAYLIGHT
TZOFFSETFROM:-0800
TZOFFSETTO:-0700
TZNAME:PDT
DTSTART:20140309T100000
END:DAYLIGHT
BEGIN:STANDARD
TZOFFSETFROM:-0700
TZOFFSETTO:-0800
TZNAME:PST
DTSTART:20141102T090000
END:STANDARD
BEGIN:DAYLIGHT
TZOFFSETFROM:-0800
TZOFFSETTO:-0700
TZNAME:PDT
DTSTART:20150308T100000
END:DAYLIGHT
BEGIN:STANDARD
TZOFFSETFROM:-0700
TZOFFSETTO:-0800
TZNAME:PST
DTSTART:20151101T090000
END:STANDARD
BEGIN:DAYLIGHT
TZOFFSETFROM:-0800
TZOFFSETTO:-0700
TZNAME:PDT
DTSTART:20160313T100000
END:DAYLIGHT
BEGIN:STANDARD
TZOFFSETFROM:-0700
TZOFFSETTO:-0800
TZNAME:PST
DTSTART:20161106T090000
END:STANDARD
END:VTIMEZONE
BEGIN:VEVENT
DTSTART;TZID=America/Los_Angeles:20150405T080000
DTEND;TZID=America/Los_Angeles:20150405T120000
DTSTAMP:20260425T212035
CREATED:20150313T225635Z
LAST-MODIFIED:20150313T225635Z
UID:10000692-1428220800-1428235200@www.sfdsparish.com
SUMMARY:Easter Sunday
DESCRIPTION:Masses: 8:00 am – 10:00 am and 12 noon \nThere will be no 5:00 pm Mass on Easter
URL:https://www.sfdsparish.com/event/easter-sunday-3/
LOCATION:SFDS Church\, 13360 Valleyheart Drive\, Sherman Oaks\, CA\, 91423\, United States
CATEGORIES:Ministries
END:VEVENT
BEGIN:VEVENT
DTSTART;TZID=America/Los_Angeles:20150405T090000
DTEND;TZID=America/Los_Angeles:20150405T095000
DTSTAMP:20260425T212035
CREATED:20140915T174022Z
LAST-MODIFIED:20140915T180930Z
UID:10000556-1428224400-1428227400@www.sfdsparish.com
SUMMARY:No Religious Education Class
DESCRIPTION:No Religious Education Class for Easter Sunday.
URL:https://www.sfdsparish.com/event/religious-education-class-2015-04-05/
LOCATION:SFDS School\, 13368 Valleyheart Drive\, Sherman Oaks\, CA\, 91423\, United States
CATEGORIES:Ministries
END:VEVENT
BEGIN:VEVENT
DTSTART;TZID=America/Los_Angeles:20150405T180000
DTEND;TZID=America/Los_Angeles:20150405T190000
DTSTAMP:20260425T212035
CREATED:20150316T184437Z
LAST-MODIFIED:20150316T184437Z
UID:10000200-1428256800-1428260400@www.sfdsparish.com
SUMMARY:Divine Mercy Novena
DESCRIPTION:The 9-day Novena will start promptly at 6:00 pm in the Main Church.
URL:https://www.sfdsparish.com/event/divine-mercy-novena-5/
LOCATION:SFDS Church\, 13360 Valleyheart Drive\, Sherman Oaks\, CA\, 91423\, United States
CATEGORIES:Ministries
END:VEVENT
BEGIN:VEVENT
DTSTART;TZID=America/Los_Angeles:20150406T180000
DTEND;TZID=America/Los_Angeles:20150406T190000
DTSTAMP:20260425T212035
CREATED:20150316T183401Z
LAST-MODIFIED:20150316T183401Z
UID:10000189-1428343200-1428346800@www.sfdsparish.com
SUMMARY:Divine Mercy Novena
DESCRIPTION:The 9 -day Novena will start promptly at 6:00 pm in the Parish Center Chapel
URL:https://www.sfdsparish.com/event/divine-mercy-novena-3/
LOCATION:Parish Center\, 13360 Valleyheart Drive\, Sherman Oaks\, CA\, 91423\, United States
CATEGORIES:Ministries
END:VEVENT
BEGIN:VEVENT
DTSTART;TZID=America/Los_Angeles:20150407T180000
DTEND;TZID=America/Los_Angeles:20150407T190000
DTSTAMP:20260425T212035
CREATED:20150316T184521Z
LAST-MODIFIED:20150316T184521Z
UID:10000202-1428429600-1428433200@www.sfdsparish.com
SUMMARY:Divine Mercy Novena
DESCRIPTION:The 9-day Novena will start promptly at 6:00 pm in the Main Church.
URL:https://www.sfdsparish.com/event/divine-mercy-novena-6/
LOCATION:SFDS Church\, 13360 Valleyheart Drive\, Sherman Oaks\, CA\, 91423\, United States
CATEGORIES:Ministries
END:VEVENT
BEGIN:VEVENT
DTSTART;TZID=America/Los_Angeles:20150408T180000
DTEND;TZID=America/Los_Angeles:20150408T190000
DTSTAMP:20260425T212035
CREATED:20150316T184618Z
LAST-MODIFIED:20150316T184618Z
UID:10000192-1428516000-1428519600@www.sfdsparish.com
SUMMARY:Divine Mercy Novena
DESCRIPTION:The 9-day Novena will start promptly at 6:00 pm in the Main Church.
URL:https://www.sfdsparish.com/event/divine-mercy-novena-7/
LOCATION:SFDS Church\, 13360 Valleyheart Drive\, Sherman Oaks\, CA\, 91423\, United States
CATEGORIES:Ministries
END:VEVENT
BEGIN:VEVENT
DTSTART;TZID=America/Los_Angeles:20150409T180000
DTEND;TZID=America/Los_Angeles:20150409T190000
DTSTAMP:20260425T212035
CREATED:20150316T183455Z
LAST-MODIFIED:20150316T183927Z
UID:10000190-1428602400-1428606000@www.sfdsparish.com
SUMMARY:Divine Mercy Novena
DESCRIPTION:The 9 -day Novena will start promptly at 6:00 pm in the Parish Center Chapel
URL:https://www.sfdsparish.com/event/divine-mercy-novena-4/
LOCATION:Parish Center\, 13360 Valleyheart Drive\, Sherman Oaks\, CA\, 91423\, United States
CATEGORIES:Ministries
END:VEVENT
BEGIN:VEVENT
DTSTART;TZID=America/Los_Angeles:20150410T180000
DTEND;TZID=America/Los_Angeles:20150410T190000
DTSTAMP:20260425T212035
CREATED:20150316T184711Z
LAST-MODIFIED:20150316T184711Z
UID:10000194-1428688800-1428692400@www.sfdsparish.com
SUMMARY:Divine Mercy Novena
DESCRIPTION:The 9-day Novena will start promptly at 6:00 pm in the Main Church.
URL:https://www.sfdsparish.com/event/divine-mercy-novena-8/
LOCATION:SFDS Church\, 13360 Valleyheart Drive\, Sherman Oaks\, CA\, 91423\, United States
CATEGORIES:Ministries
END:VEVENT
BEGIN:VEVENT
DTSTART;TZID=America/Los_Angeles:20150411T100000
DTEND;TZID=America/Los_Angeles:20150411T113000
DTSTAMP:20260425T212035
CREATED:20140915T192454Z
LAST-MODIFIED:20140915T192503Z
UID:10000172-1428746400-1428751800@www.sfdsparish.com
SUMMARY:Confirmation 2 Rehearsal
DESCRIPTION:Confirmation Rehearsal 10 – 11:30 am
URL:https://www.sfdsparish.com/event/confirmation2-rehearsal/
LOCATION:SFDS Church\, 13360 Valleyheart Drive\, Sherman Oaks\, CA\, 91423\, United States
CATEGORIES:Ministries
END:VEVENT
BEGIN:VEVENT
DTSTART;TZID=America/Los_Angeles:20150411T180000
DTEND;TZID=America/Los_Angeles:20150411T190000
DTSTAMP:20260425T212035
CREATED:20150316T184756Z
LAST-MODIFIED:20150316T184756Z
UID:10000196-1428775200-1428778800@www.sfdsparish.com
SUMMARY:Divine Mercy Novena
DESCRIPTION:The 9-day Novena will start promptly at 6:00 pm in the Main Church.
URL:https://www.sfdsparish.com/event/divine-mercy-novena-9/
LOCATION:SFDS Church\, 13360 Valleyheart Drive\, Sherman Oaks\, CA\, 91423\, United States
CATEGORIES:Ministries
END:VEVENT
BEGIN:VEVENT
DTSTART;VALUE=DATE:20150412
DTEND;VALUE=DATE:20150413
DTSTAMP:20260425T212035
CREATED:20140915T192621Z
LAST-MODIFIED:20140915T192621Z
UID:10000588-1428796800-1428883199@www.sfdsparish.com
SUMMARY:No Confirmation Class
DESCRIPTION:Confirmation completed for Confirmation 1 students.
URL:https://www.sfdsparish.com/event/no-confirmation-class-3/
LOCATION:SFDS School\, 13368 Valleyheart Drive\, Sherman Oaks\, CA\, 91423\, United States
CATEGORIES:Ministries
END:VEVENT
BEGIN:VEVENT
DTSTART;TZID=America/Los_Angeles:20150412T013000
DTEND;TZID=America/Los_Angeles:20150412T143000
DTSTAMP:20260425T212035
CREATED:20150316T181623Z
LAST-MODIFIED:20150316T181623Z
UID:10000693-1428802200-1428849000@www.sfdsparish.com
SUMMARY:Divine Mercy Sunday
DESCRIPTION:1:30 pm in the Main Church. Rosary\, Chaplet of the Divine Mercy\, Prayer to Saint Faustina\, Veneration of a First Class Relic of Saint Pope John Paul II. Novena and Chaplet Prayer cards will be provided. Please bring your rosaries.
URL:https://www.sfdsparish.com/event/divine-mercy-sunday/
LOCATION:SFDS Church\, 13360 Valleyheart Drive\, Sherman Oaks\, CA\, 91423\, United States
CATEGORIES:Ministries
END:VEVENT
BEGIN:VEVENT
DTSTART;TZID=America/Los_Angeles:20150419T120000
DTEND;TZID=America/Los_Angeles:20150419T133000
DTSTAMP:20260425T212035
CREATED:20141016T193246Z
LAST-MODIFIED:20141016T193246Z
UID:10000592-1429444800-1429450200@www.sfdsparish.com
SUMMARY:Confirmation 2nd Year Students
DESCRIPTION:Confirmation for 2nd year students will be a the noon mass.
URL:https://www.sfdsparish.com/event/confirmation-2nd-year-students/
LOCATION:SFDS Church\, 13360 Valleyheart Drive\, Sherman Oaks\, CA\, 91423\, United States
CATEGORIES:Ministries
END:VEVENT
BEGIN:VEVENT
DTSTART;TZID=America/Los_Angeles:20150426T090000
DTEND;TZID=America/Los_Angeles:20150426T095000
DTSTAMP:20260425T212035
CREATED:20140915T174022Z
LAST-MODIFIED:20140915T181152Z
UID:10000557-1430038800-1430041800@www.sfdsparish.com
SUMMARY:Religious Education Class & Mass
DESCRIPTION:Religious Education has class at 9am sharp and 10 am Mass.
URL:https://www.sfdsparish.com/event/religious-education-class-2015-04-26/
LOCATION:SFDS School\, 13368 Valleyheart Drive\, Sherman Oaks\, CA\, 91423\, United States
CATEGORIES:Ministries
END:VEVENT
BEGIN:VEVENT
DTSTART;TZID=America/Los_Angeles:20150501T180000
DTEND;TZID=America/Los_Angeles:20150501T230000
DTSTAMP:20260425T212035
CREATED:20150421T171415Z
LAST-MODIFIED:20150421T171415Z
UID:10000697-1430503200-1430521200@www.sfdsparish.com
SUMMARY:Festival 2015
DESCRIPTION:Friday: 6 pm to 11 pm \nRides\, Food\, Silent and Live Auction\, Fireworks Spectacular and Live Entertainment \nFree Admission and street parking.
URL:https://www.sfdsparish.com/event/festival-2015/
LOCATION:SFDS School\, 13368 Valleyheart Drive\, Sherman Oaks\, CA\, 91423\, United States
CATEGORIES:Holidays
END:VEVENT
BEGIN:VEVENT
DTSTART;TZID=America/Los_Angeles:20150502T120000
DTEND;TZID=America/Los_Angeles:20150502T230000
DTSTAMP:20260425T212035
CREATED:20150421T172724Z
LAST-MODIFIED:20150421T172724Z
UID:10000696-1430568000-1430607600@www.sfdsparish.com
SUMMARY:Festival 2015
DESCRIPTION:Saturday: Noon to 11 pm \nRides\, Food\, Silent and Live Auction\, Fireworks Spectacular and Live Entertainment \nFree Admission and street parking.
URL:https://www.sfdsparish.com/event/festival-2015-2/
LOCATION:SFDS School\, 13368 Valleyheart Drive\, Sherman Oaks\, CA\, 91423\, United States
END:VEVENT
BEGIN:VEVENT
DTSTART;TZID=America/Los_Angeles:20150503T090000
DTEND;TZID=America/Los_Angeles:20150503T094500
DTSTAMP:20260425T212035
CREATED:20140915T182808Z
LAST-MODIFIED:20140915T182808Z
UID:10000562-1430643600-1430646300@www.sfdsparish.com
SUMMARY:First Communion Practice
DESCRIPTION:Practice for children making their Frist Communion
URL:https://www.sfdsparish.com/event/first-communion-practice-3/
LOCATION:SFDS School\, 13368 Valleyheart Drive\, Sherman Oaks\, CA\, 91423\, United States
CATEGORIES:Ministries
END:VEVENT
BEGIN:VEVENT
DTSTART;TZID=America/Los_Angeles:20150503T120000
DTEND;TZID=America/Los_Angeles:20150503T193000
DTSTAMP:20260425T212035
CREATED:20150421T173046Z
LAST-MODIFIED:20150421T173046Z
UID:10000698-1430654400-1430681400@www.sfdsparish.com
SUMMARY:Festival 2015
DESCRIPTION:Sunday: Noon to 7:30 pm \nRides\, Food\, Silent and Live Auction\, Fireworks Spectacular and Live Entertainment \nFree Admission and street parking.
URL:https://www.sfdsparish.com/event/festival-2015-3/
LOCATION:SFDS School\, 13368 Valleyheart Drive\, Sherman Oaks\, CA\, 91423\, United States
END:VEVENT
BEGIN:VEVENT
DTSTART;TZID=America/Los_Angeles:20150508T080000
DTEND;TZID=America/Los_Angeles:20150508T130000
DTSTAMP:20260425T212035
CREATED:20140915T182949Z
LAST-MODIFIED:20140915T182949Z
UID:10000564-1431072000-1431090000@www.sfdsparish.com
SUMMARY:First Communion Day of Prayer and Practice
DESCRIPTION:Rehearsal for children making their First Communion.
URL:https://www.sfdsparish.com/event/first-communion-day-of-prayer-and-practice/
LOCATION:SFDS School\, 13368 Valleyheart Drive\, Sherman Oaks\, CA\, 91423\, United States
CATEGORIES:Ministries
END:VEVENT
BEGIN:VEVENT
DTSTART;TZID=America/Los_Angeles:20150509T103000
DTEND;TZID=America/Los_Angeles:20150509T120000
DTSTAMP:20260425T212035
CREATED:20140915T183127Z
LAST-MODIFIED:20140915T183127Z
UID:10000566-1431167400-1431172800@www.sfdsparish.com
SUMMARY:First Communion
DESCRIPTION:First Communion ceremony starts at 10:30 am.
URL:https://www.sfdsparish.com/event/first-communion/
LOCATION:SFDS Church\, 13360 Valleyheart Drive\, Sherman Oaks\, CA\, 91423\, United States
CATEGORIES:Ministries
END:VEVENT
BEGIN:VEVENT
DTSTART;TZID=America/Los_Angeles:20150625T190000
DTEND;TZID=America/Los_Angeles:20150625T203000
DTSTAMP:20260425T212035
CREATED:20140902T181756Z
LAST-MODIFIED:20150622T160638Z
UID:10000511-1435258800-1435264200@www.sfdsparish.com
SUMMARY:No Evening Bible Study
DESCRIPTION:Summer break.
URL:https://www.sfdsparish.com/event/evening-bible-study-2-2015-06-25/
LOCATION:Parish Center\, 13360 Valleyheart Drive\, Sherman Oaks\, CA\, 91423\, United States
CATEGORIES:Ministries
END:VEVENT
BEGIN:VEVENT
DTSTART;TZID=America/Los_Angeles:20150702T190000
DTEND;TZID=America/Los_Angeles:20150702T203000
DTSTAMP:20260425T212035
CREATED:20140902T181756Z
LAST-MODIFIED:20150511T183208Z
UID:10000512-1435863600-1435869000@www.sfdsparish.com
SUMMARY:No Evening Bible Study
DESCRIPTION:Summer Break
URL:https://www.sfdsparish.com/event/evening-bible-study-2-2015-07-02/
LOCATION:Parish Center\, 13360 Valleyheart Drive\, Sherman Oaks\, CA\, 91423\, United States
CATEGORIES:Ministries
END:VEVENT
BEGIN:VEVENT
DTSTART;TZID=America/Los_Angeles:20150709T190000
DTEND;TZID=America/Los_Angeles:20150709T203000
DTSTAMP:20260425T212035
CREATED:20140902T181756Z
LAST-MODIFIED:20150511T183338Z
UID:10000513-1436468400-1436473800@www.sfdsparish.com
SUMMARY:No Evening Bible Study
DESCRIPTION:Summer break.
URL:https://www.sfdsparish.com/event/evening-bible-study-2-2015-07-09/
LOCATION:Parish Center\, 13360 Valleyheart Drive\, Sherman Oaks\, CA\, 91423\, United States
CATEGORIES:Ministries
END:VEVENT
BEGIN:VEVENT
DTSTART;TZID=America/Los_Angeles:20150716T190000
DTEND;TZID=America/Los_Angeles:20150716T203000
DTSTAMP:20260425T212035
CREATED:20140902T181756Z
LAST-MODIFIED:20150511T183506Z
UID:10000514-1437073200-1437078600@www.sfdsparish.com
SUMMARY:No Evening Bible Study
DESCRIPTION:Summer break.
URL:https://www.sfdsparish.com/event/evening-bible-study-2-2015-07-16/
LOCATION:Parish Center\, 13360 Valleyheart Drive\, Sherman Oaks\, CA\, 91423\, United States
CATEGORIES:Ministries
END:VEVENT
BEGIN:VEVENT
DTSTART;TZID=America/Los_Angeles:20150718T090000
DTEND;TZID=America/Los_Angeles:20150718T103000
DTSTAMP:20260425T212035
CREATED:20140227T201135Z
LAST-MODIFIED:20160321T205851Z
UID:10000387-1437210000-1437215400@www.sfdsparish.com
SUMMARY:Legion of Mary
DESCRIPTION:Saturday’s from 9:00 – 10:30 am in the Parish Center chapel.
URL:https://www.sfdsparish.com/event/legion-of-mary/2015-07-18/
LOCATION:Parish Center\, 13360 Valleyheart Drive\, Sherman Oaks\, CA\, 91423\, United States
CATEGORIES:Ministries
END:VEVENT
BEGIN:VEVENT
DTSTART;TZID=America/Los_Angeles:20150718T160000
DTEND;TZID=America/Los_Angeles:20150718T170000
DTSTAMP:20260425T212035
CREATED:20141203T174538Z
LAST-MODIFIED:20151221T204325Z
UID:10000610-1437235200-1437238800@www.sfdsparish.com
SUMMARY:Confessions
DESCRIPTION:Confessions in the main church every Saturday from 4:00 – 5:00 pm
URL:https://www.sfdsparish.com/event/confessions/2015-07-18/
LOCATION:SFDS Church\, 13360 Valleyheart Drive\, Sherman Oaks\, CA\, 91423\, United States
CATEGORIES:Ministries
END:VEVENT
BEGIN:VEVENT
DTSTART;TZID=America/Los_Angeles:20150723T190000
DTEND;TZID=America/Los_Angeles:20150723T203000
DTSTAMP:20260425T212035
CREATED:20140902T181756Z
LAST-MODIFIED:20150511T183611Z
UID:10000515-1437678000-1437683400@www.sfdsparish.com
SUMMARY:No Evening Bible Study
DESCRIPTION:Summer break.
URL:https://www.sfdsparish.com/event/evening-bible-study-2-2015-07-23/
LOCATION:Parish Center\, 13360 Valleyheart Drive\, Sherman Oaks\, CA\, 91423\, United States
CATEGORIES:Ministries
END:VEVENT
BEGIN:VEVENT
DTSTART;TZID=America/Los_Angeles:20150725T090000
DTEND;TZID=America/Los_Angeles:20150725T103000
DTSTAMP:20260425T212035
CREATED:20140227T201135Z
LAST-MODIFIED:20160321T205851Z
UID:10000388-1437814800-1437820200@www.sfdsparish.com
SUMMARY:Legion of Mary
DESCRIPTION:Saturday’s from 9:00 – 10:30 am in the Parish Center chapel.
URL:https://www.sfdsparish.com/event/legion-of-mary/2015-07-25/
LOCATION:Parish Center\, 13360 Valleyheart Drive\, Sherman Oaks\, CA\, 91423\, United States
CATEGORIES:Ministries
END:VEVENT
BEGIN:VEVENT
DTSTART;TZID=America/Los_Angeles:20150725T160000
DTEND;TZID=America/Los_Angeles:20150725T170000
DTSTAMP:20260425T212035
CREATED:20141203T174538Z
LAST-MODIFIED:20151221T204325Z
UID:10000611-1437840000-1437843600@www.sfdsparish.com
SUMMARY:Confessions
DESCRIPTION:Confessions in the main church every Saturday from 4:00 – 5:00 pm
URL:https://www.sfdsparish.com/event/confessions/2015-07-25/
LOCATION:SFDS Church\, 13360 Valleyheart Drive\, Sherman Oaks\, CA\, 91423\, United States
CATEGORIES:Ministries
END:VEVENT
BEGIN:VEVENT
DTSTART;TZID=America/Los_Angeles:20150730T190000
DTEND;TZID=America/Los_Angeles:20150730T203000
DTSTAMP:20260425T212035
CREATED:20140902T181756Z
LAST-MODIFIED:20150511T183719Z
UID:10000516-1438282800-1438288200@www.sfdsparish.com
SUMMARY:No Evening Bible Study
DESCRIPTION:Summer break.
URL:https://www.sfdsparish.com/event/evening-bible-study-2-2015-07-30/
LOCATION:Parish Center\, 13360 Valleyheart Drive\, Sherman Oaks\, CA\, 91423\, United States
CATEGORIES:Ministries
END:VEVENT
END:VCALENDAR