BEGIN:VCALENDAR
VERSION:2.0
PRODID:-//Saint Francis de Sales Parish - ECPv6.15.20//NONSGML v1.0//EN
CALSCALE:GREGORIAN
METHOD:PUBLISH
X-WR-CALNAME:Saint Francis de Sales Parish
X-ORIGINAL-URL:https://www.sfdsparish.com
X-WR-CALDESC:Events for Saint Francis de Sales Parish
REFRESH-INTERVAL;VALUE=DURATION:PT1H
X-Robots-Tag:noindex
X-PUBLISHED-TTL:PT1H
BEGIN:VTIMEZONE
TZID:America/Los_Angeles
BEGIN:DAYLIGHT
TZOFFSETFROM:-0800
TZOFFSETTO:-0700
TZNAME:PDT
DTSTART:20140309T100000
END:DAYLIGHT
BEGIN:STANDARD
TZOFFSETFROM:-0700
TZOFFSETTO:-0800
TZNAME:PST
DTSTART:20141102T090000
END:STANDARD
BEGIN:DAYLIGHT
TZOFFSETFROM:-0800
TZOFFSETTO:-0700
TZNAME:PDT
DTSTART:20150308T100000
END:DAYLIGHT
BEGIN:STANDARD
TZOFFSETFROM:-0700
TZOFFSETTO:-0800
TZNAME:PST
DTSTART:20151101T090000
END:STANDARD
BEGIN:DAYLIGHT
TZOFFSETFROM:-0800
TZOFFSETTO:-0700
TZNAME:PDT
DTSTART:20160313T100000
END:DAYLIGHT
BEGIN:STANDARD
TZOFFSETFROM:-0700
TZOFFSETTO:-0800
TZNAME:PST
DTSTART:20161106T090000
END:STANDARD
END:VTIMEZONE
BEGIN:VEVENT
DTSTART;TZID=America/Los_Angeles:20150301T090000
DTEND;TZID=America/Los_Angeles:20150301T095000
DTSTAMP:20260425T090634
CREATED:20140915T182322Z
LAST-MODIFIED:20140915T182322Z
UID:10000560-1425200400-1425203400@www.sfdsparish.com
SUMMARY:Parent Meeting for First Communion
DESCRIPTION:Parent meeting for children making their First Communion
URL:https://www.sfdsparish.com/event/parent-meeting-for-first-communion/
LOCATION:SFDS School\, 13368 Valleyheart Drive\, Sherman Oaks\, CA\, 91423\, United States
END:VEVENT
BEGIN:VEVENT
DTSTART;TZID=America/Los_Angeles:20150308T080000
DTEND;TZID=America/Los_Angeles:20150308T140000
DTSTAMP:20260425T090634
CREATED:20150219T175634Z
LAST-MODIFIED:20150219T175634Z
UID:10000656-1425801600-1425823200@www.sfdsparish.com
SUMMARY:Blood Drive
DESCRIPTION:The blood mobile from Providence St. Joseph’s hospital will be in the parking lot from 8 am to 2 pm.
URL:https://www.sfdsparish.com/event/blood-drive-2/
LOCATION:SFDS School\, 13368 Valleyheart Drive\, Sherman Oaks\, CA\, 91423\, United States
CATEGORIES:Ministries
END:VEVENT
BEGIN:VEVENT
DTSTART;TZID=America/Los_Angeles:20150308T084500
DTEND;TZID=America/Los_Angeles:20150308T110000
DTSTAMP:20260425T090634
CREATED:20140915T184835Z
LAST-MODIFIED:20140915T190529Z
UID:10000174-1425804300-1425812400@www.sfdsparish.com
SUMMARY:No Confirmation Class
DESCRIPTION:No Confirmation Class – Daylight Savings Begins
URL:https://www.sfdsparish.com/event/confirmation-class-and-mass-2015-03-08/
LOCATION:SFDS School\, 13368 Valleyheart Drive\, Sherman Oaks\, CA\, 91423\, United States
CATEGORIES:Ministries
END:VEVENT
BEGIN:VEVENT
DTSTART;TZID=America/Los_Angeles:20150310T190000
DTEND;TZID=America/Los_Angeles:20150310T203000
DTSTAMP:20260425T090634
CREATED:20150226T194041Z
LAST-MODIFIED:20150226T194041Z
UID:10000680-1426014000-1426019400@www.sfdsparish.com
SUMMARY:DivorceCare
DESCRIPTION:The DivorceCare program will start on Tuesday March 10th for 14 weeks from 7-8:30 in the parish center e-mail contact SFDSDivorceCare@gmail.com
URL:https://www.sfdsparish.com/event/divorcecare-2/2015-03-10/
LOCATION:Parish Center\, 13360 Valleyheart Drive\, Sherman Oaks\, CA\, 91423\, United States
CATEGORIES:Ministries
END:VEVENT
BEGIN:VEVENT
DTSTART;TZID=America/Los_Angeles:20150315T084500
DTEND;TZID=America/Los_Angeles:20150315T110000
DTSTAMP:20260425T090634
CREATED:20140915T184835Z
LAST-MODIFIED:20140915T190720Z
UID:10000162-1426409100-1426417200@www.sfdsparish.com
SUMMARY:Confirmation Class and Mass
DESCRIPTION:Confirmation Class starts promptly at 8:45 and will end after 10:00 am Mass. Rite of Affirmation 2nd year students.
URL:https://www.sfdsparish.com/event/confirmation-class-and-mass-2015-03-15/
LOCATION:SFDS School\, 13368 Valleyheart Drive\, Sherman Oaks\, CA\, 91423\, United States
CATEGORIES:Ministries
END:VEVENT
BEGIN:VEVENT
DTSTART;TZID=America/Los_Angeles:20150315T090000
DTEND;TZID=America/Los_Angeles:20150315T095000
DTSTAMP:20260425T090634
CREATED:20140915T174022Z
LAST-MODIFIED:20140915T180517Z
UID:10000555-1426410000-1426413000@www.sfdsparish.com
SUMMARY:Religious Education Class & Mass
DESCRIPTION:Religious Education has class at 9am sharp and 10 am Mass.
URL:https://www.sfdsparish.com/event/religious-education-class-2015-03-15/
LOCATION:SFDS School\, 13368 Valleyheart Drive\, Sherman Oaks\, CA\, 91423\, United States
CATEGORIES:Ministries
END:VEVENT
BEGIN:VEVENT
DTSTART;TZID=America/Los_Angeles:20150321T180000
DTEND;TZID=America/Los_Angeles:20150321T210000
DTSTAMP:20260425T090634
CREATED:20150313T214954Z
LAST-MODIFIED:20150313T214954Z
UID:10000688-1426960800-1426971600@www.sfdsparish.com
SUMMARY:St. Joseph's Dinner
DESCRIPTION:The spaghetti dinner in honor of St. Joseph to benefit the school scholarship fund will be held in the school auditorium after the 5 pm Mass. Tickets can be purchased at the door.
URL:https://www.sfdsparish.com/event/st-josephs-dinner-2/
LOCATION:SFDS School\, 13368 Valleyheart Drive\, Sherman Oaks\, CA\, 91423\, United States
CATEGORIES:SFDS School
END:VEVENT
BEGIN:VEVENT
DTSTART;TZID=America/Los_Angeles:20150324T190000
DTEND;TZID=America/Los_Angeles:20150324T200000
DTSTAMP:20260425T090634
CREATED:20140318T155338Z
LAST-MODIFIED:20150309T213049Z
UID:10000114-1427223600-1427227200@www.sfdsparish.com
SUMMARY:Penance Service
DESCRIPTION:Lenten Penance service for St. Francis and St. Cyril’s parishioners at 7:00 pm in the main church.
URL:https://www.sfdsparish.com/event/penance-service/
LOCATION:SFDS Church\, 13360 Valleyheart Drive\, Sherman Oaks\, CA\, 91423\, United States
CATEGORIES:Ministries
END:VEVENT
BEGIN:VEVENT
DTSTART;TZID=America/Los_Angeles:20150326T190000
DTEND;TZID=America/Los_Angeles:20150326T203000
DTSTAMP:20260425T090634
CREATED:20140915T192002Z
LAST-MODIFIED:20140915T192002Z
UID:10000170-1427396400-1427401800@www.sfdsparish.com
SUMMARY:Confirmation Class
DESCRIPTION:Tentative evening meeting for Confirmation 7 – 8:30 pm.
URL:https://www.sfdsparish.com/event/confirmation-class-2/
LOCATION:SFDS School\, 13368 Valleyheart Drive\, Sherman Oaks\, CA\, 91423\, United States
CATEGORIES:Ministries
END:VEVENT
BEGIN:VEVENT
DTSTART;TZID=America/Los_Angeles:20150329T080000
DTEND;TZID=America/Los_Angeles:20150329T170000
DTSTAMP:20260425T090634
CREATED:20150313T225150Z
LAST-MODIFIED:20150313T225150Z
UID:10000689-1427616000-1427648400@www.sfdsparish.com
SUMMARY:Palm Sunday
DESCRIPTION:Mass at 5:00 pm Saturday afternoon \nMass at 8:00\, 10:00 & 12 Sunday morning and 5:00 Sunday afternoon \nPalms blessed and given at each Mass
URL:https://www.sfdsparish.com/event/palm-sunday-3/
LOCATION:SFDS Church\, 13360 Valleyheart Drive\, Sherman Oaks\, CA\, 91423\, United States
CATEGORIES:Ministries
END:VEVENT
BEGIN:VEVENT
DTSTART;TZID=America/Los_Angeles:20150402T070000
DTEND;TZID=America/Los_Angeles:20150402T200000
DTSTAMP:20260425T090634
CREATED:20150319T172308Z
LAST-MODIFIED:20150319T172323Z
UID:10000694-1427958000-1428004800@www.sfdsparish.com
SUMMARY:Holy Thursday
DESCRIPTION:Morning Mass 8:15 am and Evening Mass of the Lord’s Supper 7:00 pm \n 
URL:https://www.sfdsparish.com/event/holy-thursday-2/
LOCATION:SFDS Church\, 13360 Valleyheart Drive\, Sherman Oaks\, CA\, 91423\, United States
CATEGORIES:Ministries
END:VEVENT
BEGIN:VEVENT
DTSTART;TZID=America/Los_Angeles:20150403T120000
DTEND;TZID=America/Los_Angeles:20150403T190000
DTSTAMP:20260425T090634
CREATED:20150319T172136Z
LAST-MODIFIED:20150319T172631Z
UID:10000198-1428062400-1428087600@www.sfdsparish.com
SUMMARY:Good Friday
DESCRIPTION:Stations of the Cross 12:30 and \n3:00 pm and 7:00 pm (reading of the Passion\, Adoration of the Cross and Holy communion)
URL:https://www.sfdsparish.com/event/good-friday-2/
LOCATION:SFDS Church\, 13360 Valleyheart Drive\, Sherman Oaks\, CA\, 91423\, United States
CATEGORIES:Ministries
END:VEVENT
BEGIN:VEVENT
DTSTART;TZID=America/Los_Angeles:20150403T180000
DTEND;TZID=America/Los_Angeles:20150403T190000
DTSTAMP:20260425T090634
CREATED:20150316T183214Z
LAST-MODIFIED:20150316T183214Z
UID:10000185-1428084000-1428087600@www.sfdsparish.com
SUMMARY:Divine Mercy Novena
DESCRIPTION:The 9 -day Novena will start promptly at 6:00 pm in the Parish Center Chapel
URL:https://www.sfdsparish.com/event/divine-mercy-novena/
LOCATION:Parish Center\, 13360 Valleyheart Drive\, Sherman Oaks\, CA\, 91423\, United States
CATEGORIES:Ministries
END:VEVENT
BEGIN:VEVENT
DTSTART;TZID=America/Los_Angeles:20150404T090000
DTEND;TZID=America/Los_Angeles:20150404T103000
DTSTAMP:20260425T090634
CREATED:20140227T201135Z
LAST-MODIFIED:20150313T224923Z
UID:10000476-1428138000-1428143400@www.sfdsparish.com
SUMMARY:No Legion of Mary - Holy Saturday
DESCRIPTION:
URL:https://www.sfdsparish.com/event/legion-of-mary-2015-04-04/
LOCATION:Parish Center\, 13360 Valleyheart Drive\, Sherman Oaks\, CA\, 91423\, United States
CATEGORIES:Ministries
END:VEVENT
BEGIN:VEVENT
DTSTART;TZID=America/Los_Angeles:20150404T100000
DTEND;TZID=America/Los_Angeles:20150404T123000
DTSTAMP:20260425T090634
CREATED:20150330T170209Z
LAST-MODIFIED:20150330T170209Z
UID:10000695-1428141600-1428150600@www.sfdsparish.com
SUMMARY:Easter Egg Hunt
DESCRIPTION:All Children 0-12 years are invited 10am -12:30pm on the SFDS Baseball field.
URL:https://www.sfdsparish.com/event/easter-egg-hunt/
LOCATION:SFDS School\, 13368 Valleyheart Drive\, Sherman Oaks\, CA\, 91423\, United States
CATEGORIES:SFDS School
END:VEVENT
BEGIN:VEVENT
DTSTART;TZID=America/Los_Angeles:20150404T130000
DTEND;TZID=America/Los_Angeles:20150404T160000
DTSTAMP:20260425T090634
CREATED:20140227T201401Z
LAST-MODIFIED:20150313T224755Z
UID:10000479-1428152400-1428163200@www.sfdsparish.com
SUMMARY:No Adoration of the Eucharist - Holy Saturday
DESCRIPTION:
URL:https://www.sfdsparish.com/event/adoration-of-the-eucharist-2-2015-04-04/
LOCATION:SFDS Church\, 13360 Valleyheart Drive\, Sherman Oaks\, CA\, 91423\, United States
CATEGORIES:Ministries
END:VEVENT
BEGIN:VEVENT
DTSTART;TZID=America/Los_Angeles:20150404T160000
DTEND;TZID=America/Los_Angeles:20150404T170000
DTSTAMP:20260425T090634
CREATED:20141203T174538Z
LAST-MODIFIED:20150313T224320Z
UID:10000652-1428163200-1428166800@www.sfdsparish.com
SUMMARY:No Confessions Holy Saturday
DESCRIPTION:
URL:https://www.sfdsparish.com/event/confessions-2015-04-04/
LOCATION:SFDS Church\, 13360 Valleyheart Drive\, Sherman Oaks\, CA\, 91423\, United States
CATEGORIES:Ministries
END:VEVENT
BEGIN:VEVENT
DTSTART;TZID=America/Los_Angeles:20150404T180000
DTEND;TZID=America/Los_Angeles:20150404T190000
DTSTAMP:20260425T090634
CREATED:20150316T183304Z
LAST-MODIFIED:20150316T183304Z
UID:10000187-1428170400-1428174000@www.sfdsparish.com
SUMMARY:Divine Mercy Novena
DESCRIPTION:The 9 -day Novena will start promptly at 6:00 pm in the Parish Center Chapel
URL:https://www.sfdsparish.com/event/divine-mercy-novena-2/
LOCATION:Parish Center\, 13360 Valleyheart Drive\, Sherman Oaks\, CA\, 91423\, United States
CATEGORIES:Ministries
END:VEVENT
BEGIN:VEVENT
DTSTART;TZID=America/Los_Angeles:20150404T200000
DTEND;TZID=America/Los_Angeles:20150404T213000
DTSTAMP:20260425T090634
CREATED:20150313T225456Z
LAST-MODIFIED:20150313T225456Z
UID:10000691-1428177600-1428183000@www.sfdsparish.com
SUMMARY:Holy Saturday
DESCRIPTION:Easter Vigil 8:00 pm
URL:https://www.sfdsparish.com/event/holy-saturday-2/
LOCATION:SFDS Church\, 13360 Valleyheart Drive\, Sherman Oaks\, CA\, 91423\, United States
CATEGORIES:Ministries
END:VEVENT
BEGIN:VEVENT
DTSTART;VALUE=DATE:20150405
DTEND;VALUE=DATE:20150406
DTSTAMP:20260425T090634
CREATED:20140915T190843Z
LAST-MODIFIED:20140915T190843Z
UID:10000164-1428192000-1428278399@www.sfdsparish.com
SUMMARY:No Confirmation Class
DESCRIPTION:No Confirmation Class – Easter Sunday
URL:https://www.sfdsparish.com/event/no-confirmation-class-2/
LOCATION:CA
END:VEVENT
BEGIN:VEVENT
DTSTART;TZID=America/Los_Angeles:20150405T080000
DTEND;TZID=America/Los_Angeles:20150405T120000
DTSTAMP:20260425T090634
CREATED:20150313T225635Z
LAST-MODIFIED:20150313T225635Z
UID:10000692-1428220800-1428235200@www.sfdsparish.com
SUMMARY:Easter Sunday
DESCRIPTION:Masses: 8:00 am – 10:00 am and 12 noon \nThere will be no 5:00 pm Mass on Easter
URL:https://www.sfdsparish.com/event/easter-sunday-3/
LOCATION:SFDS Church\, 13360 Valleyheart Drive\, Sherman Oaks\, CA\, 91423\, United States
CATEGORIES:Ministries
END:VEVENT
BEGIN:VEVENT
DTSTART;TZID=America/Los_Angeles:20150405T090000
DTEND;TZID=America/Los_Angeles:20150405T095000
DTSTAMP:20260425T090634
CREATED:20140915T174022Z
LAST-MODIFIED:20140915T180930Z
UID:10000556-1428224400-1428227400@www.sfdsparish.com
SUMMARY:No Religious Education Class
DESCRIPTION:No Religious Education Class for Easter Sunday.
URL:https://www.sfdsparish.com/event/religious-education-class-2015-04-05/
LOCATION:SFDS School\, 13368 Valleyheart Drive\, Sherman Oaks\, CA\, 91423\, United States
CATEGORIES:Ministries
END:VEVENT
BEGIN:VEVENT
DTSTART;TZID=America/Los_Angeles:20150405T180000
DTEND;TZID=America/Los_Angeles:20150405T190000
DTSTAMP:20260425T090634
CREATED:20150316T184437Z
LAST-MODIFIED:20150316T184437Z
UID:10000200-1428256800-1428260400@www.sfdsparish.com
SUMMARY:Divine Mercy Novena
DESCRIPTION:The 9-day Novena will start promptly at 6:00 pm in the Main Church.
URL:https://www.sfdsparish.com/event/divine-mercy-novena-5/
LOCATION:SFDS Church\, 13360 Valleyheart Drive\, Sherman Oaks\, CA\, 91423\, United States
CATEGORIES:Ministries
END:VEVENT
BEGIN:VEVENT
DTSTART;TZID=America/Los_Angeles:20150406T180000
DTEND;TZID=America/Los_Angeles:20150406T190000
DTSTAMP:20260425T090634
CREATED:20150316T183401Z
LAST-MODIFIED:20150316T183401Z
UID:10000189-1428343200-1428346800@www.sfdsparish.com
SUMMARY:Divine Mercy Novena
DESCRIPTION:The 9 -day Novena will start promptly at 6:00 pm in the Parish Center Chapel
URL:https://www.sfdsparish.com/event/divine-mercy-novena-3/
LOCATION:Parish Center\, 13360 Valleyheart Drive\, Sherman Oaks\, CA\, 91423\, United States
CATEGORIES:Ministries
END:VEVENT
BEGIN:VEVENT
DTSTART;TZID=America/Los_Angeles:20150407T180000
DTEND;TZID=America/Los_Angeles:20150407T190000
DTSTAMP:20260425T090634
CREATED:20150316T184521Z
LAST-MODIFIED:20150316T184521Z
UID:10000202-1428429600-1428433200@www.sfdsparish.com
SUMMARY:Divine Mercy Novena
DESCRIPTION:The 9-day Novena will start promptly at 6:00 pm in the Main Church.
URL:https://www.sfdsparish.com/event/divine-mercy-novena-6/
LOCATION:SFDS Church\, 13360 Valleyheart Drive\, Sherman Oaks\, CA\, 91423\, United States
CATEGORIES:Ministries
END:VEVENT
BEGIN:VEVENT
DTSTART;TZID=America/Los_Angeles:20150408T180000
DTEND;TZID=America/Los_Angeles:20150408T190000
DTSTAMP:20260425T090634
CREATED:20150316T184618Z
LAST-MODIFIED:20150316T184618Z
UID:10000192-1428516000-1428519600@www.sfdsparish.com
SUMMARY:Divine Mercy Novena
DESCRIPTION:The 9-day Novena will start promptly at 6:00 pm in the Main Church.
URL:https://www.sfdsparish.com/event/divine-mercy-novena-7/
LOCATION:SFDS Church\, 13360 Valleyheart Drive\, Sherman Oaks\, CA\, 91423\, United States
CATEGORIES:Ministries
END:VEVENT
BEGIN:VEVENT
DTSTART;TZID=America/Los_Angeles:20150409T180000
DTEND;TZID=America/Los_Angeles:20150409T190000
DTSTAMP:20260425T090634
CREATED:20150316T183455Z
LAST-MODIFIED:20150316T183927Z
UID:10000190-1428602400-1428606000@www.sfdsparish.com
SUMMARY:Divine Mercy Novena
DESCRIPTION:The 9 -day Novena will start promptly at 6:00 pm in the Parish Center Chapel
URL:https://www.sfdsparish.com/event/divine-mercy-novena-4/
LOCATION:Parish Center\, 13360 Valleyheart Drive\, Sherman Oaks\, CA\, 91423\, United States
CATEGORIES:Ministries
END:VEVENT
BEGIN:VEVENT
DTSTART;TZID=America/Los_Angeles:20150410T180000
DTEND;TZID=America/Los_Angeles:20150410T190000
DTSTAMP:20260425T090634
CREATED:20150316T184711Z
LAST-MODIFIED:20150316T184711Z
UID:10000194-1428688800-1428692400@www.sfdsparish.com
SUMMARY:Divine Mercy Novena
DESCRIPTION:The 9-day Novena will start promptly at 6:00 pm in the Main Church.
URL:https://www.sfdsparish.com/event/divine-mercy-novena-8/
LOCATION:SFDS Church\, 13360 Valleyheart Drive\, Sherman Oaks\, CA\, 91423\, United States
CATEGORIES:Ministries
END:VEVENT
BEGIN:VEVENT
DTSTART;TZID=America/Los_Angeles:20150411T100000
DTEND;TZID=America/Los_Angeles:20150411T113000
DTSTAMP:20260425T090634
CREATED:20140915T192454Z
LAST-MODIFIED:20140915T192503Z
UID:10000172-1428746400-1428751800@www.sfdsparish.com
SUMMARY:Confirmation 2 Rehearsal
DESCRIPTION:Confirmation Rehearsal 10 – 11:30 am
URL:https://www.sfdsparish.com/event/confirmation2-rehearsal/
LOCATION:SFDS Church\, 13360 Valleyheart Drive\, Sherman Oaks\, CA\, 91423\, United States
CATEGORIES:Ministries
END:VEVENT
BEGIN:VEVENT
DTSTART;TZID=America/Los_Angeles:20150411T180000
DTEND;TZID=America/Los_Angeles:20150411T190000
DTSTAMP:20260425T090634
CREATED:20150316T184756Z
LAST-MODIFIED:20150316T184756Z
UID:10000196-1428775200-1428778800@www.sfdsparish.com
SUMMARY:Divine Mercy Novena
DESCRIPTION:The 9-day Novena will start promptly at 6:00 pm in the Main Church.
URL:https://www.sfdsparish.com/event/divine-mercy-novena-9/
LOCATION:SFDS Church\, 13360 Valleyheart Drive\, Sherman Oaks\, CA\, 91423\, United States
CATEGORIES:Ministries
END:VEVENT
END:VCALENDAR