BEGIN:VCALENDAR
VERSION:2.0
PRODID:-//Saint Francis de Sales Parish - ECPv6.15.20//NONSGML v1.0//EN
CALSCALE:GREGORIAN
METHOD:PUBLISH
X-WR-CALNAME:Saint Francis de Sales Parish
X-ORIGINAL-URL:https://www.sfdsparish.com
X-WR-CALDESC:Events for Saint Francis de Sales Parish
REFRESH-INTERVAL;VALUE=DURATION:PT1H
X-Robots-Tag:noindex
X-PUBLISHED-TTL:PT1H
BEGIN:VTIMEZONE
TZID:America/Los_Angeles
BEGIN:DAYLIGHT
TZOFFSETFROM:-0800
TZOFFSETTO:-0700
TZNAME:PDT
DTSTART:20130310T100000
END:DAYLIGHT
BEGIN:STANDARD
TZOFFSETFROM:-0700
TZOFFSETTO:-0800
TZNAME:PST
DTSTART:20131103T090000
END:STANDARD
BEGIN:DAYLIGHT
TZOFFSETFROM:-0800
TZOFFSETTO:-0700
TZNAME:PDT
DTSTART:20140309T100000
END:DAYLIGHT
BEGIN:STANDARD
TZOFFSETFROM:-0700
TZOFFSETTO:-0800
TZNAME:PST
DTSTART:20141102T090000
END:STANDARD
BEGIN:DAYLIGHT
TZOFFSETFROM:-0800
TZOFFSETTO:-0700
TZNAME:PDT
DTSTART:20150308T100000
END:DAYLIGHT
BEGIN:STANDARD
TZOFFSETFROM:-0700
TZOFFSETTO:-0800
TZNAME:PST
DTSTART:20151101T090000
END:STANDARD
BEGIN:DAYLIGHT
TZOFFSETFROM:-0800
TZOFFSETTO:-0700
TZNAME:PDT
DTSTART:20160313T100000
END:DAYLIGHT
BEGIN:STANDARD
TZOFFSETFROM:-0700
TZOFFSETTO:-0800
TZNAME:PST
DTSTART:20161106T090000
END:STANDARD
END:VTIMEZONE
BEGIN:VEVENT
DTSTART;TZID=America/Los_Angeles:20141224T160000
DTEND;TZID=America/Los_Angeles:20141224T160000
DTSTAMP:20260425T053241
CREATED:20141203T173742Z
LAST-MODIFIED:20141203T182323Z
UID:10000600-1419436800-1419436800@www.sfdsparish.com
SUMMARY:Christmas Eve
DESCRIPTION:Mass at 4:00 pm with Children’s Choir\, Carols begin at 3:30 pm – \nMass at 6:00 pm with Cantor and Organ – \nMass at Midnight with St. Francis de Sales Choir\, Carols begin at 11:15 pm
URL:https://www.sfdsparish.com/event/christmas-eve-2/
LOCATION:SFDS Church\, 13360 Valleyheart Drive\, Sherman Oaks\, CA\, 91423\, United States
CATEGORIES:Ministries
END:VEVENT
BEGIN:VEVENT
DTSTART;TZID=America/Los_Angeles:20141225T080000
DTEND;TZID=America/Los_Angeles:20141225T080000
DTSTAMP:20260425T053241
CREATED:20141203T174007Z
LAST-MODIFIED:20141203T182406Z
UID:10000606-1419494400-1419494400@www.sfdsparish.com
SUMMARY:Christmas Day
DESCRIPTION:Mass at 8:00 am with Cantor and Organ – \nMass at 10:00 am with St. Francis de Sales Choir – \nMass at 12 noon with Cantor and Organ – \n(there is no 5:00 afternoon Mass on Christmas Day)
URL:https://www.sfdsparish.com/event/christmas-day/
LOCATION:SFDS Church\, 13360 Valleyheart Drive\, Sherman Oaks\, CA\, 91423\, United States
CATEGORIES:Ministries
END:VEVENT
BEGIN:VEVENT
DTSTART;TZID=America/Los_Angeles:20141225T190000
DTEND;TZID=America/Los_Angeles:20141225T203000
DTSTAMP:20260425T053241
CREATED:20140902T181756Z
LAST-MODIFIED:20141203T183424Z
UID:10000510-1419534000-1419539400@www.sfdsparish.com
SUMMARY:No Evening Bible Study
DESCRIPTION:Parish center evenings from 7 – 8:30. All are welcome to pray and ponder over Bible text for it’s meaning.
URL:https://www.sfdsparish.com/event/evening-bible-study-2-2014-12-25/
LOCATION:Parish Center\, 13360 Valleyheart Drive\, Sherman Oaks\, CA\, 91423\, United States
CATEGORIES:Ministries
END:VEVENT
BEGIN:VEVENT
DTSTART;TZID=America/Los_Angeles:20141228T084500
DTEND;TZID=America/Los_Angeles:20141228T110000
DTSTAMP:20260425T053241
CREATED:20140915T184835Z
LAST-MODIFIED:20140915T185825Z
UID:10000581-1419756300-1419764400@www.sfdsparish.com
SUMMARY:No Confirmation Class
DESCRIPTION:No Confirmation Class – Christmas Holiday.
URL:https://www.sfdsparish.com/event/confirmation-class-and-mass-2014-12-28/
LOCATION:SFDS School\, 13368 Valleyheart Drive\, Sherman Oaks\, CA\, 91423\, United States
CATEGORIES:Ministries
END:VEVENT
BEGIN:VEVENT
DTSTART;TZID=America/Los_Angeles:20141228T090000
DTEND;TZID=America/Los_Angeles:20141228T095000
DTSTAMP:20260425T053241
CREATED:20140915T174022Z
LAST-MODIFIED:20140915T174905Z
UID:10000538-1419757200-1419760200@www.sfdsparish.com
SUMMARY:No Religious Education Class
DESCRIPTION:No Religious Education due to the Christmas Holiday.
URL:https://www.sfdsparish.com/event/religious-education-class-2014-12-28/
LOCATION:SFDS School\, 13368 Valleyheart Drive\, Sherman Oaks\, CA\, 91423\, United States
CATEGORIES:Ministries
END:VEVENT
BEGIN:VEVENT
DTSTART;TZID=America/Los_Angeles:20150101T081500
DTEND;TZID=America/Los_Angeles:20150101T091500
DTSTAMP:20260425T053241
CREATED:20141203T174150Z
LAST-MODIFIED:20141203T174150Z
UID:10000607-1420100100-1420103700@www.sfdsparish.com
SUMMARY:New Year's Day
DESCRIPTION:Mass at 8:15 am (not a holy day of obligation)
URL:https://www.sfdsparish.com/event/new-years-day-2/
LOCATION:SFDS Church\, 13360 Valleyheart Drive\, Sherman Oaks\, CA\, 91423\, United States
CATEGORIES:Ministries
END:VEVENT
BEGIN:VEVENT
DTSTART;TZID=America/Los_Angeles:20150104T084500
DTEND;TZID=America/Los_Angeles:20150104T110000
DTSTAMP:20260425T053241
CREATED:20140915T184835Z
LAST-MODIFIED:20140915T190219Z
UID:10000583-1420361100-1420369200@www.sfdsparish.com
SUMMARY:No Confirmation Class
DESCRIPTION:No Confirmation Class – New Year Holiday.
URL:https://www.sfdsparish.com/event/confirmation-class-and-mass-2015-01-04/
LOCATION:SFDS School\, 13368 Valleyheart Drive\, Sherman Oaks\, CA\, 91423\, United States
CATEGORIES:Ministries
END:VEVENT
BEGIN:VEVENT
DTSTART;TZID=America/Los_Angeles:20150111T090000
DTEND;TZID=America/Los_Angeles:20150111T095000
DTSTAMP:20260425T053241
CREATED:20140915T181800Z
LAST-MODIFIED:20140915T181800Z
UID:10000558-1420966800-1420969800@www.sfdsparish.com
SUMMARY:Parent Metting for First Penance
DESCRIPTION:Parent Meeting for children making their First Penance 9 am.
URL:https://www.sfdsparish.com/event/parent-metting-for-first-penance/
LOCATION:SFDS School\, 13368 Valleyheart Drive\, Sherman Oaks\, CA\, 91423\, United States
CATEGORIES:Ministries
END:VEVENT
BEGIN:VEVENT
DTSTART;TZID=America/Los_Angeles:20150111T090000
DTEND;TZID=America/Los_Angeles:20150111T095000
DTSTAMP:20260425T053241
CREATED:20140915T174022Z
LAST-MODIFIED:20140915T175221Z
UID:10000540-1420966800-1420969800@www.sfdsparish.com
SUMMARY:Religious Education Class & 10 am Mass
DESCRIPTION:Religious Education has class at 9am sharp and 10 am Mass.
URL:https://www.sfdsparish.com/event/religious-education-class-2015-01-11/
LOCATION:SFDS School\, 13368 Valleyheart Drive\, Sherman Oaks\, CA\, 91423\, United States
CATEGORIES:Ministries
END:VEVENT
BEGIN:VEVENT
DTSTART;TZID=America/Los_Angeles:20150118T084500
DTEND;TZID=America/Los_Angeles:20150118T110000
DTSTAMP:20260425T053241
CREATED:20140915T184835Z
LAST-MODIFIED:20140915T190321Z
UID:10000584-1421570700-1421578800@www.sfdsparish.com
SUMMARY:No Confirmation Class
DESCRIPTION:No Confirmation Class – Martin Luther King Holiday
URL:https://www.sfdsparish.com/event/confirmation-class-and-mass-2015-01-18/
LOCATION:SFDS School\, 13368 Valleyheart Drive\, Sherman Oaks\, CA\, 91423\, United States
CATEGORIES:Ministries
END:VEVENT
BEGIN:VEVENT
DTSTART;TZID=America/Los_Angeles:20150118T090000
DTEND;TZID=America/Los_Angeles:20150118T095000
DTSTAMP:20260425T053241
CREATED:20140915T174022Z
LAST-MODIFIED:20140915T175731Z
UID:10000551-1421571600-1421574600@www.sfdsparish.com
SUMMARY:No Religious Education Class
DESCRIPTION:No Religious Education Class due to Martin Luther King Holiday.
URL:https://www.sfdsparish.com/event/religious-education-class-2015-01-18/
LOCATION:SFDS School\, 13368 Valleyheart Drive\, Sherman Oaks\, CA\, 91423\, United States
CATEGORIES:Ministries
END:VEVENT
BEGIN:VEVENT
DTSTART;TZID=America/Los_Angeles:20150125T100000
DTEND;TZID=America/Los_Angeles:20150125T130000
DTSTAMP:20260425T053241
CREATED:20150119T193609Z
LAST-MODIFIED:20150119T193609Z
UID:10000653-1422180000-1422190800@www.sfdsparish.com
SUMMARY:Catholic School's Week
DESCRIPTION:Right after the 10 am Mass\, the school hosts and “Open House” for all the families interested in applying for our school next year. join the teachers and staff for refreshments.
URL:https://www.sfdsparish.com/event/catholic-schools-week/
LOCATION:SFDS School\, 13368 Valleyheart Drive\, Sherman Oaks\, CA\, 91423\, United States
CATEGORIES:SFDS School
END:VEVENT
BEGIN:VEVENT
DTSTART;TZID=America/Los_Angeles:20150201T090000
DTEND;TZID=America/Los_Angeles:20150201T095000
DTSTAMP:20260425T053241
CREATED:20140915T174022Z
LAST-MODIFIED:20140915T180440Z
UID:10000552-1422781200-1422784200@www.sfdsparish.com
SUMMARY:Religious Education Class
DESCRIPTION:Religious Education has class at 9am sharp.
URL:https://www.sfdsparish.com/event/religious-education-class-2015-02-01/2015-02-01/
LOCATION:SFDS School\, 13368 Valleyheart Drive\, Sherman Oaks\, CA\, 91423\, United States
CATEGORIES:Ministries
END:VEVENT
BEGIN:VEVENT
DTSTART;VALUE=DATE:20150207
DTEND;VALUE=DATE:20150208
DTSTAMP:20260425T053241
CREATED:20140915T181938Z
LAST-MODIFIED:20140915T181938Z
UID:10000559-1423267200-1423353599@www.sfdsparish.com
SUMMARY:First Penance
DESCRIPTION:First Penance for children making their First Communion
URL:https://www.sfdsparish.com/event/first-penance/
LOCATION:SFDS Church\, 13360 Valleyheart Drive\, Sherman Oaks\, CA\, 91423\, United States
CATEGORIES:Ministries
END:VEVENT
BEGIN:VEVENT
DTSTART;TZID=America/Los_Angeles:20150208T090000
DTEND;TZID=America/Los_Angeles:20150208T095000
DTSTAMP:20260425T053241
CREATED:20140915T174022Z
LAST-MODIFIED:20140915T180306Z
UID:10000553-1423386000-1423389000@www.sfdsparish.com
SUMMARY:Religious Education Class & Mass
DESCRIPTION:Religious Education has class at 9am sharp and 10 am Mass.
URL:https://www.sfdsparish.com/event/religious-education-class-2015-02-08/
LOCATION:SFDS School\, 13368 Valleyheart Drive\, Sherman Oaks\, CA\, 91423\, United States
CATEGORIES:Ministries
END:VEVENT
BEGIN:VEVENT
DTSTART;TZID=America/Los_Angeles:20150209T190000
DTEND;TZID=America/Los_Angeles:20150209T203000
DTSTAMP:20260425T053241
CREATED:20150203T204657Z
LAST-MODIFIED:20150203T204657Z
UID:10000654-1423508400-1423513800@www.sfdsparish.com
SUMMARY:Adult Confirmation
DESCRIPTION:If you are 18 and over and have been Baptized and received First Holy Communion\, these sessions are for you.  Eight Monday evening sessions starting February 2nd with the Sacrament of Confirmation on Sunday April 19th. Please call the parish center if you are interested.
URL:https://www.sfdsparish.com/event/adult-confirmation-2/2015-02-09/
LOCATION:Parish Center\, 13360 Valleyheart Drive\, Sherman Oaks\, CA\, 91423\, United States
CATEGORIES:Ministries
END:VEVENT
BEGIN:VEVENT
DTSTART;TZID=America/Los_Angeles:20150215T084500
DTEND;TZID=America/Los_Angeles:20150215T110000
DTSTAMP:20260425T053241
CREATED:20140915T184835Z
LAST-MODIFIED:20140915T190429Z
UID:10000586-1423989900-1423998000@www.sfdsparish.com
SUMMARY:No Confirmation Class
DESCRIPTION:No Confirmation Class – Presidents Holiday
URL:https://www.sfdsparish.com/event/confirmation-class-and-mass-2015-02-15/
LOCATION:SFDS School\, 13368 Valleyheart Drive\, Sherman Oaks\, CA\, 91423\, United States
CATEGORIES:Ministries
END:VEVENT
BEGIN:VEVENT
DTSTART;TZID=America/Los_Angeles:20150215T090000
DTEND;TZID=America/Los_Angeles:20150215T095000
DTSTAMP:20260425T053241
CREATED:20140915T174022Z
LAST-MODIFIED:20140915T180408Z
UID:10000554-1423990800-1423993800@www.sfdsparish.com
SUMMARY:No Religious Education Class
DESCRIPTION:No Religious Education due to President’s Day Holiday
URL:https://www.sfdsparish.com/event/religious-education-class-2015-02-15/
LOCATION:SFDS School\, 13368 Valleyheart Drive\, Sherman Oaks\, CA\, 91423\, United States
CATEGORIES:Ministries
END:VEVENT
BEGIN:VEVENT
DTSTART;TZID=America/Los_Angeles:20150220T190000
DTEND;TZID=America/Los_Angeles:20150220T193000
DTSTAMP:20260425T053241
CREATED:20150217T192100Z
LAST-MODIFIED:20150217T192100Z
UID:10000655-1424458800-1424460600@www.sfdsparish.com
SUMMARY:Stations of the Cross
DESCRIPTION:Stations of the Cross in the church every Friday during Lent at 7:00 pm
URL:https://www.sfdsparish.com/event/stations-of-the-cross-3/2015-02-20/
LOCATION:SFDS Church\, 13360 Valleyheart Drive\, Sherman Oaks\, CA\, 91423\, United States
CATEGORIES:Ministries
END:VEVENT
BEGIN:VEVENT
DTSTART;TZID=America/Los_Angeles:20150225T180000
DTEND;TZID=America/Los_Angeles:20150225T210000
DTSTAMP:20260425T053241
CREATED:20150224T200604Z
LAST-MODIFIED:20150224T200604Z
UID:10000671-1424887200-1424898000@www.sfdsparish.com
SUMMARY:Soup and Cinema
DESCRIPTION:Soup and Cinema with Fr. Tony Scannell\, OFM will start on Wednesday\, February 25th and continue until Wednesday March 18th in the school auditorium. Soup is from 6:00 – 7:00 pm and Cinema discussion from 7:00 – 9:00 pm.
URL:https://www.sfdsparish.com/event/soup-and-cinema/2015-02-25/
LOCATION:SFDS School\, 13368 Valleyheart Drive\, Sherman Oaks\, CA\, 91423\, United States
CATEGORIES:Organizations
ORGANIZER;CN="Ms. Reising":MAILTO:lreising@stfrancisds.org
END:VEVENT
BEGIN:VEVENT
DTSTART;TZID=America/Los_Angeles:20150301T090000
DTEND;TZID=America/Los_Angeles:20150301T095000
DTSTAMP:20260425T053241
CREATED:20140915T182322Z
LAST-MODIFIED:20140915T182322Z
UID:10000560-1425200400-1425203400@www.sfdsparish.com
SUMMARY:Parent Meeting for First Communion
DESCRIPTION:Parent meeting for children making their First Communion
URL:https://www.sfdsparish.com/event/parent-meeting-for-first-communion/
LOCATION:SFDS School\, 13368 Valleyheart Drive\, Sherman Oaks\, CA\, 91423\, United States
END:VEVENT
BEGIN:VEVENT
DTSTART;TZID=America/Los_Angeles:20150308T080000
DTEND;TZID=America/Los_Angeles:20150308T140000
DTSTAMP:20260425T053241
CREATED:20150219T175634Z
LAST-MODIFIED:20150219T175634Z
UID:10000656-1425801600-1425823200@www.sfdsparish.com
SUMMARY:Blood Drive
DESCRIPTION:The blood mobile from Providence St. Joseph’s hospital will be in the parking lot from 8 am to 2 pm.
URL:https://www.sfdsparish.com/event/blood-drive-2/
LOCATION:SFDS School\, 13368 Valleyheart Drive\, Sherman Oaks\, CA\, 91423\, United States
CATEGORIES:Ministries
END:VEVENT
BEGIN:VEVENT
DTSTART;TZID=America/Los_Angeles:20150308T084500
DTEND;TZID=America/Los_Angeles:20150308T110000
DTSTAMP:20260425T053241
CREATED:20140915T184835Z
LAST-MODIFIED:20140915T190529Z
UID:10000174-1425804300-1425812400@www.sfdsparish.com
SUMMARY:No Confirmation Class
DESCRIPTION:No Confirmation Class – Daylight Savings Begins
URL:https://www.sfdsparish.com/event/confirmation-class-and-mass-2015-03-08/
LOCATION:SFDS School\, 13368 Valleyheart Drive\, Sherman Oaks\, CA\, 91423\, United States
CATEGORIES:Ministries
END:VEVENT
BEGIN:VEVENT
DTSTART;TZID=America/Los_Angeles:20150310T190000
DTEND;TZID=America/Los_Angeles:20150310T203000
DTSTAMP:20260425T053241
CREATED:20150226T194041Z
LAST-MODIFIED:20150226T194041Z
UID:10000680-1426014000-1426019400@www.sfdsparish.com
SUMMARY:DivorceCare
DESCRIPTION:The DivorceCare program will start on Tuesday March 10th for 14 weeks from 7-8:30 in the parish center e-mail contact SFDSDivorceCare@gmail.com
URL:https://www.sfdsparish.com/event/divorcecare-2/2015-03-10/
LOCATION:Parish Center\, 13360 Valleyheart Drive\, Sherman Oaks\, CA\, 91423\, United States
CATEGORIES:Ministries
END:VEVENT
BEGIN:VEVENT
DTSTART;TZID=America/Los_Angeles:20150315T084500
DTEND;TZID=America/Los_Angeles:20150315T110000
DTSTAMP:20260425T053241
CREATED:20140915T184835Z
LAST-MODIFIED:20140915T190720Z
UID:10000162-1426409100-1426417200@www.sfdsparish.com
SUMMARY:Confirmation Class and Mass
DESCRIPTION:Confirmation Class starts promptly at 8:45 and will end after 10:00 am Mass. Rite of Affirmation 2nd year students.
URL:https://www.sfdsparish.com/event/confirmation-class-and-mass-2015-03-15/
LOCATION:SFDS School\, 13368 Valleyheart Drive\, Sherman Oaks\, CA\, 91423\, United States
CATEGORIES:Ministries
END:VEVENT
BEGIN:VEVENT
DTSTART;TZID=America/Los_Angeles:20150315T090000
DTEND;TZID=America/Los_Angeles:20150315T095000
DTSTAMP:20260425T053241
CREATED:20140915T174022Z
LAST-MODIFIED:20140915T180517Z
UID:10000555-1426410000-1426413000@www.sfdsparish.com
SUMMARY:Religious Education Class & Mass
DESCRIPTION:Religious Education has class at 9am sharp and 10 am Mass.
URL:https://www.sfdsparish.com/event/religious-education-class-2015-03-15/
LOCATION:SFDS School\, 13368 Valleyheart Drive\, Sherman Oaks\, CA\, 91423\, United States
CATEGORIES:Ministries
END:VEVENT
BEGIN:VEVENT
DTSTART;TZID=America/Los_Angeles:20150321T180000
DTEND;TZID=America/Los_Angeles:20150321T210000
DTSTAMP:20260425T053241
CREATED:20150313T214954Z
LAST-MODIFIED:20150313T214954Z
UID:10000688-1426960800-1426971600@www.sfdsparish.com
SUMMARY:St. Joseph's Dinner
DESCRIPTION:The spaghetti dinner in honor of St. Joseph to benefit the school scholarship fund will be held in the school auditorium after the 5 pm Mass. Tickets can be purchased at the door.
URL:https://www.sfdsparish.com/event/st-josephs-dinner-2/
LOCATION:SFDS School\, 13368 Valleyheart Drive\, Sherman Oaks\, CA\, 91423\, United States
CATEGORIES:SFDS School
END:VEVENT
BEGIN:VEVENT
DTSTART;TZID=America/Los_Angeles:20150324T190000
DTEND;TZID=America/Los_Angeles:20150324T200000
DTSTAMP:20260425T053241
CREATED:20140318T155338Z
LAST-MODIFIED:20150309T213049Z
UID:10000114-1427223600-1427227200@www.sfdsparish.com
SUMMARY:Penance Service
DESCRIPTION:Lenten Penance service for St. Francis and St. Cyril’s parishioners at 7:00 pm in the main church.
URL:https://www.sfdsparish.com/event/penance-service/
LOCATION:SFDS Church\, 13360 Valleyheart Drive\, Sherman Oaks\, CA\, 91423\, United States
CATEGORIES:Ministries
END:VEVENT
BEGIN:VEVENT
DTSTART;TZID=America/Los_Angeles:20150326T190000
DTEND;TZID=America/Los_Angeles:20150326T203000
DTSTAMP:20260425T053241
CREATED:20140915T192002Z
LAST-MODIFIED:20140915T192002Z
UID:10000170-1427396400-1427401800@www.sfdsparish.com
SUMMARY:Confirmation Class
DESCRIPTION:Tentative evening meeting for Confirmation 7 – 8:30 pm.
URL:https://www.sfdsparish.com/event/confirmation-class-2/
LOCATION:SFDS School\, 13368 Valleyheart Drive\, Sherman Oaks\, CA\, 91423\, United States
CATEGORIES:Ministries
END:VEVENT
BEGIN:VEVENT
DTSTART;TZID=America/Los_Angeles:20150329T080000
DTEND;TZID=America/Los_Angeles:20150329T170000
DTSTAMP:20260425T053241
CREATED:20150313T225150Z
LAST-MODIFIED:20150313T225150Z
UID:10000689-1427616000-1427648400@www.sfdsparish.com
SUMMARY:Palm Sunday
DESCRIPTION:Mass at 5:00 pm Saturday afternoon \nMass at 8:00\, 10:00 & 12 Sunday morning and 5:00 Sunday afternoon \nPalms blessed and given at each Mass
URL:https://www.sfdsparish.com/event/palm-sunday-3/
LOCATION:SFDS Church\, 13360 Valleyheart Drive\, Sherman Oaks\, CA\, 91423\, United States
CATEGORIES:Ministries
END:VEVENT
END:VCALENDAR