BEGIN:VCALENDAR
VERSION:2.0
PRODID:-//Saint Francis de Sales Parish - ECPv6.15.20//NONSGML v1.0//EN
CALSCALE:GREGORIAN
METHOD:PUBLISH
X-WR-CALNAME:Saint Francis de Sales Parish
X-ORIGINAL-URL:https://www.sfdsparish.com
X-WR-CALDESC:Events for Saint Francis de Sales Parish
REFRESH-INTERVAL;VALUE=DURATION:PT1H
X-Robots-Tag:noindex
X-PUBLISHED-TTL:PT1H
BEGIN:VTIMEZONE
TZID:America/Los_Angeles
BEGIN:DAYLIGHT
TZOFFSETFROM:-0800
TZOFFSETTO:-0700
TZNAME:PDT
DTSTART:20130310T100000
END:DAYLIGHT
BEGIN:STANDARD
TZOFFSETFROM:-0700
TZOFFSETTO:-0800
TZNAME:PST
DTSTART:20131103T090000
END:STANDARD
BEGIN:DAYLIGHT
TZOFFSETFROM:-0800
TZOFFSETTO:-0700
TZNAME:PDT
DTSTART:20140309T100000
END:DAYLIGHT
BEGIN:STANDARD
TZOFFSETFROM:-0700
TZOFFSETTO:-0800
TZNAME:PST
DTSTART:20141102T090000
END:STANDARD
BEGIN:DAYLIGHT
TZOFFSETFROM:-0800
TZOFFSETTO:-0700
TZNAME:PDT
DTSTART:20150308T100000
END:DAYLIGHT
BEGIN:STANDARD
TZOFFSETFROM:-0700
TZOFFSETTO:-0800
TZNAME:PST
DTSTART:20151101T090000
END:STANDARD
END:VTIMEZONE
BEGIN:VEVENT
DTSTART;TZID=America/Los_Angeles:20140412T110000
DTEND;TZID=America/Los_Angeles:20140412T123000
DTSTAMP:20260425T084723
CREATED:20131203T201633Z
LAST-MODIFIED:20131203T201633Z
UID:10000103-1397300400-1397305800@www.sfdsparish.com
SUMMARY:Confirmation
DESCRIPTION:Confirmation for 2nd year students candidates and sponsors 11:00 am with Bishop Gordon Bennett\, S.J.
URL:https://www.sfdsparish.com/event/confirmation-2/
LOCATION:SFDS Church\, 13360 Valleyheart Drive\, Sherman Oaks\, CA\, 91423\, United States
CATEGORIES:Ministries
END:VEVENT
BEGIN:VEVENT
DTSTART;VALUE=DATE:20140413
DTEND;VALUE=DATE:20140414
DTSTAMP:20260425T084723
CREATED:20140306T221548Z
LAST-MODIFIED:20140306T221548Z
UID:10000128-1397347200-1397433599@www.sfdsparish.com
SUMMARY:Palm Sunday
DESCRIPTION:Palms distributed at every mass.
URL:https://www.sfdsparish.com/event/palm-sunday-2/
LOCATION:SFDS Church\, 13360 Valleyheart Drive\, Sherman Oaks\, CA\, 91423\, United States
CATEGORIES:Ministries
END:VEVENT
BEGIN:VEVENT
DTSTART;TZID=America/Los_Angeles:20140417T190000
DTEND;TZID=America/Los_Angeles:20140417T223000
DTSTAMP:20260425T084723
CREATED:20140327T195529Z
LAST-MODIFIED:20140327T195529Z
UID:10000116-1397761200-1397773800@www.sfdsparish.com
SUMMARY:Holy Thursday
DESCRIPTION:Evening Mass of the Lord’s Supper at 7:00 pm \n(After Mass the Blessed Sacrament will be in the Children’s Chapel for adoration until 10: 30 pm)
URL:https://www.sfdsparish.com/event/holy-thursday/
LOCATION:SFDS Church\, 13360 Valleyheart Drive\, Sherman Oaks\, CA\, 91423\, United States
CATEGORIES:Ministries
END:VEVENT
BEGIN:VEVENT
DTSTART;TZID=America/Los_Angeles:20140418T150000
DTEND;TZID=America/Los_Angeles:20140418T190000
DTSTAMP:20260425T084723
CREATED:20140327T195904Z
LAST-MODIFIED:20140327T195904Z
UID:10000118-1397833200-1397847600@www.sfdsparish.com
SUMMARY:Good Friday
DESCRIPTION:Passion Play by 8th Grade of St. Francis de Sales School at 12 noon \nGood Friday Service at 3:00 pm and 7:00 pm (reading of the Passion\, Adoration of the Cross and Holy Communion at both services. \n 
URL:https://www.sfdsparish.com/event/good-friday/
LOCATION:SFDS Church\, 13360 Valleyheart Drive\, Sherman Oaks\, CA\, 91423\, United States
CATEGORIES:Ministries
END:VEVENT
BEGIN:VEVENT
DTSTART;VALUE=DATE:20140419
DTEND;VALUE=DATE:20140420
DTSTAMP:20260425T084723
CREATED:20140327T201629Z
LAST-MODIFIED:20140327T210151Z
UID:10000120-1397865600-1397951999@www.sfdsparish.com
SUMMARY:Holy Saturday
DESCRIPTION:Great Vigil of Easter at 8:00 pm
URL:https://www.sfdsparish.com/event/holy-saturday/
LOCATION:SFDS Church\, 13360 Valleyheart Drive\, Sherman Oaks\, CA\, 91423\, United States
CATEGORIES:Ministries
END:VEVENT
BEGIN:VEVENT
DTSTART;VALUE=DATE:20140420
DTEND;VALUE=DATE:20140421
DTSTAMP:20260425T084723
CREATED:20140306T221640Z
LAST-MODIFIED:20140327T195124Z
UID:10000129-1397952000-1398038399@www.sfdsparish.com
SUMMARY:Easter Sunday
DESCRIPTION:Masses at 8:00 am\, 10:00 am\, 12 noon\, No 5:00 pm Mass Easter afternoon.
URL:https://www.sfdsparish.com/event/easter-sunday-2/
LOCATION:SFDS Church\, 13360 Valleyheart Drive\, Sherman Oaks\, CA\, 91423\, United States
CATEGORIES:Ministries
END:VEVENT
BEGIN:VEVENT
DTSTART;VALUE=DATE:20140420
DTEND;VALUE=DATE:20140421
DTSTAMP:20260425T084723
CREATED:20131203T204027Z
LAST-MODIFIED:20131203T204241Z
UID:10000356-1397952000-1398038399@www.sfdsparish.com
SUMMARY:No Religious Education
DESCRIPTION:Easter Sunday no religious education
URL:https://www.sfdsparish.com/event/no-religious-education-4/
LOCATION:SFDS Church\, 13360 Valleyheart Drive\, Sherman Oaks\, CA\, 91423\, United States
CATEGORIES:Ministries
END:VEVENT
BEGIN:VEVENT
DTSTART;TZID=America/Los_Angeles:20140424T190000
DTEND;TZID=America/Los_Angeles:20140424T203000
DTSTAMP:20260425T084723
CREATED:20130404T175316Z
LAST-MODIFIED:20140708T190457Z
UID:10000123-1398366000-1398371400@www.sfdsparish.com
SUMMARY:Evening Bible Study
DESCRIPTION:Parish center evenings from 7 – 8:30. All are welcome to pray and ponder over Bible text for it’s meaning.
URL:https://www.sfdsparish.com/event/evening-bible-study/2014-04-24/
LOCATION:Parish Center\, 13360 Valleyheart Drive\, Sherman Oaks\, CA\, 91423\, United States
CATEGORIES:Ministries
END:VEVENT
BEGIN:VEVENT
DTSTART;TZID=America/Los_Angeles:20140427T090000
DTEND;TZID=America/Los_Angeles:20140427T110000
DTSTAMP:20260425T084723
CREATED:20131203T204535Z
LAST-MODIFIED:20131203T204608Z
UID:10000357-1398589200-1398596400@www.sfdsparish.com
SUMMARY:Religious Education Class and Mass
DESCRIPTION:Religious Education have class and attend Mass together. Last day of class for all students except those making their First Communion.
URL:https://www.sfdsparish.com/event/religious-education-class-and-mass-3/
LOCATION:SFDS School\, 13368 Valleyheart Drive\, Sherman Oaks\, CA\, 91423\, United States
END:VEVENT
BEGIN:VEVENT
DTSTART;TZID=America/Los_Angeles:20140502T180000
DTEND;TZID=America/Los_Angeles:20140502T230000
DTSTAMP:20260425T084723
CREATED:20140327T211004Z
LAST-MODIFIED:20140327T212651Z
UID:10000480-1399053600-1399071600@www.sfdsparish.com
SUMMARY:St. Francis de Sales Festival 2014
DESCRIPTION:May 2nd Friday: 6pm to 11 pm \nMay 3rd Saturday: Noon to 11 pm \nMay 4th Sunday: Noon to 7:30 pm
URL:https://www.sfdsparish.com/event/st-francis-de-sales-festival-2014/
LOCATION:SFDS School\, 13368 Valleyheart Drive\, Sherman Oaks\, CA\, 91423\, United States
CATEGORIES:SFDS School
END:VEVENT
BEGIN:VEVENT
DTSTART;TZID=America/Los_Angeles:20140503T120000
DTEND;TZID=America/Los_Angeles:20140503T230000
DTSTAMP:20260425T084723
CREATED:20140327T212312Z
LAST-MODIFIED:20140327T212614Z
UID:10000481-1399118400-1399158000@www.sfdsparish.com
SUMMARY:St. Francis de Sales Festival 2014
DESCRIPTION:May 2nd Friday: 6pm to 11 pm \nMay 3rd Saturday: Noon to 11 pm \nMay 4th Sunday: Noon to 7:30 pm
URL:https://www.sfdsparish.com/event/st-francis-de-sales-festival-2014-2/
LOCATION:SFDS School\, 13368 Valleyheart Drive\, Sherman Oaks\, CA\, 91423\, United States
CATEGORIES:SFDS School
END:VEVENT
BEGIN:VEVENT
DTSTART;TZID=America/Los_Angeles:20140504T090000
DTEND;TZID=America/Los_Angeles:20140504T100000
DTSTAMP:20260425T084723
CREATED:20131203T204747Z
LAST-MODIFIED:20131203T204747Z
UID:10000358-1399194000-1399197600@www.sfdsparish.com
SUMMARY:First Communion Practice
DESCRIPTION:Children making their First Communion come to class
URL:https://www.sfdsparish.com/event/first-communion-practice-2/
LOCATION:SFDS School\, 13368 Valleyheart Drive\, Sherman Oaks\, CA\, 91423\, United States
CATEGORIES:Ministries
END:VEVENT
BEGIN:VEVENT
DTSTART;TZID=America/Los_Angeles:20140504T120000
DTEND;TZID=America/Los_Angeles:20140504T193000
DTSTAMP:20260425T084723
CREATED:20140327T212436Z
LAST-MODIFIED:20140327T212539Z
UID:10000490-1399204800-1399231800@www.sfdsparish.com
SUMMARY:St. Francis de Sales Festival 2014
DESCRIPTION:May 2nd Friday: 6pm to 11 pm \nMay 3rd Saturday: Noon to 11 pm \nMay 4th Sunday: Noon to 7:30 pm
URL:https://www.sfdsparish.com/event/st-francis-de-sales-festival-2014-3/
LOCATION:SFDS School\, 13368 Valleyheart Drive\, Sherman Oaks\, CA\, 91423\, United States
CATEGORIES:SFDS School
END:VEVENT
BEGIN:VEVENT
DTSTART;TZID=America/Los_Angeles:20140509T080000
DTEND;TZID=America/Los_Angeles:20140509T120000
DTSTAMP:20260425T084723
CREATED:20131203T205230Z
LAST-MODIFIED:20131203T205230Z
UID:10000359-1399622400-1399636800@www.sfdsparish.com
SUMMARY:First Communion Rehearsal
DESCRIPTION:First Communicants Day of Prayer and Luncheon
URL:https://www.sfdsparish.com/event/first-communion-rehearsal/
LOCATION:SFDS School\, 13368 Valleyheart Drive\, Sherman Oaks\, CA\, 91423\, United States
CATEGORIES:Ministries
END:VEVENT
BEGIN:VEVENT
DTSTART;TZID=America/Los_Angeles:20140510T103000
DTEND;TZID=America/Los_Angeles:20140510T120000
DTSTAMP:20260425T084723
CREATED:20131203T205428Z
LAST-MODIFIED:20131203T205428Z
UID:10000361-1399717800-1399723200@www.sfdsparish.com
SUMMARY:First Holy Communion
DESCRIPTION:First Holy Communion 10:30 am in the church
URL:https://www.sfdsparish.com/event/first-holy-communion-2/
LOCATION:SFDS Church\, 13360 Valleyheart Drive\, Sherman Oaks\, CA\, 91423\, United States
CATEGORIES:Ministries
END:VEVENT
BEGIN:VEVENT
DTSTART;TZID=America/Los_Angeles:20140724T190000
DTEND;TZID=America/Los_Angeles:20140724T203000
DTSTAMP:20260425T084723
CREATED:20130404T175316Z
LAST-MODIFIED:20140902T181527Z
UID:10000029-1406228400-1406233800@www.sfdsparish.com
SUMMARY:Evening Bible Study
DESCRIPTION:Parish center evenings from 7 – 8:30. All are welcome to pray and ponder over Bible text for it’s meaning.
URL:https://www.sfdsparish.com/event/evening-bible-study-2014-07-24/
LOCATION:Parish Center\, 13360 Valleyheart Drive\, Sherman Oaks\, CA\, 91423\, United States
CATEGORIES:Ministries
END:VEVENT
BEGIN:VEVENT
DTSTART;VALUE=DATE:20140815
DTEND;VALUE=DATE:20140816
DTSTAMP:20260425T084723
CREATED:20140714T195951Z
LAST-MODIFIED:20140714T195951Z
UID:10000482-1408060800-1408147199@www.sfdsparish.com
SUMMARY:Assumption of the Blessed Virgin Mary
DESCRIPTION:A Holy Day of Obligation Mass times at 8:15\, 12:05 and 7:00 pm.
URL:https://www.sfdsparish.com/event/assumption-of-the-blessed-virgin-mary/
LOCATION:SFDS Church\, 13360 Valleyheart Drive\, Sherman Oaks\, CA\, 91423\, United States
CATEGORIES:Ministries
END:VEVENT
BEGIN:VEVENT
DTSTART;TZID=America/Los_Angeles:20140903T190000
DTEND;TZID=America/Los_Angeles:20140903T210000
DTSTAMP:20260425T084723
CREATED:20140822T201136Z
LAST-MODIFIED:20140822T201136Z
UID:10000506-1409770800-1409778000@www.sfdsparish.com
SUMMARY:DivorceCare
DESCRIPTION:DivorceCare is a weekly faith based seminar that meets in the parish center Wednesday evenings from 7 – 9 pm from September 3 – December 3\, 2014.
URL:https://www.sfdsparish.com/event/divorcecare/2014-09-03/
LOCATION:Parish Center\, 13360 Valleyheart Drive\, Sherman Oaks\, CA\, 91423\, United States
CATEGORIES:Ministries
END:VEVENT
BEGIN:VEVENT
DTSTART;TZID=America/Los_Angeles:20140907T090000
DTEND;TZID=America/Los_Angeles:20140907T120000
DTSTAMP:20260425T084723
CREATED:20140818T201644Z
LAST-MODIFIED:20140818T201644Z
UID:10000494-1410080400-1410091200@www.sfdsparish.com
SUMMARY:High School Confirmation Registration 2014-2015
DESCRIPTION:Registration is Sunday September 7\, 2014 from 9:00 am to 12:00 noon in the school auditorium. Registration is required for new and continuing students.
URL:https://www.sfdsparish.com/event/high-school-confirmation-registration-2014-2015/
LOCATION:SFDS School\, 13368 Valleyheart Drive\, Sherman Oaks\, CA\, 91423\, United States
CATEGORIES:Ministries
END:VEVENT
BEGIN:VEVENT
DTSTART;TZID=America/Los_Angeles:20140907T090000
DTEND;TZID=America/Los_Angeles:20140907T120000
DTSTAMP:20260425T084723
CREATED:20140818T200800Z
LAST-MODIFIED:20140818T200846Z
UID:10000492-1410080400-1410091200@www.sfdsparish.com
SUMMARY:Religious Education Registration 2014-2015
DESCRIPTION:Registration for Religious Education\, High School Confirmation and Little Church will be in the school auditorium from 9:00 am to 12:00 noon. Registration is required for new and returning students. \nLittle Church is for children who are not yet in school. \nReligious Education is for grades 1-8 who do not attend Catholic school and need to prepare for First Penance and First Holy Communion. \nHigh School Confirmation is a 2 year program for 9th and 10th graders.
URL:https://www.sfdsparish.com/event/religious-education-registration-2014-2015/
LOCATION:SFDS School\, 13368 Valleyheart Drive\, Sherman Oaks\, CA\, 91423\, United States
CATEGORIES:Ministries
END:VEVENT
BEGIN:VEVENT
DTSTART;TZID=America/Los_Angeles:20140910T190000
DTEND;TZID=America/Los_Angeles:20140910T200000
DTSTAMP:20260425T084723
CREATED:20130410T214330Z
LAST-MODIFIED:20141007T153510Z
UID:10000134-1410375600-1410379200@www.sfdsparish.com
SUMMARY:Baptism Class - 7 pm
DESCRIPTION:Baptism Class held second Wednesday of the month at 7:00 in the parish center.
URL:https://www.sfdsparish.com/event/baptism-class/2014-09-10/
LOCATION:Parish Center\, 13360 Valleyheart Drive\, Sherman Oaks\, CA\, 91423\, United States
CATEGORIES:Ministries
END:VEVENT
BEGIN:VEVENT
DTSTART;TZID=America/Los_Angeles:20140914T090000
DTEND;TZID=America/Los_Angeles:20140914T110000
DTSTAMP:20260425T084723
CREATED:20140818T202136Z
LAST-MODIFIED:20140818T202136Z
UID:10000496-1410685200-1410692400@www.sfdsparish.com
SUMMARY:Religious Education Classes Begin
DESCRIPTION:Religious Education classes for children grades 1-8 begin at 9 am sharp and class will finish at 9:50 but all the children will be attending the 10 am Mass. Class will not officially end until the conclusion of the 10:00 am Mass.
URL:https://www.sfdsparish.com/event/religious-education-classes-begin-2/
LOCATION:SFDS School\, 13368 Valleyheart Drive\, Sherman Oaks\, CA\, 91423\, United States
CATEGORIES:Ministries
END:VEVENT
BEGIN:VEVENT
DTSTART;TZID=America/Los_Angeles:20140917T190000
DTEND;TZID=America/Los_Angeles:20140917T210000
DTSTAMP:20260425T084723
CREATED:20140822T200631Z
LAST-MODIFIED:20150323T203658Z
UID:10000504-1410980400-1410987600@www.sfdsparish.com
SUMMARY:Adult Initiation
DESCRIPTION:Classes are held in the parish center on Wednesday evenings from 7 to 9 pm beginning September 17th.
URL:https://www.sfdsparish.com/event/adult-initiation/2014-09-17/
LOCATION:Parish Center\, 13360 Valleyheart Drive\, Sherman Oaks\, CA\, 91423\, United States
CATEGORIES:Ministries
END:VEVENT
BEGIN:VEVENT
DTSTART;TZID=America/Los_Angeles:20140918T190000
DTEND;TZID=America/Los_Angeles:20140918T203000
DTSTAMP:20260425T084723
CREATED:20140902T181756Z
LAST-MODIFIED:20150511T182243Z
UID:10000508-1411066800-1411072200@www.sfdsparish.com
SUMMARY:Evening Bible Study
DESCRIPTION:Parish center evenings from 7 – 8:30. All are welcome to pray and ponder over Bible text for it’s meaning.
URL:https://www.sfdsparish.com/event/evening-bible-study-2/2014-09-18/
LOCATION:Parish Center\, 13360 Valleyheart Drive\, Sherman Oaks\, CA\, 91423\, United States
CATEGORIES:Ministries
END:VEVENT
BEGIN:VEVENT
DTSTART;TZID=America/Los_Angeles:20140921T083000
DTEND;TZID=America/Los_Angeles:20140921T095000
DTSTAMP:20260425T084723
CREATED:20140915T191121Z
LAST-MODIFIED:20140915T191121Z
UID:10000165-1411288200-1411293000@www.sfdsparish.com
SUMMARY:Parent Meeting - Confirmation 2
DESCRIPTION:Parent Meeting for Confirmation 2 students in the auditorium 8:30 am sharp.
URL:https://www.sfdsparish.com/event/parent-meeting-confirmation-2/
LOCATION:SFDS School\, 13368 Valleyheart Drive\, Sherman Oaks\, CA\, 91423\, United States
CATEGORIES:Ministries
END:VEVENT
BEGIN:VEVENT
DTSTART;TZID=America/Los_Angeles:20140921T084500
DTEND;TZID=America/Los_Angeles:20140921T094500
DTSTAMP:20260425T084723
CREATED:20140915T184835Z
LAST-MODIFIED:20141121T165142Z
UID:10000568-1411289100-1411292700@www.sfdsparish.com
SUMMARY:Confirmation Class
DESCRIPTION:Confirmation Class starts promptly at 8:45.
URL:https://www.sfdsparish.com/event/confirmation-class-and-mass/2014-09-21/
LOCATION:SFDS School\, 13368 Valleyheart Drive\, Sherman Oaks\, CA\, 91423\, United States
CATEGORIES:Ministries
END:VEVENT
BEGIN:VEVENT
DTSTART;TZID=America/Los_Angeles:20140921T084500
DTEND;TZID=America/Los_Angeles:20140921T110000
DTSTAMP:20260425T084723
CREATED:20140818T202827Z
LAST-MODIFIED:20140818T202827Z
UID:10000503-1411289100-1411297200@www.sfdsparish.com
SUMMARY:High School Confirmation Classes Begin
DESCRIPTION:High School Confirmation classes begin at 8:45 sharp and finish at 9:50 and then the students will attend 10:00 am Mass and class will officially finish at the conclusion of the 10:00 am Mass.
URL:https://www.sfdsparish.com/event/high-school-confirmation-classes-begin/
LOCATION:SFDS School\, 13368 Valleyheart Drive\, Sherman Oaks\, CA\, 91423\, United States
CATEGORIES:Ministries
END:VEVENT
BEGIN:VEVENT
DTSTART;TZID=America/Los_Angeles:20140921T090000
DTEND;TZID=America/Los_Angeles:20140921T095000
DTSTAMP:20260425T084723
CREATED:20140915T174022Z
LAST-MODIFIED:20140915T174230Z
UID:10000143-1411290000-1411293000@www.sfdsparish.com
SUMMARY:Religious Education Class and Mass
DESCRIPTION:Religious Education has class at 9am sharp and they will attend Mass together at 10 am.
URL:https://www.sfdsparish.com/event/religious-education-class/
LOCATION:SFDS School\, 13368 Valleyheart Drive\, Sherman Oaks\, CA\, 91423\, United States
CATEGORIES:Ministries
END:VEVENT
BEGIN:VEVENT
DTSTART;TZID=America/Los_Angeles:20140928T083000
DTEND;TZID=America/Los_Angeles:20140928T095000
DTSTAMP:20260425T084723
CREATED:20140915T191304Z
LAST-MODIFIED:20140915T191304Z
UID:10000166-1411893000-1411897800@www.sfdsparish.com
SUMMARY:Parent Meeting - Confirmation 1
DESCRIPTION:Parent Meeting for Confirmation 1 students 8:30 am sharp in the auditorium.
URL:https://www.sfdsparish.com/event/parent-meeting-confirmation-1/
LOCATION:SFDS School\, 13368 Valleyheart Drive\, Sherman Oaks\, CA\, 91423\, United States
CATEGORIES:Ministries
END:VEVENT
BEGIN:VEVENT
DTSTART;TZID=America/Los_Angeles:20141007T180000
DTEND;TZID=America/Los_Angeles:20141007T190000
DTSTAMP:20260425T084723
CREATED:20141003T194620Z
LAST-MODIFIED:20141003T194620Z
UID:10000590-1412704800-1412708400@www.sfdsparish.com
SUMMARY:Dan Goossen Funeral
DESCRIPTION:Funeral services for Dan Goossen will be 6:00 pm in the main church.
URL:https://www.sfdsparish.com/event/dan-goossen-funeral/
LOCATION:SFDS Church\, 13360 Valleyheart Drive\, Sherman Oaks\, CA\, 91423\, United States
CATEGORIES:Ministries
END:VEVENT
END:VCALENDAR