BEGIN:VCALENDAR
VERSION:2.0
PRODID:-//Saint Francis de Sales Parish - ECPv6.15.20//NONSGML v1.0//EN
CALSCALE:GREGORIAN
METHOD:PUBLISH
X-WR-CALNAME:Saint Francis de Sales Parish
X-ORIGINAL-URL:https://www.sfdsparish.com
X-WR-CALDESC:Events for Saint Francis de Sales Parish
REFRESH-INTERVAL;VALUE=DURATION:PT1H
X-Robots-Tag:noindex
X-PUBLISHED-TTL:PT1H
BEGIN:VTIMEZONE
TZID:America/Los_Angeles
BEGIN:DAYLIGHT
TZOFFSETFROM:-0800
TZOFFSETTO:-0700
TZNAME:PDT
DTSTART:20120311T100000
END:DAYLIGHT
BEGIN:STANDARD
TZOFFSETFROM:-0700
TZOFFSETTO:-0800
TZNAME:PST
DTSTART:20121104T090000
END:STANDARD
BEGIN:DAYLIGHT
TZOFFSETFROM:-0800
TZOFFSETTO:-0700
TZNAME:PDT
DTSTART:20130310T100000
END:DAYLIGHT
BEGIN:STANDARD
TZOFFSETFROM:-0700
TZOFFSETTO:-0800
TZNAME:PST
DTSTART:20131103T090000
END:STANDARD
BEGIN:DAYLIGHT
TZOFFSETFROM:-0800
TZOFFSETTO:-0700
TZNAME:PDT
DTSTART:20140309T100000
END:DAYLIGHT
BEGIN:STANDARD
TZOFFSETFROM:-0700
TZOFFSETTO:-0800
TZNAME:PST
DTSTART:20141102T090000
END:STANDARD
BEGIN:DAYLIGHT
TZOFFSETFROM:-0800
TZOFFSETTO:-0700
TZNAME:PDT
DTSTART:20150308T100000
END:DAYLIGHT
BEGIN:STANDARD
TZOFFSETFROM:-0700
TZOFFSETTO:-0800
TZNAME:PST
DTSTART:20151101T090000
END:STANDARD
END:VTIMEZONE
BEGIN:VEVENT
DTSTART;VALUE=DATE:20131128
DTEND;VALUE=DATE:20131129
DTSTAMP:20260425T035126
CREATED:20130925T201023Z
LAST-MODIFIED:20131121T224043Z
UID:10000069-1385596800-1385683199@www.sfdsparish.com
SUMMARY:Thanksgiving
DESCRIPTION:Mass will be at 9:00 am. Please bring canned or dried food\, baby supplies or money donations with you to mass and you can carry them to the altar at the Preparation of the Gifts. Additionally if you would like to bring the bread and wine you will have at your Thanksgiving table; you can place the basket on the altar and Fr. Mike will bless them and you can then take them home to enjoy at your dinner.
URL:https://www.sfdsparish.com/event/thanksgiving/
LOCATION:SFDS Church\, 13360 Valleyheart Drive\, Sherman Oaks\, CA\, 91423\, United States
CATEGORIES:Holidays
END:VEVENT
BEGIN:VEVENT
DTSTART;VALUE=DATE:20131130
DTEND;VALUE=DATE:20131201
DTSTAMP:20260425T035126
CREATED:20130925T201118Z
LAST-MODIFIED:20130925T201118Z
UID:10000208-1385769600-1385855999@www.sfdsparish.com
SUMMARY:St. Andrew
DESCRIPTION:
URL:https://www.sfdsparish.com/event/st-andrew/
LOCATION:SFDS Church\, 13360 Valleyheart Drive\, Sherman Oaks\, CA\, 91423\, United States
CATEGORIES:Ministries
END:VEVENT
BEGIN:VEVENT
DTSTART;TZID=America/Los_Angeles:20131201T084500
DTEND;TZID=America/Los_Angeles:20131201T094500
DTSTAMP:20260425T035126
CREATED:20130926T171950Z
LAST-MODIFIED:20130926T171950Z
UID:10000206-1385887500-1385891100@www.sfdsparish.com
SUMMARY:No Confirmation 1 & 2
DESCRIPTION:Thanksgiving Holiday
URL:https://www.sfdsparish.com/event/no-confirmation-1-2-3/
LOCATION:SFDS Church\, 13360 Valleyheart Drive\, Sherman Oaks\, CA\, 91423\, United States
CATEGORIES:Ministries
END:VEVENT
BEGIN:VEVENT
DTSTART;TZID=America/Los_Angeles:20131201T090000
DTEND;TZID=America/Los_Angeles:20131201T095500
DTSTAMP:20260425T035126
CREATED:20130924T182402Z
LAST-MODIFIED:20130924T182402Z
UID:10000195-1385888400-1385891700@www.sfdsparish.com
SUMMARY:No Religious Ed
DESCRIPTION:No Religious Ed classes due to Thanksgiving
URL:https://www.sfdsparish.com/event/no-religious-ed/
LOCATION:SFDS School\, 13368 Valleyheart Drive\, Sherman Oaks\, CA\, 91423\, United States
CATEGORIES:Ministries
END:VEVENT
BEGIN:VEVENT
DTSTART;TZID=America/Los_Angeles:20131204T193000
DTEND;TZID=America/Los_Angeles:20131204T203000
DTSTAMP:20260425T035126
CREATED:20131204T165229Z
LAST-MODIFIED:20131204T165229Z
UID:10000365-1386185400-1386189000@www.sfdsparish.com
SUMMARY:Meditation Group
DESCRIPTION:Be Still and Know That I Am God\nAll are welcome to join the SFDS Meditation Prayer Group. We meet every Wednesday at 7:30 p.m. for one hour in the church. The group follows the teachings of Fr. John Main\, a Benedictine Monk\, who uses a combination of silence\, stillness and prayer. Those who are drawn to silent meditation as a way of experiencing the divine presence in their lives are encouraged to attend.\n“God is not only out there but also within.”\n\nTo learn more about the group’s practice\, go online to The World Community of Christian Meditation at www.wccm.com.
URL:https://www.sfdsparish.com/event/meditation-group/
LOCATION:SFDS Church\, 13360 Valleyheart Drive\, Sherman Oaks\, CA\, 91423\, United States
CATEGORIES:Ministries
END:VEVENT
BEGIN:VEVENT
DTSTART;VALUE=DATE:20131206
DTEND;VALUE=DATE:20131207
DTSTAMP:20260425T035126
CREATED:20131127T234855Z
LAST-MODIFIED:20131127T234855Z
UID:10000288-1386288000-1386374399@www.sfdsparish.com
SUMMARY:PTAC Meeting
DESCRIPTION:PTAC Christmas Meeting after mass in the parish center 9:30 am
URL:https://www.sfdsparish.com/event/ptac-meeting-4/
LOCATION:Parish Center\, 13360 Valleyheart Drive\, Sherman Oaks\, CA\, 91423\, United States
CATEGORIES:SFDS School
END:VEVENT
BEGIN:VEVENT
DTSTART;VALUE=DATE:20131210
DTEND;VALUE=DATE:20131211
DTSTAMP:20260425T035126
CREATED:20131122T175249Z
LAST-MODIFIED:20131122T231828Z
UID:10000282-1386633600-1386719999@www.sfdsparish.com
SUMMARY:Advent Penance Service
DESCRIPTION:Advent Penance Service at St. Cyril of Jerusalem 7:00 pm. St. Cyril of Jerusalem is located at 15520 Ventura Blvd.\, Encino\, CA 91436 (818) 986-8234
URL:https://www.sfdsparish.com/event/advent-penance-service/
LOCATION:St Cyril of Jerusalem Church\, 15520 Ventura Blvd\, Encino\, CA\, 91436\, United States
CATEGORIES:Ministries
END:VEVENT
BEGIN:VEVENT
DTSTART;TZID=America/Los_Angeles:20131214T090000
DTEND;TZID=America/Los_Angeles:20131214T163000
DTSTAMP:20260425T035126
CREATED:20130924T185311Z
LAST-MODIFIED:20130924T185311Z
UID:10000201-1387011600-1387038600@www.sfdsparish.com
SUMMARY:Confirmation 2 Retreat
DESCRIPTION:Confirmation 2 students will have a mandatory retreat at Holy Spirit Retreat Center – Encino from 9:00 am to 4:30 pm.
URL:https://www.sfdsparish.com/event/confirmation-2-retreat/
LOCATION:Holy Spirit Retreat Center
CATEGORIES:Ministries
END:VEVENT
BEGIN:VEVENT
DTSTART;TZID=America/Los_Angeles:20131215T084500
DTEND;TZID=America/Los_Angeles:20131215T094000
DTSTAMP:20260425T035126
CREATED:20130924T185703Z
LAST-MODIFIED:20130924T185703Z
UID:10000203-1387097100-1387100400@www.sfdsparish.com
SUMMARY:No Confirmation 1 & 2
DESCRIPTION:No Confirmation 1 & 2 Class- Christmas Holiday
URL:https://www.sfdsparish.com/event/no-confirmation-1-2-2/
LOCATION:SFDS School\, 13368 Valleyheart Drive\, Sherman Oaks\, CA\, 91423\, United States
CATEGORIES:Ministries
END:VEVENT
BEGIN:VEVENT
DTSTART;TZID=America/Los_Angeles:20131215T100000
DTEND;TZID=America/Los_Angeles:20131215T110000
DTSTAMP:20260425T035126
CREATED:20130924T182153Z
LAST-MODIFIED:20130924T182153Z
UID:10000193-1387101600-1387105200@www.sfdsparish.com
SUMMARY:Religious Ed Attends Mass
DESCRIPTION:Religious Education students attend mass with their classes
URL:https://www.sfdsparish.com/event/religious-ed-attends-mass-2/
LOCATION:SFDS Church\, 13360 Valleyheart Drive\, Sherman Oaks\, CA\, 91423\, United States
CATEGORIES:Ministries
END:VEVENT
BEGIN:VEVENT
DTSTART;TZID=America/Los_Angeles:20131216T130000
DTEND;TZID=America/Los_Angeles:20131216T150000
DTSTAMP:20260425T035126
CREATED:20131127T235523Z
LAST-MODIFIED:20131127T235523Z
UID:10000290-1387198800-1387206000@www.sfdsparish.com
SUMMARY:55+ Christmas Luncheon
DESCRIPTION:The 8th grade will host a Christmas Luncheon in the school auditorium starting at 1:00 pm. Please respond to the parish center (818) 784-0105 if you would like to attend by Wednesday December 11th.
URL:https://www.sfdsparish.com/event/55-christmas-luncheon/
LOCATION:SFDS School\, 13368 Valleyheart Drive\, Sherman Oaks\, CA\, 91423\, United States
CATEGORIES:SFDS School
END:VEVENT
BEGIN:VEVENT
DTSTART;TZID=America/Los_Angeles:20131218T193000
DTEND;TZID=America/Los_Angeles:20131218T203000
DTSTAMP:20260425T035126
CREATED:20131203T221732Z
LAST-MODIFIED:20131203T221732Z
UID:10000363-1387395000-1387398600@www.sfdsparish.com
SUMMARY:Meditation Group - Parish Center
DESCRIPTION:Be Still and Know That I Am God\nAll are welcome to join the SFDS Meditation Prayer Group. We meet every Wednesday at 7:30 p.m. for one hour in the church. The group follows the teachings of Fr. John Main\, a Benedictine Monk\, who uses a combination of silence\, stillness and prayer. Those who are drawn to silent meditation as a way of experiencing the divine presence in their lives are encouraged to attend.\n“God is not only out there but also within.”\n\nTo learn more about the group’s practice\, go online to The World Community of Christian Meditation at www.wccm.com.
URL:https://www.sfdsparish.com/event/meditation-group-parish-center-3/
LOCATION:Parish Center\, 13360 Valleyheart Drive\, Sherman Oaks\, CA\, 91423\, United States
CATEGORIES:Ministries
END:VEVENT
BEGIN:VEVENT
DTSTART;VALUE=DATE:20131219
DTEND;VALUE=DATE:20131220
DTSTAMP:20260425T035126
CREATED:20131122T175506Z
LAST-MODIFIED:20131122T175506Z
UID:10000283-1387411200-1387497599@www.sfdsparish.com
SUMMARY:Simbang Gabi
DESCRIPTION:Simbang Gabi (Filipino Advent Novena of Masses 7:00 pm
URL:https://www.sfdsparish.com/event/simbang-gabi/
LOCATION:SFDS Church\, 13360 Valleyheart Drive\, Sherman Oaks\, CA\, 91423\, United States
CATEGORIES:Ministries
END:VEVENT
BEGIN:VEVENT
DTSTART;VALUE=DATE:20131224
DTEND;VALUE=DATE:20131225
DTSTAMP:20260425T035126
CREATED:20131122T175952Z
LAST-MODIFIED:20131122T175952Z
UID:10000284-1387843200-1387929599@www.sfdsparish.com
SUMMARY:Christmas Eve
DESCRIPTION:Mass at 4:00 pm with Children’s Choir\, Carols begin at 3:30 pm \nMass at 6:00 pm with Cantor and Organ \nMass at Midnight with St. Francis de Sales Choir\, Carols begin at 11:15 pm
URL:https://www.sfdsparish.com/event/christmas-eve/
LOCATION:SFDS Church\, 13360 Valleyheart Drive\, Sherman Oaks\, CA\, 91423\, United States
CATEGORIES:Ministries
END:VEVENT
BEGIN:VEVENT
DTSTART;VALUE=DATE:20131225
DTEND;VALUE=DATE:20131226
DTSTAMP:20260425T035126
CREATED:20131122T180238Z
LAST-MODIFIED:20131122T180238Z
UID:10000285-1387929600-1388015999@www.sfdsparish.com
SUMMARY:Christmas
DESCRIPTION:8:00 am Mass with Cantor and Organ \n10:00 am Mass with St. Francis de Sales Choir \n12 noon Mass with Cantor and Organ \nThere is not 5:00 afternoon Mass on Christmas Day \n 
URL:https://www.sfdsparish.com/event/christmas/
LOCATION:SFDS Church\, 13360 Valleyheart Drive\, Sherman Oaks\, CA\, 91423\, United States
CATEGORIES:Ministries
END:VEVENT
BEGIN:VEVENT
DTSTART;VALUE=DATE:20140101
DTEND;VALUE=DATE:20140102
DTSTAMP:20260425T035126
CREATED:20131122T181809Z
LAST-MODIFIED:20131122T181809Z
UID:10000286-1388534400-1388620799@www.sfdsparish.com
SUMMARY:New Year's Day
DESCRIPTION:Mary\, Mother of God (not a holy day of obligation) Mass at 8:15 am
URL:https://www.sfdsparish.com/event/new-years-day/
LOCATION:SFDS Church\, 13360 Valleyheart Drive\, Sherman Oaks\, CA\, 91423\, United States
CATEGORIES:Ministries
END:VEVENT
BEGIN:VEVENT
DTSTART;TZID=America/Los_Angeles:20140105T090000
DTEND;TZID=America/Los_Angeles:20140105T095000
DTSTAMP:20260425T035126
CREATED:20131203T193611Z
LAST-MODIFIED:20131203T193611Z
UID:10000293-1388912400-1388915400@www.sfdsparish.com
SUMMARY:Religious Education
DESCRIPTION:Religious Education from 9:00 – 9:50 am
URL:https://www.sfdsparish.com/event/religious-education-2/2014-01-05/
LOCATION:SFDS School\, 13368 Valleyheart Drive\, Sherman Oaks\, CA\, 91423\, United States
CATEGORIES:Ministries
END:VEVENT
BEGIN:VEVENT
DTSTART;TZID=America/Los_Angeles:20140112T084500
DTEND;TZID=America/Los_Angeles:20140112T110000
DTSTAMP:20260425T035126
CREATED:20131203T194151Z
LAST-MODIFIED:20131203T194151Z
UID:10000295-1389516300-1389524400@www.sfdsparish.com
SUMMARY:Confirmation 1 & 2 Class and Mass
DESCRIPTION:Both Confirmation 1 &2 have class and attend 10:00 am mass together.
URL:https://www.sfdsparish.com/event/confirmation-1-2-class-and-mass/
LOCATION:SFDS School\, 13368 Valleyheart Drive\, Sherman Oaks\, CA\, 91423\, United States
CATEGORIES:Ministries
END:VEVENT
BEGIN:VEVENT
DTSTART;TZID=America/Los_Angeles:20140112T090000
DTEND;TZID=America/Los_Angeles:20140112T094500
DTSTAMP:20260425T035126
CREATED:20131203T202443Z
LAST-MODIFIED:20131203T202443Z
UID:10000092-1389517200-1389519900@www.sfdsparish.com
SUMMARY:First Communion Parent Meeting
DESCRIPTION:First Communion Parent meeting to discuss First Penance
URL:https://www.sfdsparish.com/event/first-communion-parent-meeting/
LOCATION:SFDS Church\, 13360 Valleyheart Drive\, Sherman Oaks\, CA\, 91423\, United States
CATEGORIES:Ministries
END:VEVENT
BEGIN:VEVENT
DTSTART;TZID=America/Los_Angeles:20140112T090000
DTEND;TZID=America/Los_Angeles:20140112T110000
DTSTAMP:20260425T035126
CREATED:20131203T202223Z
LAST-MODIFIED:20131203T202223Z
UID:10000091-1389517200-1389524400@www.sfdsparish.com
SUMMARY:Religious Education Class & Mass
DESCRIPTION:Religious Ed have class and attend 10:00 am Mass together
URL:https://www.sfdsparish.com/event/religious-education-class-mass/
LOCATION:SFDS School\, 13368 Valleyheart Drive\, Sherman Oaks\, CA\, 91423\, United States
CATEGORIES:Ministries
END:VEVENT
BEGIN:VEVENT
DTSTART;VALUE=DATE:20140119
DTEND;VALUE=DATE:20140120
DTSTAMP:20260425T035126
CREATED:20131203T202650Z
LAST-MODIFIED:20131203T202650Z
UID:10000093-1390089600-1390175999@www.sfdsparish.com
SUMMARY:No Religious Education
DESCRIPTION:No Religious Education class due to the Martin Luther King Holiday
URL:https://www.sfdsparish.com/event/no-religious-education-2/
LOCATION:SFDS School\, 13368 Valleyheart Drive\, Sherman Oaks\, CA\, 91423\, United States
CATEGORIES:Ministries
END:VEVENT
BEGIN:VEVENT
DTSTART;VALUE=DATE:20140119
DTEND;VALUE=DATE:20140120
DTSTAMP:20260425T035126
CREATED:20131203T194355Z
LAST-MODIFIED:20131203T194355Z
UID:10000297-1390089600-1390175999@www.sfdsparish.com
SUMMARY:No Confirmation Class
DESCRIPTION:No class due to Martin Luther King Holiday
URL:https://www.sfdsparish.com/event/no-confirmation-class/
LOCATION:SFDS School\, 13368 Valleyheart Drive\, Sherman Oaks\, CA\, 91423\, United States
CATEGORIES:Ministries
END:VEVENT
BEGIN:VEVENT
DTSTART;TZID=America/Los_Angeles:20140126T100000
DTEND;TZID=America/Los_Angeles:20140126T100000
DTSTAMP:20260425T035126
CREATED:20140114T212712Z
LAST-MODIFIED:20140114T212712Z
UID:10000367-1390730400-1390730400@www.sfdsparish.com
SUMMARY:Begin Catholic School's Week
DESCRIPTION:Catholic school’s week begins at the 10:00 am mass. There will be an open house at the school after the mass. You will be able to get information on the school and see the class rooms.
URL:https://www.sfdsparish.com/event/begin-catholic-schools-week/
LOCATION:SFDS School\, 13368 Valleyheart Drive\, Sherman Oaks\, CA\, 91423\, United States
CATEGORIES:SFDS School
END:VEVENT
BEGIN:VEVENT
DTSTART;TZID=America/Los_Angeles:20140128T190000
DTEND;TZID=America/Los_Angeles:20140128T203000
DTSTAMP:20260425T035126
CREATED:20140129T194409Z
LAST-MODIFIED:20140129T200000Z
UID:10000369-1390935600-1390941000@www.sfdsparish.com
SUMMARY:Adult Confirmation - 7:00 Pm
DESCRIPTION:Adult Confirmation begins on Tuesday January 28\, 2014 at 7:00 pm in the Parish Center. The dates are: January 28\, February 4\,11\,18 and 25\, March 4\, 11 and 18. If you are 18 years of age or over and are not yet confirmed and would like to join the classes\, call the parish center at (818) 784-0105.
URL:https://www.sfdsparish.com/event/adult-confirmation/2014-01-28/
LOCATION:Parish Center\, 13360 Valleyheart Drive\, Sherman Oaks\, CA\, 91423\, United States
CATEGORIES:Ministries
END:VEVENT
BEGIN:VEVENT
DTSTART;TZID=America/Los_Angeles:20140208T100000
DTEND;TZID=America/Los_Angeles:20140208T110000
DTSTAMP:20260425T035126
CREATED:20131203T202822Z
LAST-MODIFIED:20140121T181223Z
UID:10000094-1391853600-1391857200@www.sfdsparish.com
SUMMARY:First Penance for First Communion Class
DESCRIPTION:First Penance in the church at 10:00 am
URL:https://www.sfdsparish.com/event/first-penance-for-first-communion-class/
LOCATION:SFDS Church\, 13360 Valleyheart Drive\, Sherman Oaks\, CA\, 91423\, United States
CATEGORIES:Ministries
END:VEVENT
BEGIN:VEVENT
DTSTART;TZID=America/Los_Angeles:20140209T084500
DTEND;TZID=America/Los_Angeles:20140209T110000
DTSTAMP:20260425T035126
CREATED:20131203T195134Z
LAST-MODIFIED:20131203T195134Z
UID:10000298-1391935500-1391943600@www.sfdsparish.com
SUMMARY:Confirmation 1 & 2 attend Mass
DESCRIPTION:Confirmation 1 & 2 have class and attend 10:00 am Mass together.
URL:https://www.sfdsparish.com/event/confirmation-1-2-attend-mass-2/
LOCATION:SFDS School\, 13368 Valleyheart Drive\, Sherman Oaks\, CA\, 91423\, United States
CATEGORIES:Ministries
END:VEVENT
BEGIN:VEVENT
DTSTART;TZID=America/Los_Angeles:20140209T090000
DTEND;TZID=America/Los_Angeles:20140209T110000
DTSTAMP:20260425T035126
CREATED:20131203T203018Z
LAST-MODIFIED:20131203T203018Z
UID:10000349-1391936400-1391943600@www.sfdsparish.com
SUMMARY:Religious Education Class and Mass
DESCRIPTION:Religious Education have class and attend Mass together
URL:https://www.sfdsparish.com/event/religious-education-class-and-mass/
LOCATION:SFDS School\, 13368 Valleyheart Drive\, Sherman Oaks\, CA\, 91423\, United States
CATEGORIES:Ministries
END:VEVENT
BEGIN:VEVENT
DTSTART;VALUE=DATE:20140216
DTEND;VALUE=DATE:20140217
DTSTAMP:20260425T035126
CREATED:20131203T203226Z
LAST-MODIFIED:20131203T203226Z
UID:10000350-1392508800-1392595199@www.sfdsparish.com
SUMMARY:No Religious Education
DESCRIPTION:Religious Education class cancelled due to the President’s Day Holiday
URL:https://www.sfdsparish.com/event/no-religious-education-3/
LOCATION:SFDS School\, 13368 Valleyheart Drive\, Sherman Oaks\, CA\, 91423\, United States
CATEGORIES:Ministries
END:VEVENT
BEGIN:VEVENT
DTSTART;VALUE=DATE:20140216
DTEND;VALUE=DATE:20140217
DTSTAMP:20260425T035126
CREATED:20131203T195354Z
LAST-MODIFIED:20131203T195354Z
UID:10000090-1392508800-1392595199@www.sfdsparish.com
SUMMARY:No Confirmation 1 & 2 Class
DESCRIPTION:No class due to President’s Day Holiday
URL:https://www.sfdsparish.com/event/no-confirmation-1-2-class/
LOCATION:SFDS School\, 13368 Valleyheart Drive\, Sherman Oaks\, CA\, 91423\, United States
CATEGORIES:Ministries
END:VEVENT
BEGIN:VEVENT
DTSTART;TZID=America/Los_Angeles:20140301T090000
DTEND;TZID=America/Los_Angeles:20140301T103000
DTSTAMP:20260425T035126
CREATED:20140227T201135Z
LAST-MODIFIED:20160321T205851Z
UID:10000384-1393664400-1393669800@www.sfdsparish.com
SUMMARY:Legion of Mary
DESCRIPTION:Saturday’s from 9:00 – 10:30 am in the Parish Center chapel.
URL:https://www.sfdsparish.com/event/legion-of-mary/2014-03-01/
LOCATION:Parish Center\, 13360 Valleyheart Drive\, Sherman Oaks\, CA\, 91423\, United States
CATEGORIES:Ministries
END:VEVENT
END:VCALENDAR