BEGIN:VCALENDAR
VERSION:2.0
PRODID:-//Saint Francis de Sales Parish - ECPv6.15.20//NONSGML v1.0//EN
CALSCALE:GREGORIAN
METHOD:PUBLISH
X-ORIGINAL-URL:https://www.sfdsparish.com
X-WR-CALDESC:Events for Saint Francis de Sales Parish
REFRESH-INTERVAL;VALUE=DURATION:PT1H
X-Robots-Tag:noindex
X-PUBLISHED-TTL:PT1H
BEGIN:VTIMEZONE
TZID:America/Los_Angeles
BEGIN:DAYLIGHT
TZOFFSETFROM:-0800
TZOFFSETTO:-0700
TZNAME:PDT
DTSTART:20240310T100000
END:DAYLIGHT
BEGIN:STANDARD
TZOFFSETFROM:-0700
TZOFFSETTO:-0800
TZNAME:PST
DTSTART:20241103T090000
END:STANDARD
BEGIN:DAYLIGHT
TZOFFSETFROM:-0800
TZOFFSETTO:-0700
TZNAME:PDT
DTSTART:20250309T100000
END:DAYLIGHT
BEGIN:STANDARD
TZOFFSETFROM:-0700
TZOFFSETTO:-0800
TZNAME:PST
DTSTART:20251102T090000
END:STANDARD
BEGIN:DAYLIGHT
TZOFFSETFROM:-0800
TZOFFSETTO:-0700
TZNAME:PDT
DTSTART:20260308T100000
END:DAYLIGHT
BEGIN:STANDARD
TZOFFSETFROM:-0700
TZOFFSETTO:-0800
TZNAME:PST
DTSTART:20261101T090000
END:STANDARD
BEGIN:DAYLIGHT
TZOFFSETFROM:-0800
TZOFFSETTO:-0700
TZNAME:PDT
DTSTART:20270314T100000
END:DAYLIGHT
BEGIN:STANDARD
TZOFFSETFROM:-0700
TZOFFSETTO:-0800
TZNAME:PST
DTSTART:20271107T090000
END:STANDARD
END:VTIMEZONE
BEGIN:VEVENT
DTSTART;TZID=America/Los_Angeles:20250921T090000
DTEND;TZID=America/Los_Angeles:20250921T095000
DTSTAMP:20260424T031904
CREATED:20250724T172211Z
LAST-MODIFIED:20250724T172352Z
UID:10002863-1758445200-1758448200@www.sfdsparish.com
SUMMARY:CRE Class
DESCRIPTION:Religious Education Class 9:00 – 9:50 am
URL:https://www.sfdsparish.com/event/cre-class-12/2025-09-21/
LOCATION:School\, United States
CATEGORIES:Ministries
GEO:37.09024;-95.712891
END:VEVENT
BEGIN:VEVENT
DTSTART;TZID=America/Los_Angeles:20250928T090000
DTEND;TZID=America/Los_Angeles:20250928T095000
DTSTAMP:20260424T031904
CREATED:20250724T172211Z
LAST-MODIFIED:20250724T172352Z
UID:10002864-1759050000-1759053000@www.sfdsparish.com
SUMMARY:CRE Class
DESCRIPTION:Religious Education Class 9:00 – 9:50 am
URL:https://www.sfdsparish.com/event/cre-class-12/2025-09-28/
LOCATION:School\, United States
CATEGORIES:Ministries
GEO:37.09024;-95.712891
END:VEVENT
BEGIN:VEVENT
DTSTART;TZID=America/Los_Angeles:20251005T090000
DTEND;TZID=America/Los_Angeles:20251005T095000
DTSTAMP:20260424T031904
CREATED:20250724T172211Z
LAST-MODIFIED:20250724T172352Z
UID:10002865-1759654800-1759657800@www.sfdsparish.com
SUMMARY:CRE Class
DESCRIPTION:Religious Education Class 9:00 – 9:50 am
URL:https://www.sfdsparish.com/event/cre-class-12/2025-10-05/
LOCATION:School\, United States
CATEGORIES:Ministries
GEO:37.09024;-95.712891
END:VEVENT
BEGIN:VEVENT
DTSTART;TZID=America/Los_Angeles:20251012T090000
DTEND;TZID=America/Los_Angeles:20251012T095000
DTSTAMP:20260424T031904
CREATED:20250724T172211Z
LAST-MODIFIED:20250724T172352Z
UID:10002866-1760259600-1760262600@www.sfdsparish.com
SUMMARY:CRE Class
DESCRIPTION:Religious Education Class 9:00 – 9:50 am
URL:https://www.sfdsparish.com/event/cre-class-12/2025-10-12/
LOCATION:School\, United States
CATEGORIES:Ministries
GEO:37.09024;-95.712891
END:VEVENT
BEGIN:VEVENT
DTSTART;TZID=America/Los_Angeles:20251019T084500
DTEND;TZID=America/Los_Angeles:20251019T094500
DTSTAMP:20260424T031904
CREATED:20250724T170506Z
LAST-MODIFIED:20250724T170506Z
UID:10002851-1760863500-1760867100@www.sfdsparish.com
SUMMARY:Teen Confirmation Class
DESCRIPTION:Confirmation Class 8:45 – 9:45
URL:https://www.sfdsparish.com/event/teen-confirmation-class-18/2025-10-19/
LOCATION:School\, United States
CATEGORIES:Ministries
GEO:37.09024;-95.712891
END:VEVENT
BEGIN:VEVENT
DTSTART;TZID=America/Los_Angeles:20251019T090000
DTEND;TZID=America/Los_Angeles:20251019T095000
DTSTAMP:20260424T031904
CREATED:20250724T172211Z
LAST-MODIFIED:20250724T172352Z
UID:10002867-1760864400-1760867400@www.sfdsparish.com
SUMMARY:CRE Class
DESCRIPTION:Religious Education Class 9:00 – 9:50 am
URL:https://www.sfdsparish.com/event/cre-class-12/2025-10-19/
LOCATION:School\, United States
CATEGORIES:Ministries
GEO:37.09024;-95.712891
END:VEVENT
BEGIN:VEVENT
DTSTART;TZID=America/Los_Angeles:20251026T084500
DTEND;TZID=America/Los_Angeles:20251026T094500
DTSTAMP:20260424T031904
CREATED:20250724T170506Z
LAST-MODIFIED:20250724T170506Z
UID:10002852-1761468300-1761471900@www.sfdsparish.com
SUMMARY:Teen Confirmation Class
DESCRIPTION:Confirmation Class 8:45 – 9:45
URL:https://www.sfdsparish.com/event/teen-confirmation-class-18/2025-10-26/
LOCATION:School\, United States
CATEGORIES:Ministries
GEO:37.09024;-95.712891
END:VEVENT
BEGIN:VEVENT
DTSTART;TZID=America/Los_Angeles:20251026T090000
DTEND;TZID=America/Los_Angeles:20251026T095000
DTSTAMP:20260424T031904
CREATED:20250724T172434Z
LAST-MODIFIED:20250724T172435Z
UID:10002868-1761469200-1761472200@www.sfdsparish.com
SUMMARY:CRE Class
DESCRIPTION:Religious Education Class 9:00 – 9:50 am and class Mass
URL:https://www.sfdsparish.com/event/cre-class-12-2/
LOCATION:School\, United States
CATEGORIES:Ministries
GEO:37.09024;-95.712891
END:VEVENT
BEGIN:VEVENT
DTSTART;VALUE=DATE:20251101
DTEND;VALUE=DATE:20251102
DTSTAMP:20260424T031904
CREATED:20251014T163852Z
LAST-MODIFIED:20251014T163852Z
UID:10002895-1761955200-1762041599@www.sfdsparish.com
SUMMARY:Not a Holy Day of Obligation
DESCRIPTION:All Saints Day is NOT a Holy Day of Obligation this year. Regular Masses 8:15 am & 5:00 pm
URL:https://www.sfdsparish.com/event/not-a-holy-day-of-obligation/
LOCATION:Main Church\, United States
CATEGORIES:Ministries
GEO:37.09024;-95.712891
END:VEVENT
BEGIN:VEVENT
DTSTART;TZID=America/Los_Angeles:20251102T084500
DTEND;TZID=America/Los_Angeles:20251102T094500
DTSTAMP:20260424T031904
CREATED:20250724T170506Z
LAST-MODIFIED:20250724T170506Z
UID:10002853-1762073100-1762076700@www.sfdsparish.com
SUMMARY:Teen Confirmation Class
DESCRIPTION:Confirmation Class 8:45 – 9:45
URL:https://www.sfdsparish.com/event/teen-confirmation-class-18/2025-11-02/
LOCATION:School\, United States
CATEGORIES:Ministries
GEO:37.09024;-95.712891
END:VEVENT
BEGIN:VEVENT
DTSTART;TZID=America/Los_Angeles:20251102T090000
DTEND;TZID=America/Los_Angeles:20251102T095000
DTSTAMP:20260424T031904
CREATED:20250724T172211Z
LAST-MODIFIED:20250724T172352Z
UID:10002869-1762074000-1762077000@www.sfdsparish.com
SUMMARY:CRE Class
DESCRIPTION:Religious Education Class 9:00 – 9:50 am
URL:https://www.sfdsparish.com/event/cre-class-12/2025-11-02/
LOCATION:School\, United States
CATEGORIES:Ministries
GEO:37.09024;-95.712891
END:VEVENT
BEGIN:VEVENT
DTSTART;TZID=America/Los_Angeles:20251102T113000
DTEND;TZID=America/Los_Angeles:20251102T130000
DTSTAMP:20260424T031904
CREATED:20250723T181517Z
LAST-MODIFIED:20250723T181517Z
UID:10002837-1762083000-1762088400@www.sfdsparish.com
SUMMARY:Candle Mass
DESCRIPTION:Book of Angels Candle Mass 12 noon
URL:https://www.sfdsparish.com/event/candle-mass/
LOCATION:Main Church\, United States
CATEGORIES:SFDS School
GEO:37.09024;-95.712891
END:VEVENT
BEGIN:VEVENT
DTSTART;TZID=America/Los_Angeles:20251109T084500
DTEND;TZID=America/Los_Angeles:20251109T094500
DTSTAMP:20260424T031904
CREATED:20250724T170506Z
LAST-MODIFIED:20250724T170506Z
UID:10002854-1762677900-1762681500@www.sfdsparish.com
SUMMARY:Teen Confirmation Class
DESCRIPTION:Confirmation Class 8:45 – 9:45
URL:https://www.sfdsparish.com/event/teen-confirmation-class-18/2025-11-09/
LOCATION:School\, United States
CATEGORIES:Ministries
GEO:37.09024;-95.712891
END:VEVENT
BEGIN:VEVENT
DTSTART;TZID=America/Los_Angeles:20251109T090000
DTEND;TZID=America/Los_Angeles:20251109T095000
DTSTAMP:20260424T031904
CREATED:20250724T172211Z
LAST-MODIFIED:20250724T172352Z
UID:10002870-1762678800-1762681800@www.sfdsparish.com
SUMMARY:CRE Class
DESCRIPTION:Religious Education Class 9:00 – 9:50 am
URL:https://www.sfdsparish.com/event/cre-class-12/2025-11-09/
LOCATION:School\, United States
CATEGORIES:Ministries
GEO:37.09024;-95.712891
END:VEVENT
BEGIN:VEVENT
DTSTART;VALUE=DATE:20251111
DTEND;VALUE=DATE:20251112
DTSTAMP:20260424T031904
CREATED:20251103T224156Z
LAST-MODIFIED:20251103T224156Z
UID:10002896-1762819200-1762905599@www.sfdsparish.com
SUMMARY:Veteran's Day
DESCRIPTION:Parish Office closed for the holiday.
URL:https://www.sfdsparish.com/event/veterans-day-3/
LOCATION:Parish Center\, 13360 Valleyheart Drive\, Sherman Oaks\, CA\, 91423\, United States
CATEGORIES:Ministries
END:VEVENT
BEGIN:VEVENT
DTSTART;TZID=America/Los_Angeles:20251116T084500
DTEND;TZID=America/Los_Angeles:20251116T094500
DTSTAMP:20260424T031904
CREATED:20250724T170506Z
LAST-MODIFIED:20250724T170506Z
UID:10002855-1763282700-1763286300@www.sfdsparish.com
SUMMARY:Teen Confirmation Class
DESCRIPTION:Confirmation Class 8:45 – 9:45
URL:https://www.sfdsparish.com/event/teen-confirmation-class-18/2025-11-16/
LOCATION:School\, United States
CATEGORIES:Ministries
GEO:37.09024;-95.712891
END:VEVENT
BEGIN:VEVENT
DTSTART;TZID=America/Los_Angeles:20251116T090000
DTEND;TZID=America/Los_Angeles:20251116T095000
DTSTAMP:20260424T031904
CREATED:20250724T172211Z
LAST-MODIFIED:20250724T172352Z
UID:10002871-1763283600-1763286600@www.sfdsparish.com
SUMMARY:CRE Class
DESCRIPTION:Religious Education Class 9:00 – 9:50 am
URL:https://www.sfdsparish.com/event/cre-class-12/2025-11-16/
LOCATION:School\, United States
CATEGORIES:Ministries
GEO:37.09024;-95.712891
END:VEVENT
BEGIN:VEVENT
DTSTART;TZID=America/Los_Angeles:20251123T080000
DTEND;TZID=America/Los_Angeles:20251123T140000
DTSTAMP:20260424T031904
CREATED:20251117T220007Z
LAST-MODIFIED:20251117T220007Z
UID:10002901-1763884800-1763906400@www.sfdsparish.com
SUMMARY:Blood Drive
DESCRIPTION:Blood Drive in the school auditorium from 8 am to 2 pm. Register on our website homepage.
URL:https://www.sfdsparish.com/event/blood-drive-9/
LOCATION:School Auditorium\, United States
CATEGORIES:Ministries
GEO:37.09024;-95.712891
END:VEVENT
BEGIN:VEVENT
DTSTART;TZID=America/Los_Angeles:20251123T090000
DTEND;TZID=America/Los_Angeles:20251123T095000
DTSTAMP:20260424T031904
CREATED:20250724T180258Z
LAST-MODIFIED:20250724T180259Z
UID:10002872-1763888400-1763891400@www.sfdsparish.com
SUMMARY:CRE Class
DESCRIPTION:Religious Education Class 9:00 – 9:50 am and Class Mass
URL:https://www.sfdsparish.com/event/cre-class-12-3/
LOCATION:School\, United States
CATEGORIES:Ministries
GEO:37.09024;-95.712891
END:VEVENT
BEGIN:VEVENT
DTSTART;VALUE=DATE:20251127
DTEND;VALUE=DATE:20251128
DTSTAMP:20260424T031904
CREATED:20251117T214714Z
LAST-MODIFIED:20251117T214714Z
UID:10002899-1764201600-1764287999@www.sfdsparish.com
SUMMARY:Thanksgiving Holiday
DESCRIPTION:The parish office will be closed for the Thanksgiving Holiday on November 27th and 28th.
URL:https://www.sfdsparish.com/event/thanksgiving-holiday/
LOCATION:Parish Center\, 13360 Valleyheart Drive\, Sherman Oaks\, CA\, 91423\, United States
CATEGORIES:Ministries
END:VEVENT
BEGIN:VEVENT
DTSTART;TZID=America/Los_Angeles:20251127T090000
DTEND;TZID=America/Los_Angeles:20251127T093000
DTSTAMP:20260424T031904
CREATED:20251112T170439Z
LAST-MODIFIED:20251112T170439Z
UID:10002897-1764234000-1764235800@www.sfdsparish.com
SUMMARY:Thanksgiving Day
DESCRIPTION:Thanksgiving Day Mass will be at 9:00 am NOT 8:15 am just for the holiday.
URL:https://www.sfdsparish.com/event/thanksgiving-day-2/
LOCATION:Main Church\, United States
CATEGORIES:Organizations
GEO:37.09024;-95.712891
END:VEVENT
BEGIN:VEVENT
DTSTART;VALUE=DATE:20251128
DTEND;VALUE=DATE:20251129
DTSTAMP:20260424T031904
CREATED:20251117T214824Z
LAST-MODIFIED:20251117T214824Z
UID:10002900-1764288000-1764374399@www.sfdsparish.com
SUMMARY:Thanksgiving Holiday
DESCRIPTION:The parish office will be closed for the Thanksgiving Holiday on November 27th and 28th.
URL:https://www.sfdsparish.com/event/thanksgiving-holiday-2/
LOCATION:Parish Center\, 13360 Valleyheart Drive\, Sherman Oaks\, CA\, 91423\, United States
CATEGORIES:Ministries
END:VEVENT
BEGIN:VEVENT
DTSTART;TZID=America/Los_Angeles:20251207T090000
DTEND;TZID=America/Los_Angeles:20251207T095000
DTSTAMP:20260424T031904
CREATED:20250724T180427Z
LAST-MODIFIED:20250724T180427Z
UID:10002873-1765098000-1765101000@www.sfdsparish.com
SUMMARY:CRE Class
DESCRIPTION:Religious Education Class  9 -9:50 am and Class Mass
URL:https://www.sfdsparish.com/event/cre-class-13/
LOCATION:School\, United States
CATEGORIES:Ministries
GEO:37.09024;-95.712891
END:VEVENT
BEGIN:VEVENT
DTSTART;VALUE=DATE:20251208
DTEND;VALUE=DATE:20251209
DTSTAMP:20260424T031904
CREATED:20251112T170614Z
LAST-MODIFIED:20251112T170614Z
UID:10002898-1765152000-1765238399@www.sfdsparish.com
SUMMARY:Immaculate Conception
DESCRIPTION:Immaculate Conception is a Holy Day of Obligation Masses at 8:15 am – 12:05 noon and 7:00 pm
URL:https://www.sfdsparish.com/event/immaculate-conception-7/
LOCATION:Main Church\, United States
CATEGORIES:Ministries
GEO:37.09024;-95.712891
END:VEVENT
BEGIN:VEVENT
DTSTART;VALUE=DATE:20251208
DTEND;VALUE=DATE:20251209
DTSTAMP:20260424T031904
CREATED:20251202T213322Z
LAST-MODIFIED:20251202T213322Z
UID:10002902-1765152000-1765238399@www.sfdsparish.com
SUMMARY:Immaculate Conception
DESCRIPTION:Immaculate Conception A Holy Day of Obligation\, Masses at 8:15 am\, 12:05 noon time & 7:00 pm
URL:https://www.sfdsparish.com/event/immaculate-conception-8/
LOCATION:Main Church\, United States
CATEGORIES:Ministries
GEO:37.09024;-95.712891
END:VEVENT
BEGIN:VEVENT
DTSTART;VALUE=DATE:20251224
DTEND;VALUE=DATE:20251225
DTSTAMP:20260424T031904
CREATED:20251202T214749Z
LAST-MODIFIED:20251202T214749Z
UID:10002903-1766534400-1766620799@www.sfdsparish.com
SUMMARY:Christmas Eve
DESCRIPTION:Masses at 4:00 pm\, 6:00 pm and 10:00 pm
URL:https://www.sfdsparish.com/event/christmas-eve-12/
LOCATION:Main Church\, United States
CATEGORIES:Ministries
GEO:37.09024;-95.712891
END:VEVENT
BEGIN:VEVENT
DTSTART;VALUE=DATE:20251225
DTEND;VALUE=DATE:20251226
DTSTAMP:20260424T031904
CREATED:20251202T214855Z
LAST-MODIFIED:20251202T214855Z
UID:10002904-1766620800-1766707199@www.sfdsparish.com
SUMMARY:Christmas Day
DESCRIPTION:Masses at 8:00 am\, 10:00 am and 12 noon
URL:https://www.sfdsparish.com/event/christmas-day-11/
LOCATION:Main Church\, United States
CATEGORIES:Ministries
GEO:37.09024;-95.712891
END:VEVENT
BEGIN:VEVENT
DTSTART;VALUE=DATE:20251225
DTEND;VALUE=DATE:20251226
DTSTAMP:20260424T031904
CREATED:20251215T220305Z
LAST-MODIFIED:20251215T220305Z
UID:10002905-1766620800-1766707199@www.sfdsparish.com
SUMMARY:Parish Office Closed
DESCRIPTION:Parish Office Closed for Christmas
URL:https://www.sfdsparish.com/event/parish-office-closed-20/
LOCATION:Parish Center\, 13360 Valleyheart Drive\, Sherman Oaks\, CA\, 91423\, United States
CATEGORIES:Ministries
END:VEVENT
BEGIN:VEVENT
DTSTART;VALUE=DATE:20251226
DTEND;VALUE=DATE:20251227
DTSTAMP:20260424T031904
CREATED:20251215T220648Z
LAST-MODIFIED:20251215T220648Z
UID:10002906-1766707200-1766793599@www.sfdsparish.com
SUMMARY:Parish Center
DESCRIPTION:Parish Office Closed for Christmas
URL:https://www.sfdsparish.com/event/parish-center/
LOCATION:Parish Center\, 13360 Valleyheart Drive\, Sherman Oaks\, CA\, 91423\, United States
CATEGORIES:Ministries
END:VEVENT
BEGIN:VEVENT
DTSTART;VALUE=DATE:20260101
DTEND;VALUE=DATE:20260102
DTSTAMP:20260424T031904
CREATED:20251230T202910Z
LAST-MODIFIED:20251230T215654Z
UID:10002907-1767225600-1767311999@www.sfdsparish.com
SUMMARY:Parish Center Closed
DESCRIPTION:The parish center is closed for the New Year holiday.
URL:https://www.sfdsparish.com/event/parish-center-closed/
LOCATION:Parish Center\, 13360 Valleyheart Drive\, Sherman Oaks\, CA\, 91423\, United States
CATEGORIES:Ministries
END:VEVENT
END:VCALENDAR