BEGIN:VCALENDAR
VERSION:2.0
PRODID:-//Saint Francis de Sales Parish - ECPv6.15.20//NONSGML v1.0//EN
CALSCALE:GREGORIAN
METHOD:PUBLISH
X-WR-CALNAME:Saint Francis de Sales Parish
X-ORIGINAL-URL:https://www.sfdsparish.com
X-WR-CALDESC:Events for Saint Francis de Sales Parish
REFRESH-INTERVAL;VALUE=DURATION:PT1H
X-Robots-Tag:noindex
X-PUBLISHED-TTL:PT1H
BEGIN:VTIMEZONE
TZID:America/Los_Angeles
BEGIN:DAYLIGHT
TZOFFSETFROM:-0800
TZOFFSETTO:-0700
TZNAME:PDT
DTSTART:20250309T100000
END:DAYLIGHT
BEGIN:STANDARD
TZOFFSETFROM:-0700
TZOFFSETTO:-0800
TZNAME:PST
DTSTART:20251102T090000
END:STANDARD
BEGIN:DAYLIGHT
TZOFFSETFROM:-0800
TZOFFSETTO:-0700
TZNAME:PDT
DTSTART:20260308T100000
END:DAYLIGHT
BEGIN:STANDARD
TZOFFSETFROM:-0700
TZOFFSETTO:-0800
TZNAME:PST
DTSTART:20261101T090000
END:STANDARD
BEGIN:DAYLIGHT
TZOFFSETFROM:-0800
TZOFFSETTO:-0700
TZNAME:PDT
DTSTART:20270314T100000
END:DAYLIGHT
BEGIN:STANDARD
TZOFFSETFROM:-0700
TZOFFSETTO:-0800
TZNAME:PST
DTSTART:20271107T090000
END:STANDARD
END:VTIMEZONE
BEGIN:VEVENT
DTSTART;TZID=America/Los_Angeles:20260322T090000
DTEND;TZID=America/Los_Angeles:20260322T095000
DTSTAMP:20260423T141726
CREATED:20250724T182105Z
LAST-MODIFIED:20250724T182105Z
UID:10002882-1774170000-1774173000@www.sfdsparish.com
SUMMARY:CRE Class
DESCRIPTION:Religious Education Class 9 – 9:50 am
URL:https://www.sfdsparish.com/event/cre-class-18/2026-03-22/
LOCATION:School\, United States
CATEGORIES:Ministries
GEO:37.09024;-95.712891
END:VEVENT
BEGIN:VEVENT
DTSTART;TZID=America/Los_Angeles:20260322T100000
DTEND;TZID=America/Los_Angeles:20260322T113000
DTSTAMP:20260423T141726
CREATED:20260212T172037Z
LAST-MODIFIED:20260212T172037Z
UID:10002916-1774173600-1774179000@www.sfdsparish.com
SUMMARY:Confirmation
DESCRIPTION:Bishop Albert Sacrament of Confirmation
URL:https://www.sfdsparish.com/event/confirmation-9/
LOCATION:Main Church\, United States
CATEGORIES:Ministries
GEO:37.09024;-95.712891
END:VEVENT
BEGIN:VEVENT
DTSTART;VALUE=DATE:20260327
DTEND;VALUE=DATE:20260328
DTSTAMP:20260423T141726
CREATED:20260324T183646Z
LAST-MODIFIED:20260324T183646Z
UID:10002923-1774569600-1774655999@www.sfdsparish.com
SUMMARY:Parish Office Closed
DESCRIPTION:The parish office will be closed just this Friday March 27th.
URL:https://www.sfdsparish.com/event/parish-office-closed-25/
LOCATION:Parish Center\, 13360 Valleyheart Drive\, Sherman Oaks\, CA\, 91423\, United States
CATEGORIES:Ministries
END:VEVENT
BEGIN:VEVENT
DTSTART;TZID=America/Los_Angeles:20260328T170000
DTEND;TZID=America/Los_Angeles:20260328T180000
DTSTAMP:20260423T141726
CREATED:20250723T182607Z
LAST-MODIFIED:20250723T182607Z
UID:10002844-1774717200-1774720800@www.sfdsparish.com
SUMMARY:Passion Play
DESCRIPTION:School Passion Play 5 pm Mass
URL:https://www.sfdsparish.com/event/passion-play/
LOCATION:Main Church\, United States
CATEGORIES:SFDS School
GEO:37.09024;-95.712891
END:VEVENT
BEGIN:VEVENT
DTSTART;TZID=America/Los_Angeles:20260329T090000
DTEND;TZID=America/Los_Angeles:20260329T095000
DTSTAMP:20260423T141726
CREATED:20250724T182105Z
LAST-MODIFIED:20250724T182105Z
UID:10002883-1774774800-1774777800@www.sfdsparish.com
SUMMARY:CRE Class
DESCRIPTION:Religious Education Class 9 – 9:50 am
URL:https://www.sfdsparish.com/event/cre-class-18/2026-03-29/
LOCATION:School\, United States
CATEGORIES:Ministries
GEO:37.09024;-95.712891
END:VEVENT
BEGIN:VEVENT
DTSTART;TZID=America/Los_Angeles:20260402T190000
DTEND;TZID=America/Los_Angeles:20260402T200000
DTSTAMP:20260423T141726
CREATED:20260311T200716Z
LAST-MODIFIED:20260311T200716Z
UID:10002918-1775156400-1775160000@www.sfdsparish.com
SUMMARY:Holy Thursday
DESCRIPTION:Evening Mass of the Lord’s Supper 7:00 pm in the main church.
URL:https://www.sfdsparish.com/event/holy-thursday-13/
LOCATION:Main Church\, United States
CATEGORIES:Ministries
GEO:37.09024;-95.712891
END:VEVENT
BEGIN:VEVENT
DTSTART;TZID=America/Los_Angeles:20260403T133000
DTEND;TZID=America/Los_Angeles:20260403T150000
DTSTAMP:20260423T141726
CREATED:20260311T200915Z
LAST-MODIFIED:20260311T200915Z
UID:10002919-1775223000-1775228400@www.sfdsparish.com
SUMMARY:Good Friday
DESCRIPTION:Good Friday Service 1:30 pm reading of the passion\, adoration\, Holy Communion
URL:https://www.sfdsparish.com/event/good-friday-12/
LOCATION:Main Church\, United States
CATEGORIES:Ministries
GEO:37.09024;-95.712891
END:VEVENT
BEGIN:VEVENT
DTSTART;TZID=America/Los_Angeles:20260404T093000
DTEND;TZID=America/Los_Angeles:20260404T120000
DTSTAMP:20260423T141726
CREATED:20260316T191923Z
LAST-MODIFIED:20260316T191923Z
UID:10002922-1775295000-1775304000@www.sfdsparish.com
SUMMARY:Knights Easter Egg Hunt
DESCRIPTION:9:30 – 12 pm on the grass field
URL:https://www.sfdsparish.com/event/knights-easter-egg-hunt/
LOCATION:School\, United States
CATEGORIES:Ministries
GEO:37.09024;-95.712891
END:VEVENT
BEGIN:VEVENT
DTSTART;TZID=America/Los_Angeles:20260404T193000
DTEND;TZID=America/Los_Angeles:20260404T210000
DTSTAMP:20260423T141726
CREATED:20260311T201028Z
LAST-MODIFIED:20260311T201028Z
UID:10002920-1775331000-1775336400@www.sfdsparish.com
SUMMARY:Great Easter Vigil
DESCRIPTION:Easter Vigil 7:30pm
URL:https://www.sfdsparish.com/event/great-easter-vigil/
LOCATION:Main Church\, United States
CATEGORIES:Ministries
GEO:37.09024;-95.712891
END:VEVENT
BEGIN:VEVENT
DTSTART;VALUE=DATE:20260405
DTEND;VALUE=DATE:20260406
DTSTAMP:20260423T141726
CREATED:20260212T163050Z
LAST-MODIFIED:20260212T163050Z
UID:10002914-1775347200-1775433599@www.sfdsparish.com
SUMMARY:No Baptism
DESCRIPTION:The regular first Sunday of the month Baptism will not take place due to the Easter Holiday. It will take place on April 12th.
URL:https://www.sfdsparish.com/event/no-baptism/
LOCATION:Main Church\, United States
CATEGORIES:Ministries
GEO:37.09024;-95.712891
END:VEVENT
BEGIN:VEVENT
DTSTART;VALUE=DATE:20260405
DTEND;VALUE=DATE:20260406
DTSTAMP:20260423T141726
CREATED:20260311T201700Z
LAST-MODIFIED:20260311T201816Z
UID:10002921-1775347200-1775433599@www.sfdsparish.com
SUMMARY:Easter Sunday
DESCRIPTION:Easter Sunday – Sunrise Mass 6:00 am also Masses 8:00 am – 10:00 am and 12 noon.
URL:https://www.sfdsparish.com/event/19367/
LOCATION:Main Church\, United States
CATEGORIES:Ministries
GEO:37.09024;-95.712891
END:VEVENT
BEGIN:VEVENT
DTSTART;TZID=America/Los_Angeles:20260412T090000
DTEND;TZID=America/Los_Angeles:20260412T095000
DTSTAMP:20260423T141726
CREATED:20250724T182105Z
LAST-MODIFIED:20250724T182105Z
UID:10002885-1775984400-1775987400@www.sfdsparish.com
SUMMARY:CRE Class
DESCRIPTION:Religious Education Class 9 – 9:50 am
URL:https://www.sfdsparish.com/event/cre-class-18/2026-04-12/
LOCATION:School\, United States
CATEGORIES:Ministries
GEO:37.09024;-95.712891
END:VEVENT
BEGIN:VEVENT
DTSTART;TZID=America/Los_Angeles:20260412T130000
DTEND;TZID=America/Los_Angeles:20260412T133000
DTSTAMP:20260423T141726
CREATED:20260212T163223Z
LAST-MODIFIED:20260212T163223Z
UID:10002915-1775998800-1776000600@www.sfdsparish.com
SUMMARY:April Baptism
DESCRIPTION:The April monthly Baptism will take place at 1 pm on April 12th NOT April 5th due to Easter.
URL:https://www.sfdsparish.com/event/april-baptism/
LOCATION:Main Church\, United States
CATEGORIES:Ministries
GEO:37.09024;-95.712891
END:VEVENT
BEGIN:VEVENT
DTSTART;TZID=America/Los_Angeles:20260426T090000
DTEND;TZID=America/Los_Angeles:20260426T110000
DTSTAMP:20260423T141726
CREATED:20250724T182807Z
LAST-MODIFIED:20250724T182807Z
UID:10002886-1777194000-1777201200@www.sfdsparish.com
SUMMARY:CRE Class
DESCRIPTION:Religious Education Class 9 – 9:50 am and Class Mass Last Class
URL:https://www.sfdsparish.com/event/cre-class-19/
LOCATION:School\, United States
CATEGORIES:Ministries
GEO:37.09024;-95.712891
END:VEVENT
BEGIN:VEVENT
DTSTART;VALUE=DATE:20260501
DTEND;VALUE=DATE:20260502
DTSTAMP:20260423T141726
CREATED:20260414T154017Z
LAST-MODIFIED:20260414T154017Z
UID:10002924-1777593600-1777679999@www.sfdsparish.com
SUMMARY:Festival
DESCRIPTION:Festival Friday May 1st 6pm – 10pm
URL:https://www.sfdsparish.com/event/festival-4/
CATEGORIES:SFDS School
END:VEVENT
BEGIN:VEVENT
DTSTART;VALUE=DATE:20260502
DTEND;VALUE=DATE:20260503
DTSTAMP:20260423T141726
CREATED:20260414T154055Z
LAST-MODIFIED:20260414T154055Z
UID:10002925-1777680000-1777766399@www.sfdsparish.com
SUMMARY:Festival
DESCRIPTION:Festival Saturday May 2nd 12pm – 10pm
URL:https://www.sfdsparish.com/event/festival-5/
CATEGORIES:SFDS School
END:VEVENT
BEGIN:VEVENT
DTSTART;VALUE=DATE:20260503
DTEND;VALUE=DATE:20260504
DTSTAMP:20260423T141726
CREATED:20250724T182932Z
LAST-MODIFIED:20250724T182932Z
UID:10002887-1777766400-1777852799@www.sfdsparish.com
SUMMARY:First Communion Practice
DESCRIPTION:First Communion Practice for 2nd year students
URL:https://www.sfdsparish.com/event/first-communion-practice-7/
LOCATION:Main Church\, United States
CATEGORIES:Ministries
GEO:37.09024;-95.712891
END:VEVENT
BEGIN:VEVENT
DTSTART;VALUE=DATE:20260503
DTEND;VALUE=DATE:20260504
DTSTAMP:20260423T141726
CREATED:20260414T154128Z
LAST-MODIFIED:20260414T154128Z
UID:10002926-1777766400-1777852799@www.sfdsparish.com
SUMMARY:Festival
DESCRIPTION:Festival Sunday May 3rd from 11am- 7 pm
URL:https://www.sfdsparish.com/event/festival-6/
CATEGORIES:SFDS School
END:VEVENT
BEGIN:VEVENT
DTSTART;TZID=America/Los_Angeles:20260509T120000
DTEND;TZID=America/Los_Angeles:20260509T133000
DTSTAMP:20260423T141726
CREATED:20250724T183103Z
LAST-MODIFIED:20250724T183103Z
UID:10002888-1778328000-1778333400@www.sfdsparish.com
SUMMARY:CRE First Communion
DESCRIPTION:First Communion for Religious Education 2nd year students
URL:https://www.sfdsparish.com/event/cre-first-communion/
LOCATION:Main Church\, United States
CATEGORIES:Ministries
GEO:37.09024;-95.712891
END:VEVENT
BEGIN:VEVENT
DTSTART;TZID=America/Los_Angeles:20260605T081500
DTEND;TZID=America/Los_Angeles:20260605T093000
DTSTAMP:20260423T141726
CREATED:20250723T183149Z
LAST-MODIFIED:20250723T183149Z
UID:10002848-1780647300-1780651800@www.sfdsparish.com
SUMMARY:School Graduation Mass
DESCRIPTION:8th Grade Graduation Mass 8:15 am
URL:https://www.sfdsparish.com/event/school-graduation-mass/
LOCATION:Main Church\, United States
CATEGORIES:SFDS School
GEO:37.09024;-95.712891
END:VEVENT
BEGIN:VEVENT
DTSTART;TZID=America/Los_Angeles:20260610T081500
DTEND;TZID=America/Los_Angeles:20260610T093000
DTSTAMP:20260423T141726
CREATED:20250723T183248Z
LAST-MODIFIED:20250723T183248Z
UID:10002849-1781079300-1781083800@www.sfdsparish.com
SUMMARY:Graduation Mass
DESCRIPTION:Kinder Graduation Mass 8:15 am
URL:https://www.sfdsparish.com/event/graduation-mass/
LOCATION:Main Church\, United States
CATEGORIES:SFDS School
GEO:37.09024;-95.712891
END:VEVENT
END:VCALENDAR