BEGIN:VCALENDAR
VERSION:2.0
PRODID:-//Saint Francis de Sales Parish - ECPv6.15.20//NONSGML v1.0//EN
CALSCALE:GREGORIAN
METHOD:PUBLISH
X-WR-CALNAME:Saint Francis de Sales Parish
X-ORIGINAL-URL:https://www.sfdsparish.com
X-WR-CALDESC:Events for Saint Francis de Sales Parish
REFRESH-INTERVAL;VALUE=DURATION:PT1H
X-Robots-Tag:noindex
X-PUBLISHED-TTL:PT1H
BEGIN:VTIMEZONE
TZID:America/Los_Angeles
BEGIN:DAYLIGHT
TZOFFSETFROM:-0800
TZOFFSETTO:-0700
TZNAME:PDT
DTSTART:20120311T100000
END:DAYLIGHT
BEGIN:STANDARD
TZOFFSETFROM:-0700
TZOFFSETTO:-0800
TZNAME:PST
DTSTART:20121104T090000
END:STANDARD
BEGIN:DAYLIGHT
TZOFFSETFROM:-0800
TZOFFSETTO:-0700
TZNAME:PDT
DTSTART:20130310T100000
END:DAYLIGHT
BEGIN:STANDARD
TZOFFSETFROM:-0700
TZOFFSETTO:-0800
TZNAME:PST
DTSTART:20131103T090000
END:STANDARD
BEGIN:DAYLIGHT
TZOFFSETFROM:-0800
TZOFFSETTO:-0700
TZNAME:PDT
DTSTART:20140309T100000
END:DAYLIGHT
BEGIN:STANDARD
TZOFFSETFROM:-0700
TZOFFSETTO:-0800
TZNAME:PST
DTSTART:20141102T090000
END:STANDARD
BEGIN:DAYLIGHT
TZOFFSETFROM:-0800
TZOFFSETTO:-0700
TZNAME:PDT
DTSTART:20150308T100000
END:DAYLIGHT
BEGIN:STANDARD
TZOFFSETFROM:-0700
TZOFFSETTO:-0800
TZNAME:PST
DTSTART:20151101T090000
END:STANDARD
BEGIN:DAYLIGHT
TZOFFSETFROM:-0800
TZOFFSETTO:-0700
TZNAME:PDT
DTSTART:20160313T100000
END:DAYLIGHT
BEGIN:STANDARD
TZOFFSETFROM:-0700
TZOFFSETTO:-0800
TZNAME:PST
DTSTART:20161106T090000
END:STANDARD
BEGIN:DAYLIGHT
TZOFFSETFROM:-0800
TZOFFSETTO:-0700
TZNAME:PDT
DTSTART:20170312T100000
END:DAYLIGHT
BEGIN:STANDARD
TZOFFSETFROM:-0700
TZOFFSETTO:-0800
TZNAME:PST
DTSTART:20171105T090000
END:STANDARD
BEGIN:DAYLIGHT
TZOFFSETFROM:-0800
TZOFFSETTO:-0700
TZNAME:PDT
DTSTART:20180311T100000
END:DAYLIGHT
BEGIN:STANDARD
TZOFFSETFROM:-0700
TZOFFSETTO:-0800
TZNAME:PST
DTSTART:20181104T090000
END:STANDARD
BEGIN:DAYLIGHT
TZOFFSETFROM:-0800
TZOFFSETTO:-0700
TZNAME:PDT
DTSTART:20190310T100000
END:DAYLIGHT
BEGIN:STANDARD
TZOFFSETFROM:-0700
TZOFFSETTO:-0800
TZNAME:PST
DTSTART:20191103T090000
END:STANDARD
BEGIN:DAYLIGHT
TZOFFSETFROM:-0800
TZOFFSETTO:-0700
TZNAME:PDT
DTSTART:20200308T100000
END:DAYLIGHT
BEGIN:STANDARD
TZOFFSETFROM:-0700
TZOFFSETTO:-0800
TZNAME:PST
DTSTART:20201101T090000
END:STANDARD
BEGIN:DAYLIGHT
TZOFFSETFROM:-0800
TZOFFSETTO:-0700
TZNAME:PDT
DTSTART:20210314T100000
END:DAYLIGHT
BEGIN:STANDARD
TZOFFSETFROM:-0700
TZOFFSETTO:-0800
TZNAME:PST
DTSTART:20211107T090000
END:STANDARD
BEGIN:DAYLIGHT
TZOFFSETFROM:-0800
TZOFFSETTO:-0700
TZNAME:PDT
DTSTART:20220313T100000
END:DAYLIGHT
BEGIN:STANDARD
TZOFFSETFROM:-0700
TZOFFSETTO:-0800
TZNAME:PST
DTSTART:20221106T090000
END:STANDARD
BEGIN:DAYLIGHT
TZOFFSETFROM:-0800
TZOFFSETTO:-0700
TZNAME:PDT
DTSTART:20230312T100000
END:DAYLIGHT
BEGIN:STANDARD
TZOFFSETFROM:-0700
TZOFFSETTO:-0800
TZNAME:PST
DTSTART:20231105T090000
END:STANDARD
END:VTIMEZONE
BEGIN:VEVENT
DTSTART;TZID=America/Los_Angeles:20130503T180000
DTEND;TZID=America/Los_Angeles:20130505T193000
DTSTAMP:20260423T173015
CREATED:20130404T164541Z
LAST-MODIFIED:20130423T163748Z
UID:10000117-1367604000-1367782200@www.sfdsparish.com
SUMMARY:SFDS FESTIVAL 2013!
DESCRIPTION:FUNNY FEST! \nThe SFDS annual festival is just around the corner! May 3\, 4 & 5\, 2013. Friday\, May 3rd from 6-11p.m.\, Saturday\, May 4th from 12 noon-11p.m. and Sunday\, May 5th from 12 noon-7:30 p.m. \nFree admission! Rides\, games\, international food stalls\, pizzas\, salads\, coffee and sweet tooth booths\, Live and Silent Auctions\, fireworks\, live entertainment and so much more. This event is so much fun and our community comes together to participate in every way. Many parishioners volunteer and have fun at the same time. If you would still like to volunteer\, please contact Mr. Bill Madden at (818) 761-2557. Make sure to come and enjoy this year’s “ Funny Fest.”
URL:https://www.sfdsparish.com/event/sfds-festival-2013-2/2013-05-03/
LOCATION:SFDS School\, 13368 Valleyheart Drive\, Sherman Oaks\, CA\, 91423\, United States
CATEGORIES:SFDS School
END:VEVENT
BEGIN:VEVENT
DTSTART;TZID=America/Los_Angeles:20130506T080000
DTEND;TZID=America/Los_Angeles:20130506T170000
DTSTAMP:20260423T173015
CREATED:20130404T181503Z
LAST-MODIFIED:20130404T181503Z
UID:10000032-1367827200-1367859600@www.sfdsparish.com
SUMMARY:No School
DESCRIPTION:Festival clean up.
URL:https://www.sfdsparish.com/event/no-school-2/
LOCATION:SFDS School\, 13368 Valleyheart Drive\, Sherman Oaks\, CA\, 91423\, United States
CATEGORIES:SFDS School
END:VEVENT
BEGIN:VEVENT
DTSTART;TZID=America/Los_Angeles:20130527T080000
DTEND;TZID=America/Los_Angeles:20130527T170000
DTSTAMP:20260423T173015
CREATED:20130404T182817Z
LAST-MODIFIED:20130404T182817Z
UID:10000025-1369641600-1369674000@www.sfdsparish.com
SUMMARY:No School
DESCRIPTION:Memorial Day
URL:https://www.sfdsparish.com/event/no-school-3/
LOCATION:SFDS School\, 13368 Valleyheart Drive\, Sherman Oaks\, CA\, 91423\, United States
CATEGORIES:SFDS School
END:VEVENT
BEGIN:VEVENT
DTSTART;TZID=America/Los_Angeles:20130607T081500
DTEND;TZID=America/Los_Angeles:20130607T093000
DTSTAMP:20260423T173015
CREATED:20130404T185606Z
LAST-MODIFIED:20130404T190000Z
UID:10000132-1370592900-1370597400@www.sfdsparish.com
SUMMARY:School  Graduation Mass
DESCRIPTION:
URL:https://www.sfdsparish.com/event/school-mass/
LOCATION:SFDS Church\, 13360 Valleyheart Drive\, Sherman Oaks\, CA\, 91423\, United States
CATEGORIES:SFDS School
END:VEVENT
BEGIN:VEVENT
DTSTART;TZID=America/Los_Angeles:20130607T170000
DTEND;TZID=America/Los_Angeles:20130607T180000
DTSTAMP:20260423T173015
CREATED:20130404T183911Z
LAST-MODIFIED:20130404T183911Z
UID:10000127-1370624400-1370628000@www.sfdsparish.com
SUMMARY:Graduation Ceremony
DESCRIPTION:School Graduation ceremony 5:00 pm in the church
URL:https://www.sfdsparish.com/event/graduation-ceremony/
LOCATION:SFDS Church\, 13360 Valleyheart Drive\, Sherman Oaks\, CA\, 91423\, United States
CATEGORIES:SFDS School
END:VEVENT
BEGIN:VEVENT
DTSTART;TZID=America/Los_Angeles:20130614T081500
DTEND;TZID=America/Los_Angeles:20130614T091500
DTSTAMP:20260423T173015
CREATED:20130404T184615Z
LAST-MODIFIED:20130404T184615Z
UID:10000131-1371197700-1371201300@www.sfdsparish.com
SUMMARY:Kindergarten Graduation Mass
DESCRIPTION:School will attend 8:15 mass for Kindergarten Graduation.
URL:https://www.sfdsparish.com/event/kindergarten-graduation-mass/
LOCATION:SFDS Church\, 13360 Valleyheart Drive\, Sherman Oaks\, CA\, 91423\, United States
CATEGORIES:SFDS School
END:VEVENT
BEGIN:VEVENT
DTSTART;TZID=America/Los_Angeles:20130620T080000
DTEND;TZID=America/Los_Angeles:20130620T170000
DTSTAMP:20260423T173015
CREATED:20130404T183620Z
LAST-MODIFIED:20130404T183620Z
UID:10000125-1371715200-1371747600@www.sfdsparish.com
SUMMARY:Mass - Last Day of School
DESCRIPTION:School attends 8:15 morning mass and summer vacation begins at 10:00 am
URL:https://www.sfdsparish.com/event/mass-last-day-of-school/
LOCATION:SFDS School\, 13368 Valleyheart Drive\, Sherman Oaks\, CA\, 91423\, United States
CATEGORIES:SFDS School
END:VEVENT
BEGIN:VEVENT
DTSTART;TZID=America/Los_Angeles:20130910T083000
DTEND;TZID=America/Los_Angeles:20130910T100000
DTSTAMP:20260423T173015
CREATED:20130905T210552Z
LAST-MODIFIED:20130924T173234Z
UID:10000161-1378801800-1378807200@www.sfdsparish.com
SUMMARY:PTAC Meeting
DESCRIPTION:PTAC meeting in the parish center at 8:30 am
URL:https://www.sfdsparish.com/event/ptac-meeting-3/2013-09-10/
LOCATION:Parish Center\, 13360 Valleyheart Drive\, Sherman Oaks\, CA\, 91423\, United States
CATEGORIES:SFDS School
END:VEVENT
BEGIN:VEVENT
DTSTART;TZID=America/Los_Angeles:20130913T081500
DTEND;TZID=America/Los_Angeles:20130913T081500
DTSTAMP:20260423T173015
CREATED:20130905T200829Z
LAST-MODIFIED:20130905T200829Z
UID:10000154-1379060100-1379060100@www.sfdsparish.com
SUMMARY:School Children attend Mass
DESCRIPTION:
URL:https://www.sfdsparish.com/event/school-children-attend-mass/
LOCATION:SFDS Church\, 13360 Valleyheart Drive\, Sherman Oaks\, CA\, 91423\, United States
CATEGORIES:SFDS School
END:VEVENT
BEGIN:VEVENT
DTSTART;TZID=America/Los_Angeles:20131004T090000
DTEND;TZID=America/Los_Angeles:20131004T100000
DTSTAMP:20260423T173015
CREATED:20130924T173721Z
LAST-MODIFIED:20130924T173721Z
UID:10000173-1380877200-1380880800@www.sfdsparish.com
SUMMARY:Blessing of the Animals
DESCRIPTION:Blessing of the Animals in the school yard 9:00 am
URL:https://www.sfdsparish.com/event/blessing-of-the-animals/
LOCATION:SFDS School\, 13368 Valleyheart Drive\, Sherman Oaks\, CA\, 91423\, United States
CATEGORIES:SFDS School
END:VEVENT
BEGIN:VEVENT
DTSTART;TZID=America/Los_Angeles:20131019T180000
DTEND;TZID=America/Los_Angeles:20131019T210000
DTSTAMP:20260423T173015
CREATED:20130924T175821Z
LAST-MODIFIED:20130925T202431Z
UID:10000188-1382205600-1382216400@www.sfdsparish.com
SUMMARY:Chili Dinner for School
DESCRIPTION:Immediately after the 5:00 pm mass come to the school field for a delicious chili dinner and fun for the entire family.
URL:https://www.sfdsparish.com/event/harvest-festival-and-chili-dinner/
LOCATION:SFDS School\, 13368 Valleyheart Drive\, Sherman Oaks\, CA\, 91423\, United States
CATEGORIES:SFDS School
END:VEVENT
BEGIN:VEVENT
DTSTART;TZID=America/Los_Angeles:20131025T170000
DTEND;TZID=America/Los_Angeles:20131025T190000
DTSTAMP:20260423T173015
CREATED:20130925T193037Z
LAST-MODIFIED:20130925T193037Z
UID:10000204-1382720400-1382727600@www.sfdsparish.com
SUMMARY:Trunk or Treat - 5:00 pm
DESCRIPTION:Enjoy an evening of treat or treating in the school parking lot.
URL:https://www.sfdsparish.com/event/trunk-or-treat-500-pm/
LOCATION:SFDS School\, 13368 Valleyheart Drive\, Sherman Oaks\, CA\, 91423\, United States
CATEGORIES:SFDS School
END:VEVENT
BEGIN:VEVENT
DTSTART;TZID=America/Los_Angeles:20131103T090000
DTEND;TZID=America/Los_Angeles:20131103T133000
DTSTAMP:20260423T173015
CREATED:20131015T174552Z
LAST-MODIFIED:20131015T174641Z
UID:10000218-1383469200-1383485400@www.sfdsparish.com
SUMMARY:SFDS Book Fair
DESCRIPTION:The Scholastic Book Fair will be in the school auditorium from 9:00 – 1:30 pm. We will have a wide variety of children’s and adult books and all proceeds benefit the St. Francis de Sales School Library.
URL:https://www.sfdsparish.com/event/sfds-book-fair/
LOCATION:SFDS School\, 13368 Valleyheart Drive\, Sherman Oaks\, CA\, 91423\, United States
CATEGORIES:SFDS School
END:VEVENT
BEGIN:VEVENT
DTSTART;VALUE=DATE:20131206
DTEND;VALUE=DATE:20131207
DTSTAMP:20260423T173015
CREATED:20131127T234855Z
LAST-MODIFIED:20131127T234855Z
UID:10000288-1386288000-1386374399@www.sfdsparish.com
SUMMARY:PTAC Meeting
DESCRIPTION:PTAC Christmas Meeting after mass in the parish center 9:30 am
URL:https://www.sfdsparish.com/event/ptac-meeting-4/
LOCATION:Parish Center\, 13360 Valleyheart Drive\, Sherman Oaks\, CA\, 91423\, United States
CATEGORIES:SFDS School
END:VEVENT
BEGIN:VEVENT
DTSTART;TZID=America/Los_Angeles:20131216T130000
DTEND;TZID=America/Los_Angeles:20131216T150000
DTSTAMP:20260423T173015
CREATED:20131127T235523Z
LAST-MODIFIED:20131127T235523Z
UID:10000290-1387198800-1387206000@www.sfdsparish.com
SUMMARY:55+ Christmas Luncheon
DESCRIPTION:The 8th grade will host a Christmas Luncheon in the school auditorium starting at 1:00 pm. Please respond to the parish center (818) 784-0105 if you would like to attend by Wednesday December 11th.
URL:https://www.sfdsparish.com/event/55-christmas-luncheon/
LOCATION:SFDS School\, 13368 Valleyheart Drive\, Sherman Oaks\, CA\, 91423\, United States
CATEGORIES:SFDS School
END:VEVENT
BEGIN:VEVENT
DTSTART;TZID=America/Los_Angeles:20140126T100000
DTEND;TZID=America/Los_Angeles:20140126T100000
DTSTAMP:20260423T173015
CREATED:20140114T212712Z
LAST-MODIFIED:20140114T212712Z
UID:10000367-1390730400-1390730400@www.sfdsparish.com
SUMMARY:Begin Catholic School's Week
DESCRIPTION:Catholic school’s week begins at the 10:00 am mass. There will be an open house at the school after the mass. You will be able to get information on the school and see the class rooms.
URL:https://www.sfdsparish.com/event/begin-catholic-schools-week/
LOCATION:SFDS School\, 13368 Valleyheart Drive\, Sherman Oaks\, CA\, 91423\, United States
CATEGORIES:SFDS School
END:VEVENT
BEGIN:VEVENT
DTSTART;TZID=America/Los_Angeles:20140322T180000
DTEND;TZID=America/Los_Angeles:20140322T210000
DTSTAMP:20260423T173015
CREATED:20140227T200907Z
LAST-MODIFIED:20140227T200907Z
UID:10000383-1395511200-1395522000@www.sfdsparish.com
SUMMARY:St. Joseph's Dinner
DESCRIPTION:St. Joseph’s Dinner to raise money for the St. Francis de Sales Scholarship Fund after 5:00 pm mass.
URL:https://www.sfdsparish.com/event/st-josephs-dinner/
LOCATION:SFDS School\, 13368 Valleyheart Drive\, Sherman Oaks\, CA\, 91423\, United States
CATEGORIES:SFDS School
END:VEVENT
BEGIN:VEVENT
DTSTART;TZID=America/Los_Angeles:20140502T180000
DTEND;TZID=America/Los_Angeles:20140502T230000
DTSTAMP:20260423T173015
CREATED:20140327T211004Z
LAST-MODIFIED:20140327T212651Z
UID:10000480-1399053600-1399071600@www.sfdsparish.com
SUMMARY:St. Francis de Sales Festival 2014
DESCRIPTION:May 2nd Friday: 6pm to 11 pm \nMay 3rd Saturday: Noon to 11 pm \nMay 4th Sunday: Noon to 7:30 pm
URL:https://www.sfdsparish.com/event/st-francis-de-sales-festival-2014/
LOCATION:SFDS School\, 13368 Valleyheart Drive\, Sherman Oaks\, CA\, 91423\, United States
CATEGORIES:SFDS School
END:VEVENT
BEGIN:VEVENT
DTSTART;TZID=America/Los_Angeles:20140503T120000
DTEND;TZID=America/Los_Angeles:20140503T230000
DTSTAMP:20260423T173015
CREATED:20140327T212312Z
LAST-MODIFIED:20140327T212614Z
UID:10000481-1399118400-1399158000@www.sfdsparish.com
SUMMARY:St. Francis de Sales Festival 2014
DESCRIPTION:May 2nd Friday: 6pm to 11 pm \nMay 3rd Saturday: Noon to 11 pm \nMay 4th Sunday: Noon to 7:30 pm
URL:https://www.sfdsparish.com/event/st-francis-de-sales-festival-2014-2/
LOCATION:SFDS School\, 13368 Valleyheart Drive\, Sherman Oaks\, CA\, 91423\, United States
CATEGORIES:SFDS School
END:VEVENT
BEGIN:VEVENT
DTSTART;TZID=America/Los_Angeles:20140504T120000
DTEND;TZID=America/Los_Angeles:20140504T193000
DTSTAMP:20260423T173015
CREATED:20140327T212436Z
LAST-MODIFIED:20140327T212539Z
UID:10000490-1399204800-1399231800@www.sfdsparish.com
SUMMARY:St. Francis de Sales Festival 2014
DESCRIPTION:May 2nd Friday: 6pm to 11 pm \nMay 3rd Saturday: Noon to 11 pm \nMay 4th Sunday: Noon to 7:30 pm
URL:https://www.sfdsparish.com/event/st-francis-de-sales-festival-2014-3/
LOCATION:SFDS School\, 13368 Valleyheart Drive\, Sherman Oaks\, CA\, 91423\, United States
CATEGORIES:SFDS School
END:VEVENT
BEGIN:VEVENT
DTSTART;TZID=America/Los_Angeles:20150125T100000
DTEND;TZID=America/Los_Angeles:20150125T130000
DTSTAMP:20260423T173015
CREATED:20150119T193609Z
LAST-MODIFIED:20150119T193609Z
UID:10000653-1422180000-1422190800@www.sfdsparish.com
SUMMARY:Catholic School's Week
DESCRIPTION:Right after the 10 am Mass\, the school hosts and “Open House” for all the families interested in applying for our school next year. join the teachers and staff for refreshments.
URL:https://www.sfdsparish.com/event/catholic-schools-week/
LOCATION:SFDS School\, 13368 Valleyheart Drive\, Sherman Oaks\, CA\, 91423\, United States
CATEGORIES:SFDS School
END:VEVENT
BEGIN:VEVENT
DTSTART;TZID=America/Los_Angeles:20150321T180000
DTEND;TZID=America/Los_Angeles:20150321T210000
DTSTAMP:20260423T173015
CREATED:20150313T214954Z
LAST-MODIFIED:20150313T214954Z
UID:10000688-1426960800-1426971600@www.sfdsparish.com
SUMMARY:St. Joseph's Dinner
DESCRIPTION:The spaghetti dinner in honor of St. Joseph to benefit the school scholarship fund will be held in the school auditorium after the 5 pm Mass. Tickets can be purchased at the door.
URL:https://www.sfdsparish.com/event/st-josephs-dinner-2/
LOCATION:SFDS School\, 13368 Valleyheart Drive\, Sherman Oaks\, CA\, 91423\, United States
CATEGORIES:SFDS School
END:VEVENT
BEGIN:VEVENT
DTSTART;TZID=America/Los_Angeles:20150404T100000
DTEND;TZID=America/Los_Angeles:20150404T123000
DTSTAMP:20260423T173015
CREATED:20150330T170209Z
LAST-MODIFIED:20150330T170209Z
UID:10000695-1428141600-1428150600@www.sfdsparish.com
SUMMARY:Easter Egg Hunt
DESCRIPTION:All Children 0-12 years are invited 10am -12:30pm on the SFDS Baseball field.
URL:https://www.sfdsparish.com/event/easter-egg-hunt/
LOCATION:SFDS School\, 13368 Valleyheart Drive\, Sherman Oaks\, CA\, 91423\, United States
CATEGORIES:SFDS School
END:VEVENT
BEGIN:VEVENT
DTSTART;TZID=America/Los_Angeles:20170505T180000
DTEND;TZID=America/Los_Angeles:20170505T230000
DTSTAMP:20260423T173015
CREATED:20170427T155056Z
LAST-MODIFIED:20170427T155056Z
UID:10001175-1494007200-1494025200@www.sfdsparish.com
SUMMARY:Festival
DESCRIPTION:School and Parish Festival May 5-7. Friday\, May 5: 6 pm to 11 pm\, Saturday\, May 6: Noon to 11 pm and Sunday\, May 7: Noon to 7:30 pm – Rides\, Food- Auction- Fireworks and Entertainment. Free Admittance and parking.
URL:https://www.sfdsparish.com/event/festival/
LOCATION:School\, United States
CATEGORIES:SFDS School
GEO:37.09024;-95.712891
END:VEVENT
BEGIN:VEVENT
DTSTART;TZID=America/Los_Angeles:20170506T120000
DTEND;TZID=America/Los_Angeles:20170506T230000
DTSTAMP:20260423T173015
CREATED:20170427T155210Z
LAST-MODIFIED:20170427T155210Z
UID:10001176-1494072000-1494111600@www.sfdsparish.com
SUMMARY:Festival
DESCRIPTION:School and Parish Festival May 5-7. Friday\, May 5: 6 pm to 11 pm\, Saturday\, May 6: Noon to 11 pm and Sunday\, May 7: Noon to 7:30 pm – Rides\, Food- Auction- Fireworks and Entertainment. Free Admittance and parking.
URL:https://www.sfdsparish.com/event/festival-2/
LOCATION:School\, United States
CATEGORIES:SFDS School
GEO:37.09024;-95.712891
END:VEVENT
BEGIN:VEVENT
DTSTART;TZID=America/Los_Angeles:20170507T120000
DTEND;TZID=America/Los_Angeles:20170507T193000
DTSTAMP:20260423T173015
CREATED:20170427T155801Z
LAST-MODIFIED:20170427T155801Z
UID:10001177-1494158400-1494185400@www.sfdsparish.com
SUMMARY:Festival
DESCRIPTION:School and Parish Festival May 5-7. Friday\, May 5: 6 pm to 11 pm\, Saturday\, May 6: Noon to 11 pm and Sunday\, May 7: Noon to 7:30 pm – Rides\, Food- Auction- Fireworks and Entertainment. Free Admittance and parking.
URL:https://www.sfdsparish.com/event/festival-3/
LOCATION:School\, United States
CATEGORIES:SFDS School
GEO:37.09024;-95.712891
END:VEVENT
BEGIN:VEVENT
DTSTART;TZID=America/Los_Angeles:20190503T180000
DTEND;TZID=America/Los_Angeles:20190503T230000
DTSTAMP:20260423T173015
CREATED:20190325T213851Z
LAST-MODIFIED:20190325T213851Z
UID:10001683-1556906400-1556924400@www.sfdsparish.com
SUMMARY:Festival 2019
DESCRIPTION:School Festival from 6 pm to 11 pm rides\, food\, booths\, entertainment\, auction and fireworks
URL:https://www.sfdsparish.com/event/festival-2019/
LOCATION:SFDS School\, 13368 Valleyheart Drive\, Sherman Oaks\, CA\, 91423\, United States
CATEGORIES:SFDS School
END:VEVENT
BEGIN:VEVENT
DTSTART;TZID=America/Los_Angeles:20190504T120000
DTEND;TZID=America/Los_Angeles:20190504T230000
DTSTAMP:20260423T173015
CREATED:20190325T214012Z
LAST-MODIFIED:20190325T214012Z
UID:10001684-1556971200-1557010800@www.sfdsparish.com
SUMMARY:Festival 2019
DESCRIPTION:School Festival from Noon to 11 pm rides\, food\, booths\, entertainment\, auction and fireworks
URL:https://www.sfdsparish.com/event/festival-2019-2/
LOCATION:SFDS School\, 13368 Valleyheart Drive\, Sherman Oaks\, CA\, 91423\, United States
CATEGORIES:SFDS School
END:VEVENT
BEGIN:VEVENT
DTSTART;TZID=America/Los_Angeles:20190505T120000
DTEND;TZID=America/Los_Angeles:20190505T193000
DTSTAMP:20260423T173015
CREATED:20190325T214134Z
LAST-MODIFIED:20190325T214134Z
UID:10001685-1557057600-1557084600@www.sfdsparish.com
SUMMARY:Festival 2019
DESCRIPTION:School Festival from Noon to 7:30 pm rides\, food\, booths\, entertainment\, auction and fireworks
URL:https://www.sfdsparish.com/event/festival-2019-3/
LOCATION:SFDS School\, 13368 Valleyheart Drive\, Sherman Oaks\, CA\, 91423\, United States
CATEGORIES:SFDS School
END:VEVENT
BEGIN:VEVENT
DTSTART;TZID=America/Los_Angeles:20220429T180000
DTEND;TZID=America/Los_Angeles:20220429T230000
DTSTAMP:20260423T173015
CREATED:20220406T192804Z
LAST-MODIFIED:20220406T192804Z
UID:10000887-1651255200-1651273200@www.sfdsparish.com
SUMMARY:Festival 2022
DESCRIPTION:Friday 6pm – 11 pm -Free Admission\, rides\, food\, auction\, fireworks\, live entertainment
URL:https://www.sfdsparish.com/event/festival-2022/
LOCATION:School\, United States
CATEGORIES:SFDS School
GEO:37.09024;-95.712891
END:VEVENT
END:VCALENDAR