BEGIN:VCALENDAR
VERSION:2.0
PRODID:-//Saint Francis de Sales Parish - ECPv6.15.20//NONSGML v1.0//EN
CALSCALE:GREGORIAN
METHOD:PUBLISH
X-ORIGINAL-URL:https://www.sfdsparish.com
X-WR-CALDESC:Events for Saint Francis de Sales Parish
REFRESH-INTERVAL;VALUE=DURATION:PT1H
X-Robots-Tag:noindex
X-PUBLISHED-TTL:PT1H
BEGIN:VTIMEZONE
TZID:America/Los_Angeles
BEGIN:DAYLIGHT
TZOFFSETFROM:-0800
TZOFFSETTO:-0700
TZNAME:PDT
DTSTART:20250309T100000
END:DAYLIGHT
BEGIN:STANDARD
TZOFFSETFROM:-0700
TZOFFSETTO:-0800
TZNAME:PST
DTSTART:20251102T090000
END:STANDARD
BEGIN:DAYLIGHT
TZOFFSETFROM:-0800
TZOFFSETTO:-0700
TZNAME:PDT
DTSTART:20260308T100000
END:DAYLIGHT
BEGIN:STANDARD
TZOFFSETFROM:-0700
TZOFFSETTO:-0800
TZNAME:PST
DTSTART:20261101T090000
END:STANDARD
BEGIN:DAYLIGHT
TZOFFSETFROM:-0800
TZOFFSETTO:-0700
TZNAME:PDT
DTSTART:20270314T100000
END:DAYLIGHT
BEGIN:STANDARD
TZOFFSETFROM:-0700
TZOFFSETTO:-0800
TZNAME:PST
DTSTART:20271107T090000
END:STANDARD
END:VTIMEZONE
BEGIN:VEVENT
DTSTART;VALUE=DATE:20260101
DTEND;VALUE=DATE:20260102
DTSTAMP:20260423T173015
CREATED:20251230T202910Z
LAST-MODIFIED:20251230T215654Z
UID:10002907-1767225600-1767311999@www.sfdsparish.com
SUMMARY:Parish Center Closed
DESCRIPTION:The parish center is closed for the New Year holiday.
URL:https://www.sfdsparish.com/event/parish-center-closed/
LOCATION:Parish Center\, 13360 Valleyheart Drive\, Sherman Oaks\, CA\, 91423\, United States
CATEGORIES:Ministries
END:VEVENT
BEGIN:VEVENT
DTSTART;VALUE=DATE:20260102
DTEND;VALUE=DATE:20260103
DTSTAMP:20260423T173015
CREATED:20251230T214147Z
LAST-MODIFIED:20251230T214310Z
UID:10002908-1767312000-1767398399@www.sfdsparish.com
SUMMARY:Parish Office Closed
DESCRIPTION:The Parish office is closed for the New Year
URL:https://www.sfdsparish.com/event/parish-office-closed-21/
LOCATION:Parish Center\, 13360 Valleyheart Drive\, Sherman Oaks\, CA\, 91423\, United States
CATEGORIES:Ministries
END:VEVENT
BEGIN:VEVENT
DTSTART;TZID=America/Los_Angeles:20260104T090000
DTEND;TZID=America/Los_Angeles:20260104T095000
DTSTAMP:20260423T173015
CREATED:20250724T181336Z
LAST-MODIFIED:20250724T181336Z
UID:10002874-1767517200-1767520200@www.sfdsparish.com
SUMMARY:CRE Class
DESCRIPTION:Religious Education Class 9 – 9:50 am
URL:https://www.sfdsparish.com/event/cre-class-14/
LOCATION:School\, United States
CATEGORIES:Ministries
GEO:37.09024;-95.712891
END:VEVENT
BEGIN:VEVENT
DTSTART;VALUE=DATE:20260109
DTEND;VALUE=DATE:20260110
DTSTAMP:20260423T173015
CREATED:20260108T175309Z
LAST-MODIFIED:20260108T175309Z
UID:10002909-1767916800-1768003199@www.sfdsparish.com
SUMMARY:Parish Office Closed
DESCRIPTION:The parish office will be closed
URL:https://www.sfdsparish.com/event/parish-office-closed-22/
LOCATION:Parish Center\, CA
CATEGORIES:Ministries
GEO:36.778261;-119.4179324
END:VEVENT
BEGIN:VEVENT
DTSTART;VALUE=DATE:20260111
DTEND;VALUE=DATE:20260112
DTSTAMP:20260423T173015
CREATED:20250724T171049Z
LAST-MODIFIED:20250724T171049Z
UID:10002856-1768089600-1768175999@www.sfdsparish.com
SUMMARY:Teen Confirmation Retreat
DESCRIPTION:Teen Confirmation Retreat
URL:https://www.sfdsparish.com/event/teen-confirmation-retreat-2/
LOCATION:School\, United States
CATEGORIES:Ministries
GEO:37.09024;-95.712891
END:VEVENT
BEGIN:VEVENT
DTSTART;TZID=America/Los_Angeles:20260111T090000
DTEND;TZID=America/Los_Angeles:20260111T095000
DTSTAMP:20260423T173015
CREATED:20250724T181507Z
LAST-MODIFIED:20250724T181507Z
UID:10002875-1768122000-1768125000@www.sfdsparish.com
SUMMARY:CRE Class
DESCRIPTION:Religious Education Class 9 – 9:50 am and Class Mass
URL:https://www.sfdsparish.com/event/cre-class-15/
LOCATION:School\, United States
CATEGORIES:Ministries
GEO:37.09024;-95.712891
END:VEVENT
BEGIN:VEVENT
DTSTART;VALUE=DATE:20260119
DTEND;VALUE=DATE:20260120
DTSTAMP:20260423T173015
CREATED:20260113T182400Z
LAST-MODIFIED:20260113T182400Z
UID:10002910-1768780800-1768867199@www.sfdsparish.com
SUMMARY:Parish Office Closed
DESCRIPTION:The parish office will be closed for the MLK holiday on Monday January 19\, 2026.
URL:https://www.sfdsparish.com/event/parish-office-closed-23/
LOCATION:Parish Center\, 13360 Valleyheart Drive\, Sherman Oaks\, CA\, 91423\, United States
CATEGORIES:Ministries
END:VEVENT
END:VCALENDAR